BEGIN:VCALENDAR
PRODID:-//gdesolutions.com//MV Framework 1.0.0.1607 Calendar//EN
VERSION:2.0
METHOD:PUBLISH
CALSCALE:GREGORIAN
BEGIN:VEVENT
UID:gg1ad@games.golnetwork.com
LOCATION:Monarch Park Stadium - Field 1
GEO:43.6792789;-79.3234873
CREATED:20200311T135104Z
DTSTART:20200316T000000Z
DTEND:20200316T010000Z
DTSTAMP:20260421T080653Z
SUMMARY:LKFC TORONTO vs. Game of throw ins
DESCRIPTION:Game of throw ins vs. LKFC TORONTOMore info: #25
X-ALT-DESC;FMTTYPE=text/html:<!DOCTYPE HTML PUBLIC "-//W3C//DTD HTML 3.2//E
	N">\n<HTML>\n<HEAD>\n<TITLE></TITLE>\n</HEAD>\n<BODY>\n<h3>Game of throw in
	s vs. LKFC TORONTO</h3>More info: <a href="https://www.golnetwork.com/game/
	v/156971/">#25</a>\n\n</BODY>\n</HTML>
STATUS:CONFIRMED
CLASS:PUBLIC
URL:https://www.golnetwork.com/game/v/156971/
X-MICROSOFT-CDO-BUSYSTATUS:BUSY
X-MICROSOFT-CDO-IMPORTANCE:1
END:VEVENT
END:VCALENDAR
