BEGIN:VCALENDAR
PRODID:-//gdesolutions.com//MV Framework 1.0.0.1607 Calendar//EN
VERSION:2.0
METHOD:PUBLISH
CALSCALE:GREGORIAN
BEGIN:VEVENT
UID:gg5h2@games.golnetwork.com
LOCATION:Matt Anthony Field #1
GEO:45.4196785;-75.6767132
CREATED:20210922T012816Z
DTSTART:20211017T215500Z
DTEND:20211017T232500Z
DTSTAMP:20260421T205333Z
SUMMARY:Kiss My Pass vs. Out of Your League
DESCRIPTION:Out of Your League vs. Kiss My PassMore info: #25
X-ALT-DESC;FMTTYPE=text/html:<!DOCTYPE HTML PUBLIC "-//W3C//DTD HTML 3.2//E
	N">\n<HTML>\n<HEAD>\n<TITLE></TITLE>\n</HEAD>\n<BODY>\n<h3>Out of Your Leag
	ue vs. Kiss My Pass</h3>More info: <a href="https://www.golnetwork.com/game
	/v/158518/">#25</a>\n\n</BODY>\n</HTML>
STATUS:CONFIRMED
CLASS:PUBLIC
URL:https://www.golnetwork.com/game/v/158518/
X-MICROSOFT-CDO-BUSYSTATUS:BUSY
X-MICROSOFT-CDO-IMPORTANCE:1
END:VEVENT
BEGIN:VEVENT
UID:gg5gf@games.golnetwork.com
LOCATION:Matt Anthony Field #1
GEO:45.4196785;-75.6767132
CREATED:20210922T012559Z
DTSTART:20211003T195500Z
DTEND:20211003T212500Z
DTSTAMP:20260421T205333Z
SUMMARY:Kiss My Pass vs. Dream Team
DESCRIPTION:Dream Team vs. Kiss My PassMore info: #19
X-ALT-DESC;FMTTYPE=text/html:<!DOCTYPE HTML PUBLIC "-//W3C//DTD HTML 3.2//E
	N">\n<HTML>\n<HEAD>\n<TITLE></TITLE>\n</HEAD>\n<BODY>\n<h3>Dream Team vs. K
	iss My Pass</h3>More info: <a href="https://www.golnetwork.com/game/v/15851
	1/">#19</a>\n\n</BODY>\n</HTML>
STATUS:CONFIRMED
CLASS:PUBLIC
URL:https://www.golnetwork.com/game/v/158511/
X-MICROSOFT-CDO-BUSYSTATUS:BUSY
X-MICROSOFT-CDO-IMPORTANCE:1
END:VEVENT
BEGIN:VEVENT
UID:gg5g1@games.golnetwork.com
LOCATION:Matt Anthony Field #1
GEO:45.4196785;-75.6767132
CREATED:20210922T011707Z
DTSTART:20210926T181500Z
DTEND:20210926T194500Z
DTSTAMP:20260421T205333Z
SUMMARY:Kiss My Pass vs. Out of Your League
DESCRIPTION:Out of Your League vs. Kiss My PassMore info: #10
X-ALT-DESC;FMTTYPE=text/html:<!DOCTYPE HTML PUBLIC "-//W3C//DTD HTML 3.2//E
	N">\n<HTML>\n<HEAD>\n<TITLE></TITLE>\n</HEAD>\n<BODY>\n<h3>Out of Your Leag
	ue vs. Kiss My Pass</h3>More info: <a href="https://www.golnetwork.com/game
	/v/158504/">#10</a>\n\n</BODY>\n</HTML>
STATUS:CONFIRMED
CLASS:PUBLIC
URL:https://www.golnetwork.com/game/v/158504/
X-MICROSOFT-CDO-BUSYSTATUS:BUSY
X-MICROSOFT-CDO-IMPORTANCE:1
END:VEVENT
BEGIN:VEVENT
UID:gg5e3@games.golnetwork.com
LOCATION:Matt Anthony Field #1
GEO:45.4196785;-75.6767132
CREATED:20210913T190049Z
DTSTART:20210919T181500Z
DTEND:20210919T194500Z
DTSTAMP:20260421T205333Z
SUMMARY:Kiss My Pass vs. Hot Tub Time Machine
DESCRIPTION:Hot Tub Time Machine vs. Kiss My PassMore info: #5
X-ALT-DESC;FMTTYPE=text/html:<!DOCTYPE HTML PUBLIC "-//W3C//DTD HTML 3.2//E
	N">\n<HTML>\n<HEAD>\n<TITLE></TITLE>\n</HEAD>\n<BODY>\n<h3>Hot Tub Time Mac
	hine vs. Kiss My Pass</h3>More info: <a href="https://www.golnetwork.com/ga
	me/v/158478/">#5</a>\n\n</BODY>\n</HTML>
STATUS:CONFIRMED
CLASS:PUBLIC
URL:https://www.golnetwork.com/game/v/158478/
X-MICROSOFT-CDO-BUSYSTATUS:BUSY
X-MICROSOFT-CDO-IMPORTANCE:1
END:VEVENT
BEGIN:VEVENT
UID:gg5e1@games.golnetwork.com
LOCATION:Matt Anthony Field #1
GEO:45.4196785;-75.6767132
CREATED:20210913T190028Z
DTSTART:20210912T200000Z
DTEND:20210912T213000Z
DTSTAMP:20260421T205333Z
SUMMARY:We Are Politically Correct vs. Kiss My Pass
DESCRIPTION:Kiss My Pass vs. We Are Politically CorrectMore info: #4
X-ALT-DESC;FMTTYPE=text/html:<!DOCTYPE HTML PUBLIC "-//W3C//DTD HTML 3.2//E
	N">\n<HTML>\n<HEAD>\n<TITLE></TITLE>\n</HEAD>\n<BODY>\n<h3>Kiss My Pass vs.
	 We Are Politically Correct</h3>More info: <a href="https://www.golnetwork.
	com/game/v/158477/">#4</a>\n\n</BODY>\n</HTML>
STATUS:CONFIRMED
CLASS:PUBLIC
URL:https://www.golnetwork.com/game/v/158477/
X-MICROSOFT-CDO-BUSYSTATUS:BUSY
X-MICROSOFT-CDO-IMPORTANCE:1
END:VEVENT
END:VCALENDAR
