BEGIN:VCALENDAR
PRODID:-//gdesolutions.com//MV Framework 1.0.0.1607 Calendar//EN
VERSION:2.0
METHOD:PUBLISH
CALSCALE:GREGORIAN
BEGIN:VEVENT
UID:ggqe@games.golnetwork.com
LOCATION:STADE DU HAUT-RICHELIEU
CREATED:20091126T224233Z
DTSTART:20090918T010000Z
DTEND:20090918T023000Z
DTSTAMP:20260420T031438Z
SUMMARY:C.S.R. vs. Haut-Richelieu
DESCRIPTION:Haut-Richelieu vs. C.S.R.More info: GOL#5191
X-ALT-DESC;FMTTYPE=text/html:<!DOCTYPE HTML PUBLIC "-//W3C//DTD HTML 3.2//E
	N">\n<HTML>\n<HEAD>\n<TITLE></TITLE>\n</HEAD>\n<BODY>\n<h3>Haut-Richelieu v
	s. C.S.R.</h3>More info: <a href="https://www.golnetwork.com/game/v/5191/">
	GOL#5191</a>\n\n</BODY>\n</HTML>
STATUS:CONFIRMED
CLASS:PUBLIC
URL:https://www.golnetwork.com/game/v/5191/
X-MICROSOFT-CDO-BUSYSTATUS:BUSY
X-MICROSOFT-CDO-IMPORTANCE:1
END:VEVENT
BEGIN:VEVENT
UID:ggq2@games.golnetwork.com
LOCATION:MONTCALM
GEO:45.384799957275;-73.507301330566
CREATED:20091126T224138Z
DTSTART:20090911T010000Z
DTEND:20090911T023000Z
DTSTAMP:20260420T031438Z
SUMMARY:Drummondville vs. C.S.R.
DESCRIPTION:C.S.R. vs. DrummondvilleMore info: GOL#5185
X-ALT-DESC;FMTTYPE=text/html:<!DOCTYPE HTML PUBLIC "-//W3C//DTD HTML 3.2//E
	N">\n<HTML>\n<HEAD>\n<TITLE></TITLE>\n</HEAD>\n<BODY>\n<h3>C.S.R. vs. Drumm
	ondville</h3>More info: <a href="https://www.golnetwork.com/game/v/5185/">G
	OL#5185</a>\n\n</BODY>\n</HTML>
STATUS:CONFIRMED
CLASS:PUBLIC
URL:https://www.golnetwork.com/game/v/5185/
X-MICROSOFT-CDO-BUSYSTATUS:BUSY
X-MICROSOFT-CDO-IMPORTANCE:1
END:VEVENT
BEGIN:VEVENT
UID:ggpn@games.golnetwork.com
LOCATION:Centre multi-sports du Collège Français
GEO:45.543719;-73.458045
CREATED:20091126T224048Z
DTSTART:20090904T010000Z
DTEND:20090904T023000Z
DTSTAMP:20260420T031438Z
SUMMARY:C.S.R. vs. Longueuil
DESCRIPTION:Longueuil vs. C.S.R.More info: GOL#5182
X-ALT-DESC;FMTTYPE=text/html:<!DOCTYPE HTML PUBLIC "-//W3C//DTD HTML 3.2//E
	N">\n<HTML>\n<HEAD>\n<TITLE></TITLE>\n</HEAD>\n<BODY>\n<h3>Longueuil vs. C.
	S.R.</h3>More info: <a href="https://www.golnetwork.com/game/v/5182/">GOL#5
	182</a>\n\n</BODY>\n</HTML>
STATUS:CONFIRMED
CLASS:PUBLIC
URL:https://www.golnetwork.com/game/v/5182/
X-MICROSOFT-CDO-BUSYSTATUS:BUSY
X-MICROSOFT-CDO-IMPORTANCE:1
END:VEVENT
BEGIN:VEVENT
UID:ggpf@games.golnetwork.com
LOCATION:MONTCALM
GEO:45.384799957275;-73.507301330566
CREATED:20091126T223943Z
DTSTART:20090828T010000Z
DTEND:20090828T023000Z
DTSTAMP:20260420T031438Z
SUMMARY:Chateauguay vs. C.S.R.
DESCRIPTION:C.S.R. vs. ChateauguayMore info: GOL#5178
X-ALT-DESC;FMTTYPE=text/html:<!DOCTYPE HTML PUBLIC "-//W3C//DTD HTML 3.2//E
	N">\n<HTML>\n<HEAD>\n<TITLE></TITLE>\n</HEAD>\n<BODY>\n<h3>C.S.R. vs. Chate
	auguay</h3>More info: <a href="https://www.golnetwork.com/game/v/5178/">GOL
	#5178</a>\n\n</BODY>\n</HTML>
STATUS:CONFIRMED
CLASS:PUBLIC
URL:https://www.golnetwork.com/game/v/5178/
X-MICROSOFT-CDO-BUSYSTATUS:BUSY
X-MICROSOFT-CDO-IMPORTANCE:1
END:VEVENT
BEGIN:VEVENT
UID:ggp9@games.golnetwork.com
LOCATION:OLYMPIQUE 1
CREATED:20091126T223838Z
DTSTART:20090823T220000Z
DTEND:20090823T233000Z
DTSTAMP:20260420T031438Z
SUMMARY:C.S.R. vs. Sherbrooke
DESCRIPTION:Sherbrooke vs. C.S.R.More info: GOL#5175
X-ALT-DESC;FMTTYPE=text/html:<!DOCTYPE HTML PUBLIC "-//W3C//DTD HTML 3.2//E
	N">\n<HTML>\n<HEAD>\n<TITLE></TITLE>\n</HEAD>\n<BODY>\n<h3>Sherbrooke vs. C
	.S.R.</h3>More info: <a href="https://www.golnetwork.com/game/v/5175/">GOL#
	5175</a>\n\n</BODY>\n</HTML>
STATUS:CONFIRMED
CLASS:PUBLIC
URL:https://www.golnetwork.com/game/v/5175/
X-MICROSOFT-CDO-BUSYSTATUS:BUSY
X-MICROSOFT-CDO-IMPORTANCE:1
END:VEVENT
BEGIN:VEVENT
UID:ggoo@games.golnetwork.com
LOCATION:MONTCALM
GEO:45.384799957275;-73.507301330566
CREATED:20091126T223700Z
DTSTART:20090821T010000Z
DTEND:20090821T023000Z
DTSTAMP:20260420T031438Z
SUMMARY:St-Hyacinthe vs. C.S.R.
DESCRIPTION:C.S.R. vs. St-HyacintheMore info: GOL#5169
X-ALT-DESC;FMTTYPE=text/html:<!DOCTYPE HTML PUBLIC "-//W3C//DTD HTML 3.2//E
	N">\n<HTML>\n<HEAD>\n<TITLE></TITLE>\n</HEAD>\n<BODY>\n<h3>C.S.R. vs. St-Hy
	acinthe</h3>More info: <a href="https://www.golnetwork.com/game/v/5169/">GO
	L#5169</a>\n\n</BODY>\n</HTML>
STATUS:CONFIRMED
CLASS:PUBLIC
URL:https://www.golnetwork.com/game/v/5169/
X-MICROSOFT-CDO-BUSYSTATUS:BUSY
X-MICROSOFT-CDO-IMPORTANCE:1
END:VEVENT
BEGIN:VEVENT
UID:ggog@games.golnetwork.com
LOCATION:MONTCALM
GEO:45.384799957275;-73.507301330566
CREATED:20091126T223550Z
DTSTART:20090814T010000Z
DTEND:20090814T023000Z
DTSTAMP:20260420T031438Z
SUMMARY:St-Hubert vs. C.S.R.
DESCRIPTION:C.S.R. vs. St-HubertMore info: GOL#5165
X-ALT-DESC;FMTTYPE=text/html:<!DOCTYPE HTML PUBLIC "-//W3C//DTD HTML 3.2//E
	N">\n<HTML>\n<HEAD>\n<TITLE></TITLE>\n</HEAD>\n<BODY>\n<h3>C.S.R. vs. St-Hu
	bert</h3>More info: <a href="https://www.golnetwork.com/game/v/5165/">GOL#5
	165</a>\n\n</BODY>\n</HTML>
STATUS:CONFIRMED
CLASS:PUBLIC
URL:https://www.golnetwork.com/game/v/5165/
X-MICROSOFT-CDO-BUSYSTATUS:BUSY
X-MICROSOFT-CDO-IMPORTANCE:1
END:VEVENT
BEGIN:VEVENT
UID:ggo8@games.golnetwork.com
LOCATION:MONTCALM
GEO:45.384799957275;-73.507301330566
CREATED:20091126T223500Z
DTSTART:20090809T220000Z
DTEND:20090809T233000Z
DTSTAMP:20260420T031438Z
SUMMARY:Haut-Richelieu vs. C.S.R.
DESCRIPTION:C.S.R. vs. Haut-RichelieuMore info: GOL#5161
X-ALT-DESC;FMTTYPE=text/html:<!DOCTYPE HTML PUBLIC "-//W3C//DTD HTML 3.2//E
	N">\n<HTML>\n<HEAD>\n<TITLE></TITLE>\n</HEAD>\n<BODY>\n<h3>C.S.R. vs. Haut-
	Richelieu</h3>More info: <a href="https://www.golnetwork.com/game/v/5161/">
	GOL#5161</a>\n\n</BODY>\n</HTML>
STATUS:CONFIRMED
CLASS:PUBLIC
URL:https://www.golnetwork.com/game/v/5161/
X-MICROSOFT-CDO-BUSYSTATUS:BUSY
X-MICROSOFT-CDO-IMPORTANCE:1
END:VEVENT
BEGIN:VEVENT
UID:ggo4@games.golnetwork.com
LOCATION:ST-JEAN-BAPTISTE
CREATED:20091126T223432Z
DTSTART:20090807T010000Z
DTEND:20090807T023000Z
DTSTAMP:20260420T031438Z
SUMMARY:C.S.R. vs. Drummondville
DESCRIPTION:Drummondville vs. C.S.R.More info: GOL#5159
X-ALT-DESC;FMTTYPE=text/html:<!DOCTYPE HTML PUBLIC "-//W3C//DTD HTML 3.2//E
	N">\n<HTML>\n<HEAD>\n<TITLE></TITLE>\n</HEAD>\n<BODY>\n<h3>Drummondville vs
	. C.S.R.</h3>More info: <a href="https://www.golnetwork.com/game/v/5159/">G
	OL#5159</a>\n\n</BODY>\n</HTML>
STATUS:CONFIRMED
CLASS:PUBLIC
URL:https://www.golnetwork.com/game/v/5159/
X-MICROSOFT-CDO-BUSYSTATUS:BUSY
X-MICROSOFT-CDO-IMPORTANCE:1
END:VEVENT
BEGIN:VEVENT
UID:ggnp@games.golnetwork.com
LOCATION:MONTCALM
GEO:45.384799957275;-73.507301330566
CREATED:20091126T223336Z
DTSTART:20090801T010000Z
DTEND:20090801T023000Z
DTSTAMP:20260420T031438Z
SUMMARY:Longueuil vs. C.S.R.
DESCRIPTION:C.S.R. vs. LongueuilMore info: GOL#5156
X-ALT-DESC;FMTTYPE=text/html:<!DOCTYPE HTML PUBLIC "-//W3C//DTD HTML 3.2//E
	N">\n<HTML>\n<HEAD>\n<TITLE></TITLE>\n</HEAD>\n<BODY>\n<h3>C.S.R. vs. Longu
	euil</h3>More info: <a href="https://www.golnetwork.com/game/v/5156/">GOL#5
	156</a>\n\n</BODY>\n</HTML>
STATUS:CONFIRMED
CLASS:PUBLIC
URL:https://www.golnetwork.com/game/v/5156/
X-MICROSOFT-CDO-BUSYSTATUS:BUSY
X-MICROSOFT-CDO-IMPORTANCE:1
END:VEVENT
BEGIN:VEVENT
UID:ggnd@games.golnetwork.com
LOCATION:LPP-1 POLYVALENTE L.P. PARÉ
CREATED:20091126T223157Z
DTSTART:20090724T010000Z
DTEND:20090724T023000Z
DTSTAMP:20260420T031438Z
SUMMARY:C.S.R. vs. Chateauguay
DESCRIPTION:Chateauguay vs. C.S.R.More info: GOL#5150
X-ALT-DESC;FMTTYPE=text/html:<!DOCTYPE HTML PUBLIC "-//W3C//DTD HTML 3.2//E
	N">\n<HTML>\n<HEAD>\n<TITLE></TITLE>\n</HEAD>\n<BODY>\n<h3>Chateauguay vs. 
	C.S.R.</h3>More info: <a href="https://www.golnetwork.com/game/v/5150/">GOL
	#5150</a>\n\n</BODY>\n</HTML>
STATUS:CONFIRMED
CLASS:PUBLIC
URL:https://www.golnetwork.com/game/v/5150/
X-MICROSOFT-CDO-BUSYSTATUS:BUSY
X-MICROSOFT-CDO-IMPORTANCE:1
END:VEVENT
BEGIN:VEVENT
UID:ggn3@games.golnetwork.com
LOCATION:MONTCALM
GEO:45.384799957275;-73.507301330566
CREATED:20091126T223044Z
DTSTART:20090717T010000Z
DTEND:20090717T023000Z
DTSTAMP:20260420T031438Z
SUMMARY:Sherbrooke vs. C.S.R.
DESCRIPTION:C.S.R. vs. SherbrookeMore info: GOL#5145
X-ALT-DESC;FMTTYPE=text/html:<!DOCTYPE HTML PUBLIC "-//W3C//DTD HTML 3.2//E
	N">\n<HTML>\n<HEAD>\n<TITLE></TITLE>\n</HEAD>\n<BODY>\n<h3>C.S.R. vs. Sherb
	rooke</h3>More info: <a href="https://www.golnetwork.com/game/v/5145/">GOL#
	5145</a>\n\n</BODY>\n</HTML>
STATUS:CONFIRMED
CLASS:PUBLIC
URL:https://www.golnetwork.com/game/v/5145/
X-MICROSOFT-CDO-BUSYSTATUS:BUSY
X-MICROSOFT-CDO-IMPORTANCE:1
END:VEVENT
BEGIN:VEVENT
UID:ggmm@games.golnetwork.com
LOCATION:POLY HYACINTHE DELORME 1
CREATED:20091126T222939Z
DTSTART:20090710T010000Z
DTEND:20090710T023000Z
DTSTAMP:20260420T031438Z
SUMMARY:C.S.R. vs. St-Hyacinthe
DESCRIPTION:St-Hyacinthe vs. C.S.R.More info: GOL#5141
X-ALT-DESC;FMTTYPE=text/html:<!DOCTYPE HTML PUBLIC "-//W3C//DTD HTML 3.2//E
	N">\n<HTML>\n<HEAD>\n<TITLE></TITLE>\n</HEAD>\n<BODY>\n<h3>St-Hyacinthe vs.
	 C.S.R.</h3>More info: <a href="https://www.golnetwork.com/game/v/5141/">GO
	L#5141</a>\n\n</BODY>\n</HTML>
STATUS:CONFIRMED
CLASS:PUBLIC
URL:https://www.golnetwork.com/game/v/5141/
X-MICROSOFT-CDO-BUSYSTATUS:BUSY
X-MICROSOFT-CDO-IMPORTANCE:1
END:VEVENT
BEGIN:VEVENT
UID:ggmg@games.golnetwork.com
LOCATION:STADE DU HAUT-RICHELIEU
CREATED:20091126T222852Z
DTSTART:20090703T010000Z
DTEND:20090703T023000Z
DTSTAMP:20260420T031438Z
SUMMARY:C.S.R. vs. Haut-Richelieu
DESCRIPTION:Haut-Richelieu vs. C.S.R.More info: GOL#5138
X-ALT-DESC;FMTTYPE=text/html:<!DOCTYPE HTML PUBLIC "-//W3C//DTD HTML 3.2//E
	N">\n<HTML>\n<HEAD>\n<TITLE></TITLE>\n</HEAD>\n<BODY>\n<h3>Haut-Richelieu v
	s. C.S.R.</h3>More info: <a href="https://www.golnetwork.com/game/v/5138/">
	GOL#5138</a>\n\n</BODY>\n</HTML>
STATUS:CONFIRMED
CLASS:PUBLIC
URL:https://www.golnetwork.com/game/v/5138/
X-MICROSOFT-CDO-BUSYSTATUS:BUSY
X-MICROSOFT-CDO-IMPORTANCE:1
END:VEVENT
BEGIN:VEVENT
UID:ggm8@games.golnetwork.com
LOCATION:MARCEL-SIMARD
GEO:45.492900848389;-73.383697509766
CREATED:20091126T222749Z
DTSTART:20090628T220000Z
DTEND:20090628T233000Z
DTSTAMP:20260420T031438Z
SUMMARY:C.S.R. vs. St-Hubert
DESCRIPTION:St-Hubert vs. C.S.R.More info: GOL#5134
X-ALT-DESC;FMTTYPE=text/html:<!DOCTYPE HTML PUBLIC "-//W3C//DTD HTML 3.2//E
	N">\n<HTML>\n<HEAD>\n<TITLE></TITLE>\n</HEAD>\n<BODY>\n<h3>St-Hubert vs. C.
	S.R.</h3>More info: <a href="https://www.golnetwork.com/game/v/5134/">GOL#5
	134</a>\n\n</BODY>\n</HTML>
STATUS:CONFIRMED
CLASS:PUBLIC
URL:https://www.golnetwork.com/game/v/5134/
X-MICROSOFT-CDO-BUSYSTATUS:BUSY
X-MICROSOFT-CDO-IMPORTANCE:1
END:VEVENT
BEGIN:VEVENT
UID:gglp@games.golnetwork.com
LOCATION:MONTCALM
GEO:45.384799957275;-73.507301330566
CREATED:20091126T215605Z
DTSTART:20090626T010000Z
DTEND:20090626T023000Z
DTSTAMP:20260420T031438Z
SUMMARY:Drummondville vs. C.S.R.
DESCRIPTION:C.S.R. vs. DrummondvilleMore info: GOL#5129
X-ALT-DESC;FMTTYPE=text/html:<!DOCTYPE HTML PUBLIC "-//W3C//DTD HTML 3.2//E
	N">\n<HTML>\n<HEAD>\n<TITLE></TITLE>\n</HEAD>\n<BODY>\n<h3>C.S.R. vs. Drumm
	ondville</h3>More info: <a href="https://www.golnetwork.com/game/v/5129/">G
	OL#5129</a>\n\n</BODY>\n</HTML>
STATUS:CONFIRMED
CLASS:PUBLIC
URL:https://www.golnetwork.com/game/v/5129/
X-MICROSOFT-CDO-BUSYSTATUS:BUSY
X-MICROSOFT-CDO-IMPORTANCE:1
END:VEVENT
BEGIN:VEVENT
UID:ggll@games.golnetwork.com
LOCATION:POLY HYACINTHE DELORME 1
CREATED:20091126T215542Z
DTSTART:20090621T230000Z
DTEND:20090622T003000Z
DTSTAMP:20260420T031438Z
SUMMARY:St-Hyacinthe vs. C.S.R.
DESCRIPTION:C.S.R. vs. St-HyacintheMore info: GOL#5127
X-ALT-DESC;FMTTYPE=text/html:<!DOCTYPE HTML PUBLIC "-//W3C//DTD HTML 3.2//E
	N">\n<HTML>\n<HEAD>\n<TITLE></TITLE>\n</HEAD>\n<BODY>\n<h3>C.S.R. vs. St-Hy
	acinthe</h3>More info: <a href="https://www.golnetwork.com/game/v/5127/">GO
	L#5127</a>\n\n</BODY>\n</HTML>
STATUS:CONFIRMED
CLASS:PUBLIC
URL:https://www.golnetwork.com/game/v/5127/
X-MICROSOFT-CDO-BUSYSTATUS:BUSY
X-MICROSOFT-CDO-IMPORTANCE:1
END:VEVENT
BEGIN:VEVENT
UID:gglh@games.golnetwork.com
LOCATION:Laurier 1(synt)
CREATED:20091126T215512Z
DTSTART:20090619T010000Z
DTEND:20090619T023000Z
DTSTAMP:20260420T031438Z
SUMMARY:C.S.R. vs. Longueuil
DESCRIPTION:Longueuil vs. C.S.R.More info: GOL#5125
X-ALT-DESC;FMTTYPE=text/html:<!DOCTYPE HTML PUBLIC "-//W3C//DTD HTML 3.2//E
	N">\n<HTML>\n<HEAD>\n<TITLE></TITLE>\n</HEAD>\n<BODY>\n<h3>Longueuil vs. C.
	S.R.</h3>More info: <a href="https://www.golnetwork.com/game/v/5125/">GOL#5
	125</a>\n\n</BODY>\n</HTML>
STATUS:CONFIRMED
CLASS:PUBLIC
URL:https://www.golnetwork.com/game/v/5125/
X-MICROSOFT-CDO-BUSYSTATUS:BUSY
X-MICROSOFT-CDO-IMPORTANCE:1
END:VEVENT
BEGIN:VEVENT
UID:ggl7@games.golnetwork.com
LOCATION:MONTCALM
GEO:45.384799957275;-73.507301330566
CREATED:20091126T215338Z
DTSTART:20090612T010000Z
DTEND:20090612T023000Z
DTSTAMP:20260420T031438Z
SUMMARY:Chateauguay vs. C.S.R.
DESCRIPTION:C.S.R. vs. ChateauguayMore info: GOL#5120
X-ALT-DESC;FMTTYPE=text/html:<!DOCTYPE HTML PUBLIC "-//W3C//DTD HTML 3.2//E
	N">\n<HTML>\n<HEAD>\n<TITLE></TITLE>\n</HEAD>\n<BODY>\n<h3>C.S.R. vs. Chate
	auguay</h3>More info: <a href="https://www.golnetwork.com/game/v/5120/">GOL
	#5120</a>\n\n</BODY>\n</HTML>
STATUS:CONFIRMED
CLASS:PUBLIC
URL:https://www.golnetwork.com/game/v/5120/
X-MICROSOFT-CDO-BUSYSTATUS:BUSY
X-MICROSOFT-CDO-IMPORTANCE:1
END:VEVENT
BEGIN:VEVENT
UID:ggl1@games.golnetwork.com
LOCATION:OLYMPIQUE 1
CREATED:20091126T215235Z
DTSTART:20090605T010000Z
DTEND:20090605T023000Z
DTSTAMP:20260420T031438Z
SUMMARY:C.S.R. vs. Sherbrooke
DESCRIPTION:Sherbrooke vs. C.S.R.More info: GOL#5117
X-ALT-DESC;FMTTYPE=text/html:<!DOCTYPE HTML PUBLIC "-//W3C//DTD HTML 3.2//E
	N">\n<HTML>\n<HEAD>\n<TITLE></TITLE>\n</HEAD>\n<BODY>\n<h3>Sherbrooke vs. C
	.S.R.</h3>More info: <a href="https://www.golnetwork.com/game/v/5117/">GOL#
	5117</a>\n\n</BODY>\n</HTML>
STATUS:CONFIRMED
CLASS:PUBLIC
URL:https://www.golnetwork.com/game/v/5117/
X-MICROSOFT-CDO-BUSYSTATUS:BUSY
X-MICROSOFT-CDO-IMPORTANCE:1
END:VEVENT
BEGIN:VEVENT
UID:ggko@games.golnetwork.com
LOCATION:MONTCALM
GEO:45.384799957275;-73.507301330566
CREATED:20091126T215151Z
DTSTART:20090529T010000Z
DTEND:20090529T023000Z
DTSTAMP:20260420T031438Z
SUMMARY:St-Hyacinthe vs. C.S.R.
DESCRIPTION:C.S.R. vs. St-HyacintheMore info: GOL#5115
X-ALT-DESC;FMTTYPE=text/html:<!DOCTYPE HTML PUBLIC "-//W3C//DTD HTML 3.2//E
	N">\n<HTML>\n<HEAD>\n<TITLE></TITLE>\n</HEAD>\n<BODY>\n<h3>C.S.R. vs. St-Hy
	acinthe</h3>More info: <a href="https://www.golnetwork.com/game/v/5115/">GO
	L#5115</a>\n\n</BODY>\n</HTML>
STATUS:RESCHEDULED
CLASS:PUBLIC
URL:https://www.golnetwork.com/game/v/5115/
X-MICROSOFT-CDO-BUSYSTATUS:BUSY
X-MICROSOFT-CDO-IMPORTANCE:1
END:VEVENT
BEGIN:VEVENT
UID:ggka@games.golnetwork.com
LOCATION:MONTCALM
GEO:45.384799957275;-73.507301330566
CREATED:20091126T214832Z
DTSTART:20090522T010000Z
DTEND:20090522T023000Z
DTSTAMP:20260420T031438Z
SUMMARY:St-Hubert vs. C.S.R.
DESCRIPTION:C.S.R. vs. St-HubertMore info: GOL#5108
X-ALT-DESC;FMTTYPE=text/html:<!DOCTYPE HTML PUBLIC "-//W3C//DTD HTML 3.2//E
	N">\n<HTML>\n<HEAD>\n<TITLE></TITLE>\n</HEAD>\n<BODY>\n<h3>C.S.R. vs. St-Hu
	bert</h3>More info: <a href="https://www.golnetwork.com/game/v/5108/">GOL#5
	108</a>\n\n</BODY>\n</HTML>
STATUS:CONFIRMED
CLASS:PUBLIC
URL:https://www.golnetwork.com/game/v/5108/
X-MICROSOFT-CDO-BUSYSTATUS:BUSY
X-MICROSOFT-CDO-IMPORTANCE:1
END:VEVENT
END:VCALENDAR
