BEGIN:VCALENDAR
PRODID:-//gdesolutions.com//MV Framework 1.0.0.1607 Calendar//EN
VERSION:2.0
METHOD:PUBLISH
CALSCALE:GREGORIAN
BEGIN:VEVENT
UID:gk00@games.golnetwork.com
LOCATION:Rosanne-Laflamme soccer synt.
CREATED:20100103T024613Z
DTSTART:20091003T150000Z
DTEND:20091003T163000Z
DTSTAMP:20260420T004747Z
SUMMARY:Acton-Vale vs. C.S.R. #1
DESCRIPTION:C.S.R. #1 vs. Acton-ValeMore info: GOL#6291
X-ALT-DESC;FMTTYPE=text/html:<!DOCTYPE HTML PUBLIC "-//W3C//DTD HTML 3.2//E
	N">\n<HTML>\n<HEAD>\n<TITLE></TITLE>\n</HEAD>\n<BODY>\n<h3>C.S.R. #1 vs. Ac
	ton-Vale</h3>More info: <a href="https://www.golnetwork.com/game/v/6291/">G
	OL#6291</a>\n\n</BODY>\n</HTML>
STATUS:CONFIRMED
CLASS:PUBLIC
URL:https://www.golnetwork.com/game/v/6291/
X-MICROSOFT-CDO-BUSYSTATUS:BUSY
X-MICROSOFT-CDO-IMPORTANCE:1
END:VEVENT
BEGIN:VEVENT
UID:gjqp@games.golnetwork.com
LOCATION:STADE DU HAUT-RICHELIEU
CREATED:20100103T024554Z
DTSTART:20090923T010000Z
DTEND:20090923T023000Z
DTSTAMP:20260420T004747Z
SUMMARY:C.S.R. #1 vs. Haut-Richelieu
DESCRIPTION:Haut-Richelieu vs. C.S.R. #1More info: GOL#6290
X-ALT-DESC;FMTTYPE=text/html:<!DOCTYPE HTML PUBLIC "-//W3C//DTD HTML 3.2//E
	N">\n<HTML>\n<HEAD>\n<TITLE></TITLE>\n</HEAD>\n<BODY>\n<h3>Haut-Richelieu v
	s. C.S.R. #1</h3>More info: <a href="https://www.golnetwork.com/game/v/6290
	/">GOL#6290</a>\n\n</BODY>\n</HTML>
STATUS:CONFIRMED
CLASS:PUBLIC
URL:https://www.golnetwork.com/game/v/6290/
X-MICROSOFT-CDO-BUSYSTATUS:BUSY
X-MICROSOFT-CDO-IMPORTANCE:1
END:VEVENT
END:VCALENDAR
