BEGIN:VCALENDAR
PRODID:-//gdesolutions.com//MV Framework 1.0.0.1607 Calendar//EN
VERSION:2.0
METHOD:PUBLISH
CALSCALE:GREGORIAN
BEGIN:VEVENT
UID:g148b@games.golnetwork.com
LOCATION:Centre William-Hingston
GEO:45.5312746;-73.6284362
CREATED:20111205T201432Z
DTSTART:20110824T233000Z
DTEND:20110825T003000Z
DTSTAMP:20260419T182810Z
SUMMARY:GRIND NOW SHINE LATER vs. BOURQUE
DESCRIPTION:BOURQUE vs. GRIND NOW SHINE LATERMore info: #365
X-ALT-DESC;FMTTYPE=text/html:<!DOCTYPE HTML PUBLIC "-//W3C//DTD HTML 3.2//E
	N">\n<HTML>\n<HEAD>\n<TITLE></TITLE>\n</HEAD>\n<BODY>\n<h3>BOURQUE vs. GRIN
	D NOW SHINE LATER</h3>More info: <a href="https://www.golnetwork.com/game/v
	/10414/">#365</a>\n\n</BODY>\n</HTML>
STATUS:CONFIRMED
CLASS:PUBLIC
URL:https://www.golnetwork.com/game/v/10414/
X-MICROSOFT-CDO-BUSYSTATUS:BUSY
X-MICROSOFT-CDO-IMPORTANCE:1
END:VEVENT
BEGIN:VEVENT
UID:g1485@games.golnetwork.com
LOCATION:Centre William-Hingston
GEO:45.5312746;-73.6284362
CREATED:20111205T201359Z
DTSTART:20110822T230000Z
DTEND:20110823T000000Z
DTSTAMP:20260419T182810Z
SUMMARY:GQ SQUAD vs. BOURQUE
DESCRIPTION:BOURQUE vs. GQ SQUADMore info: #354
X-ALT-DESC;FMTTYPE=text/html:<!DOCTYPE HTML PUBLIC "-//W3C//DTD HTML 3.2//E
	N">\n<HTML>\n<HEAD>\n<TITLE></TITLE>\n</HEAD>\n<BODY>\n<h3>BOURQUE vs. GQ S
	QUAD</h3>More info: <a href="https://www.golnetwork.com/game/v/10411/">#354
	</a>\n\n</BODY>\n</HTML>
STATUS:CONFIRMED
CLASS:PUBLIC
URL:https://www.golnetwork.com/game/v/10411/
X-MICROSOFT-CDO-BUSYSTATUS:BUSY
X-MICROSOFT-CDO-IMPORTANCE:1
END:VEVENT
BEGIN:VEVENT
UID:g147m@games.golnetwork.com
LOCATION:Cégep du Vieux Montréal
GEO:45.5146585;-73.5658635
CREATED:20111205T201302Z
DTSTART:20110818T003000Z
DTEND:20110818T013000Z
DTSTAMP:20260419T182810Z
SUMMARY:FOX vs. BOURQUE
DESCRIPTION:BOURQUE vs. FOXMore info: #343
X-ALT-DESC;FMTTYPE=text/html:<!DOCTYPE HTML PUBLIC "-//W3C//DTD HTML 3.2//E
	N">\n<HTML>\n<HEAD>\n<TITLE></TITLE>\n</HEAD>\n<BODY>\n<h3>BOURQUE vs. FOX<
	/h3>More info: <a href="https://www.golnetwork.com/game/v/10406/">#343</a>\
	n\n</BODY>\n</HTML>
STATUS:CONFIRMED
CLASS:PUBLIC
URL:https://www.golnetwork.com/game/v/10406/
X-MICROSOFT-CDO-BUSYSTATUS:BUSY
X-MICROSOFT-CDO-IMPORTANCE:1
END:VEVENT
BEGIN:VEVENT
UID:g147g@games.golnetwork.com
LOCATION:Marianopolis College
GEO:45.4807868;-73.610845
CREATED:20111205T201228Z
DTSTART:20110812T003000Z
DTEND:20110812T013000Z
DTSTAMP:20260419T182810Z
SUMMARY:GQ SQUAD vs. BOURQUE
DESCRIPTION:BOURQUE vs. GQ SQUADMore info: #328
X-ALT-DESC;FMTTYPE=text/html:<!DOCTYPE HTML PUBLIC "-//W3C//DTD HTML 3.2//E
	N">\n<HTML>\n<HEAD>\n<TITLE></TITLE>\n</HEAD>\n<BODY>\n<h3>BOURQUE vs. GQ S
	QUAD</h3>More info: <a href="https://www.golnetwork.com/game/v/10403/">#328
	</a>\n\n</BODY>\n</HTML>
STATUS:CONFIRMED
CLASS:PUBLIC
URL:https://www.golnetwork.com/game/v/10403/
X-MICROSOFT-CDO-BUSYSTATUS:BUSY
X-MICROSOFT-CDO-IMPORTANCE:1
END:VEVENT
BEGIN:VEVENT
UID:g146l@games.golnetwork.com
LOCATION:Centre William-Hingston
GEO:45.5312746;-73.6284362
CREATED:20111205T201016Z
DTSTART:20110803T230000Z
DTEND:20110804T000000Z
DTSTAMP:20260419T182810Z
SUMMARY:GRIND NOW SHINE LATER vs. BOURQUE
DESCRIPTION:BOURQUE vs. GRIND NOW SHINE LATERMore info: #296
X-ALT-DESC;FMTTYPE=text/html:<!DOCTYPE HTML PUBLIC "-//W3C//DTD HTML 3.2//E
	N">\n<HTML>\n<HEAD>\n<TITLE></TITLE>\n</HEAD>\n<BODY>\n<h3>BOURQUE vs. GRIN
	D NOW SHINE LATER</h3>More info: <a href="https://www.golnetwork.com/game/v
	/10392/">#296</a>\n\n</BODY>\n</HTML>
STATUS:CONFIRMED
CLASS:PUBLIC
URL:https://www.golnetwork.com/game/v/10392/
X-MICROSOFT-CDO-BUSYSTATUS:BUSY
X-MICROSOFT-CDO-IMPORTANCE:1
END:VEVENT
BEGIN:VEVENT
UID:g146h@games.golnetwork.com
LOCATION:Marianopolis College
GEO:45.4807868;-73.610845
CREATED:20111205T200948Z
DTSTART:20110729T003000Z
DTEND:20110729T013000Z
DTSTAMP:20260419T182810Z
SUMMARY:SBK REALTY vs. BOURQUE
DESCRIPTION:BOURQUE vs. SBK REALTYMore info: #284
X-ALT-DESC;FMTTYPE=text/html:<!DOCTYPE HTML PUBLIC "-//W3C//DTD HTML 3.2//E
	N">\n<HTML>\n<HEAD>\n<TITLE></TITLE>\n</HEAD>\n<BODY>\n<h3>BOURQUE vs. SBK 
	REALTY</h3>More info: <a href="https://www.golnetwork.com/game/v/10390/">#2
	84</a>\n\n</BODY>\n</HTML>
STATUS:CONFIRMED
CLASS:PUBLIC
URL:https://www.golnetwork.com/game/v/10390/
X-MICROSOFT-CDO-BUSYSTATUS:BUSY
X-MICROSOFT-CDO-IMPORTANCE:1
END:VEVENT
BEGIN:VEVENT
UID:g1467@games.golnetwork.com
LOCATION:Marianopolis College
GEO:45.4807868;-73.610845
CREATED:20111205T200850Z
DTSTART:20110722T013000Z
DTEND:20110722T023000Z
DTSTAMP:20260419T182810Z
SUMMARY:BOURQUE vs. ACN
DESCRIPTION:ACN vs. BOURQUEMore info: #263
X-ALT-DESC;FMTTYPE=text/html:<!DOCTYPE HTML PUBLIC "-//W3C//DTD HTML 3.2//E
	N">\n<HTML>\n<HEAD>\n<TITLE></TITLE>\n</HEAD>\n<BODY>\n<h3>ACN vs. BOURQUE<
	/h3>More info: <a href="https://www.golnetwork.com/game/v/10385/">#263</a>\
	n\n</BODY>\n</HTML>
STATUS:CONFIRMED
CLASS:PUBLIC
URL:https://www.golnetwork.com/game/v/10385/
X-MICROSOFT-CDO-BUSYSTATUS:BUSY
X-MICROSOFT-CDO-IMPORTANCE:1
END:VEVENT
BEGIN:VEVENT
UID:g145c@games.golnetwork.com
LOCATION:Centre William-Hingston
GEO:45.5312746;-73.6284362
CREATED:20111205T200652Z
DTSTART:20110713T230000Z
DTEND:20110714T000000Z
DTSTAMP:20260419T182810Z
SUMMARY:FOX vs. BOURQUE
DESCRIPTION:BOURQUE vs. FOXMore info: #228
X-ALT-DESC;FMTTYPE=text/html:<!DOCTYPE HTML PUBLIC "-//W3C//DTD HTML 3.2//E
	N">\n<HTML>\n<HEAD>\n<TITLE></TITLE>\n</HEAD>\n<BODY>\n<h3>BOURQUE vs. FOX<
	/h3>More info: <a href="https://www.golnetwork.com/game/v/10374/">#228</a>\
	n\n</BODY>\n</HTML>
STATUS:CONFIRMED
CLASS:PUBLIC
URL:https://www.golnetwork.com/game/v/10374/
X-MICROSOFT-CDO-BUSYSTATUS:BUSY
X-MICROSOFT-CDO-IMPORTANCE:1
END:VEVENT
BEGIN:VEVENT
UID:g1454@games.golnetwork.com
LOCATION:Centre William-Hingston
GEO:45.5312746;-73.6284362
CREATED:20111205T200606Z
DTSTART:20110707T010000Z
DTEND:20110707T020000Z
DTSTAMP:20260419T182810Z
SUMMARY:HAKAK vs. BOURQUE
DESCRIPTION:BOURQUE vs. HAKAKMore info: #207
X-ALT-DESC;FMTTYPE=text/html:<!DOCTYPE HTML PUBLIC "-//W3C//DTD HTML 3.2//E
	N">\n<HTML>\n<HEAD>\n<TITLE></TITLE>\n</HEAD>\n<BODY>\n<h3>BOURQUE vs. HAKA
	K</h3>More info: <a href="https://www.golnetwork.com/game/v/10370/">#207</a
	>\n\n</BODY>\n</HTML>
STATUS:CONFIRMED
CLASS:PUBLIC
URL:https://www.golnetwork.com/game/v/10370/
X-MICROSOFT-CDO-BUSYSTATUS:BUSY
X-MICROSOFT-CDO-IMPORTANCE:1
END:VEVENT
BEGIN:VEVENT
UID:g144b@games.golnetwork.com
LOCATION:Centre William-Hingston
GEO:45.5312746;-73.6284362
CREATED:20111205T200409Z
DTSTART:20110623T000000Z
DTEND:20110623T010000Z
DTSTAMP:20260419T182810Z
SUMMARY:GRIND NOW SHINE LATER vs. BOURQUE
DESCRIPTION:BOURQUE vs. GRIND NOW SHINE LATERMore info: #160
X-ALT-DESC;FMTTYPE=text/html:<!DOCTYPE HTML PUBLIC "-//W3C//DTD HTML 3.2//E
	N">\n<HTML>\n<HEAD>\n<TITLE></TITLE>\n</HEAD>\n<BODY>\n<h3>BOURQUE vs. GRIN
	D NOW SHINE LATER</h3>More info: <a href="https://www.golnetwork.com/game/v
	/10360/">#160</a>\n\n</BODY>\n</HTML>
STATUS:CONFIRMED
CLASS:PUBLIC
URL:https://www.golnetwork.com/game/v/10360/
X-MICROSOFT-CDO-BUSYSTATUS:BUSY
X-MICROSOFT-CDO-IMPORTANCE:1
END:VEVENT
BEGIN:VEVENT
UID:g1443@games.golnetwork.com
LOCATION:Marianopolis College
GEO:45.4807868;-73.610845
CREATED:20111205T200323Z
DTSTART:20110617T003000Z
DTEND:20110617T013000Z
DTSTAMP:20260419T182810Z
SUMMARY:SBK REALTY vs. BOURQUE
DESCRIPTION:BOURQUE vs. SBK REALTYMore info: #143
X-ALT-DESC;FMTTYPE=text/html:<!DOCTYPE HTML PUBLIC "-//W3C//DTD HTML 3.2//E
	N">\n<HTML>\n<HEAD>\n<TITLE></TITLE>\n</HEAD>\n<BODY>\n<h3>BOURQUE vs. SBK 
	REALTY</h3>More info: <a href="https://www.golnetwork.com/game/v/10356/">#1
	43</a>\n\n</BODY>\n</HTML>
STATUS:CONFIRMED
CLASS:PUBLIC
URL:https://www.golnetwork.com/game/v/10356/
X-MICROSOFT-CDO-BUSYSTATUS:BUSY
X-MICROSOFT-CDO-IMPORTANCE:1
END:VEVENT
BEGIN:VEVENT
UID:g143k@games.golnetwork.com
LOCATION:Marianopolis College
GEO:45.4807868;-73.610845
CREATED:20111205T200226Z
DTSTART:20110610T013000Z
DTEND:20110610T023000Z
DTSTAMP:20260419T182810Z
SUMMARY:BOURQUE vs. ACN
DESCRIPTION:ACN vs. BOURQUEMore info: #121
X-ALT-DESC;FMTTYPE=text/html:<!DOCTYPE HTML PUBLIC "-//W3C//DTD HTML 3.2//E
	N">\n<HTML>\n<HEAD>\n<TITLE></TITLE>\n</HEAD>\n<BODY>\n<h3>ACN vs. BOURQUE<
	/h3>More info: <a href="https://www.golnetwork.com/game/v/10351/">#121</a>\
	n\n</BODY>\n</HTML>
STATUS:CONFIRMED
CLASS:PUBLIC
URL:https://www.golnetwork.com/game/v/10351/
X-MICROSOFT-CDO-BUSYSTATUS:BUSY
X-MICROSOFT-CDO-IMPORTANCE:1
END:VEVENT
BEGIN:VEVENT
UID:g1436@games.golnetwork.com
LOCATION:Centre William-Hingston
GEO:45.5312746;-73.6284362
CREATED:20111205T200111Z
DTSTART:20110602T010000Z
DTEND:20110602T020000Z
DTSTAMP:20260419T182810Z
SUMMARY:UNITE vs. BOURQUE
DESCRIPTION:BOURQUE vs. UNITEMore info: #93
X-ALT-DESC;FMTTYPE=text/html:<!DOCTYPE HTML PUBLIC "-//W3C//DTD HTML 3.2//E
	N">\n<HTML>\n<HEAD>\n<TITLE></TITLE>\n</HEAD>\n<BODY>\n<h3>BOURQUE vs. UNIT
	E</h3>More info: <a href="https://www.golnetwork.com/game/v/10344/">#93</a>
	\n\n</BODY>\n</HTML>
STATUS:CONFIRMED
CLASS:PUBLIC
URL:https://www.golnetwork.com/game/v/10344/
X-MICROSOFT-CDO-BUSYSTATUS:BUSY
X-MICROSOFT-CDO-IMPORTANCE:1
END:VEVENT
BEGIN:VEVENT
UID:g142n@games.golnetwork.com
LOCATION:Cégep du Vieux Montréal
GEO:45.5146585;-73.5658635
CREATED:20111205T200018Z
DTSTART:20110526T233000Z
DTEND:20110527T003000Z
DTSTAMP:20260419T182810Z
SUMMARY:MOMO vs. BOURQUE
DESCRIPTION:BOURQUE vs. MOMOMore info: #72
X-ALT-DESC;FMTTYPE=text/html:<!DOCTYPE HTML PUBLIC "-//W3C//DTD HTML 3.2//E
	N">\n<HTML>\n<HEAD>\n<TITLE></TITLE>\n</HEAD>\n<BODY>\n<h3>BOURQUE vs. MOMO
	</h3>More info: <a href="https://www.golnetwork.com/game/v/10339/">#72</a>\
	n\n</BODY>\n</HTML>
STATUS:CONFIRMED
CLASS:PUBLIC
URL:https://www.golnetwork.com/game/v/10339/
X-MICROSOFT-CDO-BUSYSTATUS:BUSY
X-MICROSOFT-CDO-IMPORTANCE:1
END:VEVENT
BEGIN:VEVENT
UID:g142b@games.golnetwork.com
LOCATION:Cégep du Vieux Montréal
GEO:45.5146585;-73.5658635
CREATED:20111205T195915Z
DTSTART:20110519T233000Z
DTEND:20110520T003000Z
DTSTAMP:20260419T182810Z
SUMMARY:VINTAGE vs. BOURQUE
DESCRIPTION:BOURQUE vs. VINTAGEMore info: #53
X-ALT-DESC;FMTTYPE=text/html:<!DOCTYPE HTML PUBLIC "-//W3C//DTD HTML 3.2//E
	N">\n<HTML>\n<HEAD>\n<TITLE></TITLE>\n</HEAD>\n<BODY>\n<h3>BOURQUE vs. VINT
	AGE</h3>More info: <a href="https://www.golnetwork.com/game/v/10333/">#53</
	a>\n\n</BODY>\n</HTML>
STATUS:CONFIRMED
CLASS:PUBLIC
URL:https://www.golnetwork.com/game/v/10333/
X-MICROSOFT-CDO-BUSYSTATUS:BUSY
X-MICROSOFT-CDO-IMPORTANCE:1
END:VEVENT
BEGIN:VEVENT
UID:g141k@games.golnetwork.com
LOCATION:Centre William-Hingston
GEO:45.5312746;-73.6284362
CREATED:20111205T195743Z
DTSTART:20110511T230000Z
DTEND:20110512T000000Z
DTSTAMP:20260419T182810Z
SUMMARY:THOMSON vs. BOURQUE
DESCRIPTION:BOURQUE vs. THOMSONMore info: #23
X-ALT-DESC;FMTTYPE=text/html:<!DOCTYPE HTML PUBLIC "-//W3C//DTD HTML 3.2//E
	N">\n<HTML>\n<HEAD>\n<TITLE></TITLE>\n</HEAD>\n<BODY>\n<h3>BOURQUE vs. THOM
	SON</h3>More info: <a href="https://www.golnetwork.com/game/v/10324/">#23</
	a>\n\n</BODY>\n</HTML>
STATUS:CONFIRMED
CLASS:PUBLIC
URL:https://www.golnetwork.com/game/v/10324/
X-MICROSOFT-CDO-BUSYSTATUS:BUSY
X-MICROSOFT-CDO-IMPORTANCE:1
END:VEVENT
BEGIN:VEVENT
UID:g1418@games.golnetwork.com
LOCATION:Centre William-Hingston
GEO:45.5312746;-73.6284362
CREATED:20111205T194904Z
DTSTART:20110504T230000Z
DTEND:20110505T000000Z
DTSTAMP:20260419T182810Z
SUMMARY:P SQUAD vs. BOURQUE
DESCRIPTION:BOURQUE vs. P SQUADMore info: #6
X-ALT-DESC;FMTTYPE=text/html:<!DOCTYPE HTML PUBLIC "-//W3C//DTD HTML 3.2//E
	N">\n<HTML>\n<HEAD>\n<TITLE></TITLE>\n</HEAD>\n<BODY>\n<h3>BOURQUE vs. P SQ
	UAD</h3>More info: <a href="https://www.golnetwork.com/game/v/10318/">#6</a
	>\n\n</BODY>\n</HTML>
STATUS:CONFIRMED
CLASS:PUBLIC
URL:https://www.golnetwork.com/game/v/10318/
X-MICROSOFT-CDO-BUSYSTATUS:BUSY
X-MICROSOFT-CDO-IMPORTANCE:1
END:VEVENT
END:VCALENDAR
