BEGIN:VCALENDAR
PRODID:-//gdesolutions.com//MV Framework 1.0.0.1607 Calendar//EN
VERSION:2.0
METHOD:PUBLISH
CALSCALE:GREGORIAN
BEGIN:VEVENT
UID:g10jk@games.golnetwork.com
LOCATION:Marianopolis College
GEO:45.4807868;-73.610845
CREATED:20111204T203409Z
DTSTART:20100803T013000Z
DTEND:20100803T023000Z
DTSTAMP:20260422T160904Z
SUMMARY:KRAZEUR INC vs. PLAN B
DESCRIPTION:PLAN B vs. KRAZEUR INCMore info: #204
X-ALT-DESC;FMTTYPE=text/html:<!DOCTYPE HTML PUBLIC "-//W3C//DTD HTML 3.2//E
	N">\n<HTML>\n<HEAD>\n<TITLE></TITLE>\n</HEAD>\n<BODY>\n<h3>PLAN B vs. KRAZE
	UR INC</h3>More info: <a href="https://www.golnetwork.com/game/v/9109/">#20
	4</a>\n\n</BODY>\n</HTML>
STATUS:CONFIRMED
CLASS:PUBLIC
URL:https://www.golnetwork.com/game/v/9109/
X-MICROSOFT-CDO-BUSYSTATUS:BUSY
X-MICROSOFT-CDO-IMPORTANCE:1
END:VEVENT
BEGIN:VEVENT
UID:g10j8@games.golnetwork.com
LOCATION:Marianopolis College
GEO:45.4807868;-73.610845
CREATED:20111204T203259Z
DTSTART:20100727T003000Z
DTEND:20100727T013000Z
DTSTAMP:20260422T160904Z
SUMMARY:KRAZEUR INC vs. MILLER
DESCRIPTION:MILLER vs. KRAZEUR INCMore info: #182
X-ALT-DESC;FMTTYPE=text/html:<!DOCTYPE HTML PUBLIC "-//W3C//DTD HTML 3.2//E
	N">\n<HTML>\n<HEAD>\n<TITLE></TITLE>\n</HEAD>\n<BODY>\n<h3>MILLER vs. KRAZE
	UR INC</h3>More info: <a href="https://www.golnetwork.com/game/v/9103/">#18
	2</a>\n\n</BODY>\n</HTML>
STATUS:CONFIRMED
CLASS:PUBLIC
URL:https://www.golnetwork.com/game/v/9103/
X-MICROSOFT-CDO-BUSYSTATUS:BUSY
X-MICROSOFT-CDO-IMPORTANCE:1
END:VEVENT
BEGIN:VEVENT
UID:g10j2@games.golnetwork.com
LOCATION:Marianopolis College
GEO:45.4807868;-73.610845
CREATED:20111204T203226Z
DTSTART:20100722T013000Z
DTEND:20100722T023000Z
DTSTAMP:20260422T160904Z
SUMMARY:KRAZEUR INC vs. UNITE
DESCRIPTION:UNITE vs. KRAZEUR INCMore info: #171
X-ALT-DESC;FMTTYPE=text/html:<!DOCTYPE HTML PUBLIC "-//W3C//DTD HTML 3.2//E
	N">\n<HTML>\n<HEAD>\n<TITLE></TITLE>\n</HEAD>\n<BODY>\n<h3>UNITE vs. KRAZEU
	R INC</h3>More info: <a href="https://www.golnetwork.com/game/v/9100/">#171
	</a>\n\n</BODY>\n</HTML>
STATUS:CONFIRMED
CLASS:PUBLIC
URL:https://www.golnetwork.com/game/v/9100/
X-MICROSOFT-CDO-BUSYSTATUS:BUSY
X-MICROSOFT-CDO-IMPORTANCE:1
END:VEVENT
BEGIN:VEVENT
UID:g10if@games.golnetwork.com
LOCATION:Marianopolis College
GEO:45.4807868;-73.610845
CREATED:20111204T203113Z
DTSTART:20100715T013000Z
DTEND:20100715T023000Z
DTSTAMP:20260422T160904Z
SUMMARY:KRAZEUR INC vs. DIAMOND BALLERS
DESCRIPTION:DIAMOND BALLERS vs. KRAZEUR INCMore info: #150
X-ALT-DESC;FMTTYPE=text/html:<!DOCTYPE HTML PUBLIC "-//W3C//DTD HTML 3.2//E
	N">\n<HTML>\n<HEAD>\n<TITLE></TITLE>\n</HEAD>\n<BODY>\n<h3>DIAMOND BALLERS 
	vs. KRAZEUR INC</h3>More info: <a href="https://www.golnetwork.com/game/v/9
	093/">#150</a>\n\n</BODY>\n</HTML>
STATUS:CONFIRMED
CLASS:PUBLIC
URL:https://www.golnetwork.com/game/v/9093/
X-MICROSOFT-CDO-BUSYSTATUS:BUSY
X-MICROSOFT-CDO-IMPORTANCE:1
END:VEVENT
BEGIN:VEVENT
UID:g10i3@games.golnetwork.com
LOCATION:Marianopolis College
GEO:45.4807868;-73.610845
CREATED:20111204T203006Z
DTSTART:20100708T000000Z
DTEND:20100708T010000Z
DTSTAMP:20260422T160904Z
SUMMARY:KRAZEUR INC vs. PLAN B
DESCRIPTION:PLAN B vs. KRAZEUR INCMore info: #125
X-ALT-DESC;FMTTYPE=text/html:<!DOCTYPE HTML PUBLIC "-//W3C//DTD HTML 3.2//E
	N">\n<HTML>\n<HEAD>\n<TITLE></TITLE>\n</HEAD>\n<BODY>\n<h3>PLAN B vs. KRAZE
	UR INC</h3>More info: <a href="https://www.golnetwork.com/game/v/9087/">#12
	5</a>\n\n</BODY>\n</HTML>
STATUS:CONFIRMED
CLASS:PUBLIC
URL:https://www.golnetwork.com/game/v/9087/
X-MICROSOFT-CDO-BUSYSTATUS:BUSY
X-MICROSOFT-CDO-IMPORTANCE:1
END:VEVENT
BEGIN:VEVENT
UID:g10hc@games.golnetwork.com
LOCATION:Marianopolis College
GEO:45.4807868;-73.610845
CREATED:20111204T202837Z
DTSTART:20100629T003000Z
DTEND:20100629T013000Z
DTSTAMP:20260422T160904Z
SUMMARY:DYNAMO vs. KRAZEUR INC
DESCRIPTION:KRAZEUR INC vs. DYNAMOMore info: #106
X-ALT-DESC;FMTTYPE=text/html:<!DOCTYPE HTML PUBLIC "-//W3C//DTD HTML 3.2//E
	N">\n<HTML>\n<HEAD>\n<TITLE></TITLE>\n</HEAD>\n<BODY>\n<h3>KRAZEUR INC vs. 
	DYNAMO</h3>More info: <a href="https://www.golnetwork.com/game/v/9078/">#10
	6</a>\n\n</BODY>\n</HTML>
STATUS:CONFIRMED
CLASS:PUBLIC
URL:https://www.golnetwork.com/game/v/9078/
X-MICROSOFT-CDO-BUSYSTATUS:BUSY
X-MICROSOFT-CDO-IMPORTANCE:1
END:VEVENT
BEGIN:VEVENT
UID:g10h4@games.golnetwork.com
LOCATION:Marianopolis College
GEO:45.4807868;-73.610845
CREATED:20111204T202803Z
DTSTART:20100622T013000Z
DTEND:20100622T023000Z
DTSTAMP:20260422T160904Z
SUMMARY:KRAZEUR INC vs. HUNTER
DESCRIPTION:HUNTER vs. KRAZEUR INCMore info: #92
X-ALT-DESC;FMTTYPE=text/html:<!DOCTYPE HTML PUBLIC "-//W3C//DTD HTML 3.2//E
	N">\n<HTML>\n<HEAD>\n<TITLE></TITLE>\n</HEAD>\n<BODY>\n<h3>HUNTER vs. KRAZE
	UR INC</h3>More info: <a href="https://www.golnetwork.com/game/v/9074/">#92
	</a>\n\n</BODY>\n</HTML>
STATUS:CONFIRMED
CLASS:PUBLIC
URL:https://www.golnetwork.com/game/v/9074/
X-MICROSOFT-CDO-BUSYSTATUS:BUSY
X-MICROSOFT-CDO-IMPORTANCE:1
END:VEVENT
BEGIN:VEVENT
UID:g10gl@games.golnetwork.com
LOCATION:Marianopolis College
GEO:45.4807868;-73.610845
CREATED:20111204T202718Z
DTSTART:20100617T013000Z
DTEND:20100617T023000Z
DTSTAMP:20260422T160904Z
SUMMARY:GATTI vs. KRAZEUR INC
DESCRIPTION:KRAZEUR INC vs. GATTIMore info: #81
X-ALT-DESC;FMTTYPE=text/html:<!DOCTYPE HTML PUBLIC "-//W3C//DTD HTML 3.2//E
	N">\n<HTML>\n<HEAD>\n<TITLE></TITLE>\n</HEAD>\n<BODY>\n<h3>KRAZEUR INC vs. 
	GATTI</h3>More info: <a href="https://www.golnetwork.com/game/v/9069/">#81<
	/a>\n\n</BODY>\n</HTML>
STATUS:CONFIRMED
CLASS:PUBLIC
URL:https://www.golnetwork.com/game/v/9069/
X-MICROSOFT-CDO-BUSYSTATUS:BUSY
X-MICROSOFT-CDO-IMPORTANCE:1
END:VEVENT
BEGIN:VEVENT
UID:g10g3@games.golnetwork.com
LOCATION:Marianopolis College
GEO:45.4807868;-73.610845
CREATED:20111204T202600Z
DTSTART:20100607T233000Z
DTEND:20100608T003000Z
DTSTAMP:20260422T160904Z
SUMMARY:KRAZEUR INC vs. HAKAK
DESCRIPTION:HAKAK vs. KRAZEUR INCMore info: #51
X-ALT-DESC;FMTTYPE=text/html:<!DOCTYPE HTML PUBLIC "-//W3C//DTD HTML 3.2//E
	N">\n<HTML>\n<HEAD>\n<TITLE></TITLE>\n</HEAD>\n<BODY>\n<h3>HAKAK vs. KRAZEU
	R INC</h3>More info: <a href="https://www.golnetwork.com/game/v/9060/">#51<
	/a>\n\n</BODY>\n</HTML>
STATUS:CONFIRMED
CLASS:PUBLIC
URL:https://www.golnetwork.com/game/v/9060/
X-MICROSOFT-CDO-BUSYSTATUS:BUSY
X-MICROSOFT-CDO-IMPORTANCE:1
END:VEVENT
BEGIN:VEVENT
UID:g10fo@games.golnetwork.com
LOCATION:Centre William-Hingston
GEO:45.5312746;-73.6284362
CREATED:20111204T202532Z
DTSTART:20100603T000000Z
DTEND:20100603T010000Z
DTSTAMP:20260422T160904Z
SUMMARY:KRAZEUR INC vs. RUN N GUN
DESCRIPTION:RUN N GUN vs. KRAZEUR INCMore info: #36
X-ALT-DESC;FMTTYPE=text/html:<!DOCTYPE HTML PUBLIC "-//W3C//DTD HTML 3.2//E
	N">\n<HTML>\n<HEAD>\n<TITLE></TITLE>\n</HEAD>\n<BODY>\n<h3>RUN N GUN vs. KR
	AZEUR INC</h3>More info: <a href="https://www.golnetwork.com/game/v/9057/">
	#36</a>\n\n</BODY>\n</HTML>
STATUS:CONFIRMED
CLASS:PUBLIC
URL:https://www.golnetwork.com/game/v/9057/
X-MICROSOFT-CDO-BUSYSTATUS:BUSY
X-MICROSOFT-CDO-IMPORTANCE:1
END:VEVENT
BEGIN:VEVENT
UID:g10f8@games.golnetwork.com
LOCATION:Ben Weider JCC
GEO:45.488223;-73.634105
CREATED:20111204T202419Z
DTSTART:20100518T000000Z
DTEND:20100518T010000Z
DTSTAMP:20260422T160904Z
SUMMARY:KRAZEUR INC vs. HOLLYWOOD
DESCRIPTION:HOLLYWOOD vs. KRAZEUR INCMore info: #18
X-ALT-DESC;FMTTYPE=text/html:<!DOCTYPE HTML PUBLIC "-//W3C//DTD HTML 3.2//E
	N">\n<HTML>\n<HEAD>\n<TITLE></TITLE>\n</HEAD>\n<BODY>\n<h3>HOLLYWOOD vs. KR
	AZEUR INC</h3>More info: <a href="https://www.golnetwork.com/game/v/9049/">
	#18</a>\n\n</BODY>\n</HTML>
STATUS:CONFIRMED
CLASS:PUBLIC
URL:https://www.golnetwork.com/game/v/9049/
X-MICROSOFT-CDO-BUSYSTATUS:BUSY
X-MICROSOFT-CDO-IMPORTANCE:1
END:VEVENT
BEGIN:VEVENT
UID:g10ep@games.golnetwork.com
LOCATION:Ben Weider JCC
GEO:45.488223;-73.634105
CREATED:20111204T202020Z
DTSTART:20100511T003000Z
DTEND:20100511T013000Z
DTSTAMP:20260422T160904Z
SUMMARY:KRAZEUR INC vs. NO REASON
DESCRIPTION:NO REASON vs. KRAZEUR INCMore info: #12
X-ALT-DESC;FMTTYPE=text/html:<!DOCTYPE HTML PUBLIC "-//W3C//DTD HTML 3.2//E
	N">\n<HTML>\n<HEAD>\n<TITLE></TITLE>\n</HEAD>\n<BODY>\n<h3>NO REASON vs. KR
	AZEUR INC</h3>More info: <a href="https://www.golnetwork.com/game/v/9044/">
	#12</a>\n\n</BODY>\n</HTML>
STATUS:CONFIRMED
CLASS:PUBLIC
URL:https://www.golnetwork.com/game/v/9044/
X-MICROSOFT-CDO-BUSYSTATUS:BUSY
X-MICROSOFT-CDO-IMPORTANCE:1
END:VEVENT
END:VCALENDAR
