BEGIN:VCALENDAR
PRODID:-//gdesolutions.com//MV Framework 1.0.0.1607 Calendar//EN
VERSION:2.0
METHOD:PUBLISH
CALSCALE:GREGORIAN
BEGIN:VEVENT
UID:g252f@games.golnetwork.com
LOCATION:CVM - Court #1
GEO:45.5146585;-73.5658635
CREATED:20120922T222938Z
DTSTART:20130310T213000Z
DTEND:20130310T223000Z
DTSTAMP:20260420T023616Z
SUMMARY:CORMIER vs. OLD SCHOOL LIONEL GROULX
DESCRIPTION:OLD SCHOOL LIONEL GROULX vs. CORMIERMore info: #101
X-ALT-DESC;FMTTYPE=text/html:<!DOCTYPE HTML PUBLIC "-//W3C//DTD HTML 3.2//E
	N">\n<HTML>\n<HEAD>\n<TITLE></TITLE>\n</HEAD>\n<BODY>\n<h3>OLD SCHOOL LIONE
	L GROULX vs. CORMIER</h3>More info: <a href="https://www.golnetwork.com/gam
	e/v/20541/">#101</a>\n\n</BODY>\n</HTML>
STATUS:CONFIRMED
CLASS:PUBLIC
URL:https://www.golnetwork.com/game/v/20541/
X-MICROSOFT-CDO-BUSYSTATUS:BUSY
X-MICROSOFT-CDO-IMPORTANCE:1
END:VEVENT
BEGIN:VEVENT
UID:g253k@games.golnetwork.com
LOCATION:CVM - Court #2
GEO:45.5146585;-73.5658635
CREATED:20120922T222938Z
DTSTART:20130303T223000Z
DTEND:20130303T233000Z
DTSTAMP:20260420T023616Z
SUMMARY:NINJA TURTLES vs. CORMIER
DESCRIPTION:CORMIER vs. NINJA TURTLESMore info: #95
X-ALT-DESC;FMTTYPE=text/html:<!DOCTYPE HTML PUBLIC "-//W3C//DTD HTML 3.2//E
	N">\n<HTML>\n<HEAD>\n<TITLE></TITLE>\n</HEAD>\n<BODY>\n<h3>CORMIER vs. NINJ
	A TURTLES</h3>More info: <a href="https://www.golnetwork.com/game/v/20557/"
	>#95</a>\n\n</BODY>\n</HTML>
STATUS:CONFIRMED
CLASS:PUBLIC
URL:https://www.golnetwork.com/game/v/20557/
X-MICROSOFT-CDO-BUSYSTATUS:BUSY
X-MICROSOFT-CDO-IMPORTANCE:1
END:VEVENT
BEGIN:VEVENT
UID:g254j@games.golnetwork.com
LOCATION:CVM - Court #1
GEO:45.5146585;-73.5658635
CREATED:20120922T223418Z
DTSTART:20130224T223000Z
DTEND:20130224T233000Z
DTSTAMP:20260420T023616Z
SUMMARY:OLD SCHOOL LIONEL GROULX vs. CORMIER
DESCRIPTION:CORMIER vs. OLD SCHOOL LIONEL GROULXMore info: #89
X-ALT-DESC;FMTTYPE=text/html:<!DOCTYPE HTML PUBLIC "-//W3C//DTD HTML 3.2//E
	N">\n<HTML>\n<HEAD>\n<TITLE></TITLE>\n</HEAD>\n<BODY>\n<h3>CORMIER vs. OLD 
	SCHOOL LIONEL GROULX</h3>More info: <a href="https://www.golnetwork.com/gam
	e/v/20570/">#89</a>\n\n</BODY>\n</HTML>
STATUS:CONFIRMED
CLASS:PUBLIC
URL:https://www.golnetwork.com/game/v/20570/
X-MICROSOFT-CDO-BUSYSTATUS:BUSY
X-MICROSOFT-CDO-IMPORTANCE:1
END:VEVENT
BEGIN:VEVENT
UID:g2547@games.golnetwork.com
LOCATION:CVM - Court #1
GEO:45.5146585;-73.5658635
CREATED:20120922T223232Z
DTSTART:20130217T223000Z
DTEND:20130217T233000Z
DTSTAMP:20260420T023616Z
SUMMARY:GLOBETROTTERS vs. CORMIER
DESCRIPTION:CORMIER vs. GLOBETROTTERSMore info: #83
X-ALT-DESC;FMTTYPE=text/html:<!DOCTYPE HTML PUBLIC "-//W3C//DTD HTML 3.2//E
	N">\n<HTML>\n<HEAD>\n<TITLE></TITLE>\n</HEAD>\n<BODY>\n<h3>CORMIER vs. GLOB
	ETROTTERS</h3>More info: <a href="https://www.golnetwork.com/game/v/20564/"
	>#83</a>\n\n</BODY>\n</HTML>
STATUS:CONFIRMED
CLASS:PUBLIC
URL:https://www.golnetwork.com/game/v/20564/
X-MICROSOFT-CDO-BUSYSTATUS:BUSY
X-MICROSOFT-CDO-IMPORTANCE:1
END:VEVENT
BEGIN:VEVENT
UID:g253o@games.golnetwork.com
LOCATION:CVM - Court #1
GEO:45.5146585;-73.5658635
CREATED:20120922T223055Z
DTSTART:20130210T223000Z
DTEND:20130210T233000Z
DTSTAMP:20260420T023616Z
SUMMARY:NINJA TURTLES vs. CORMIER
DESCRIPTION:CORMIER vs. NINJA TURTLESMore info: #77
X-ALT-DESC;FMTTYPE=text/html:<!DOCTYPE HTML PUBLIC "-//W3C//DTD HTML 3.2//E
	N">\n<HTML>\n<HEAD>\n<TITLE></TITLE>\n</HEAD>\n<BODY>\n<h3>CORMIER vs. NINJ
	A TURTLES</h3>More info: <a href="https://www.golnetwork.com/game/v/20559/"
	>#77</a>\n\n</BODY>\n</HTML>
STATUS:CONFIRMED
CLASS:PUBLIC
URL:https://www.golnetwork.com/game/v/20559/
X-MICROSOFT-CDO-BUSYSTATUS:BUSY
X-MICROSOFT-CDO-IMPORTANCE:1
END:VEVENT
BEGIN:VEVENT
UID:g253a@games.golnetwork.com
LOCATION:CVM - Court #1
GEO:45.5146585;-73.5658635
CREATED:20120922T222938Z
DTSTART:20130127T223000Z
DTEND:20130127T233000Z
DTSTAMP:20260420T023616Z
SUMMARY:NO NAME BALLERS vs. CORMIER
DESCRIPTION:CORMIER vs. NO NAME BALLERSMore info: #69
X-ALT-DESC;FMTTYPE=text/html:<!DOCTYPE HTML PUBLIC "-//W3C//DTD HTML 3.2//E
	N">\n<HTML>\n<HEAD>\n<TITLE></TITLE>\n</HEAD>\n<BODY>\n<h3>CORMIER vs. NO N
	AME BALLERS</h3>More info: <a href="https://www.golnetwork.com/game/v/20552
	/">#69</a>\n\n</BODY>\n</HTML>
STATUS:CONFIRMED
CLASS:PUBLIC
URL:https://www.golnetwork.com/game/v/20552/
X-MICROSOFT-CDO-BUSYSTATUS:BUSY
X-MICROSOFT-CDO-IMPORTANCE:1
END:VEVENT
BEGIN:VEVENT
UID:g2530@games.golnetwork.com
LOCATION:CVM - Court #1
GEO:45.5146585;-73.5658635
CREATED:20120922T222938Z
DTSTART:20130120T233000Z
DTEND:20130121T003000Z
DTSTAMP:20260420T023616Z
SUMMARY:SUNSHINE vs. CORMIER
DESCRIPTION:CORMIER vs. SUNSHINEMore info: #64
X-ALT-DESC;FMTTYPE=text/html:<!DOCTYPE HTML PUBLIC "-//W3C//DTD HTML 3.2//E
	N">\n<HTML>\n<HEAD>\n<TITLE></TITLE>\n</HEAD>\n<BODY>\n<h3>CORMIER vs. SUNS
	HINE</h3>More info: <a href="https://www.golnetwork.com/game/v/20547/">#64<
	/a>\n\n</BODY>\n</HTML>
STATUS:CONFIRMED
CLASS:PUBLIC
URL:https://www.golnetwork.com/game/v/20547/
X-MICROSOFT-CDO-BUSYSTATUS:BUSY
X-MICROSOFT-CDO-IMPORTANCE:1
END:VEVENT
BEGIN:VEVENT
UID:g252l@games.golnetwork.com
LOCATION:CVM - Court #1
GEO:45.5146585;-73.5658635
CREATED:20120922T222938Z
DTSTART:20130114T013000Z
DTEND:20130114T023000Z
DTSTAMP:20260420T023616Z
SUMMARY:CORMIER vs. P SQUAD
DESCRIPTION:P SQUAD vs. CORMIERMore info: #60
X-ALT-DESC;FMTTYPE=text/html:<!DOCTYPE HTML PUBLIC "-//W3C//DTD HTML 3.2//E
	N">\n<HTML>\n<HEAD>\n<TITLE></TITLE>\n</HEAD>\n<BODY>\n<h3>P SQUAD vs. CORM
	IER</h3>More info: <a href="https://www.golnetwork.com/game/v/20544/">#60</
	a>\n\n</BODY>\n</HTML>
STATUS:CONFIRMED
CLASS:PUBLIC
URL:https://www.golnetwork.com/game/v/20544/
X-MICROSOFT-CDO-BUSYSTATUS:BUSY
X-MICROSOFT-CDO-IMPORTANCE:1
END:VEVENT
BEGIN:VEVENT
UID:g2529@games.golnetwork.com
LOCATION:CVM - Court #1
GEO:45.5146585;-73.5658635
CREATED:20120922T222938Z
DTSTART:20121210T000000Z
DTEND:20121210T010000Z
DTSTAMP:20260420T023616Z
SUMMARY:CORMIER vs. LIBERTA
DESCRIPTION:LIBERTA vs. CORMIERMore info: #50
X-ALT-DESC;FMTTYPE=text/html:<!DOCTYPE HTML PUBLIC "-//W3C//DTD HTML 3.2//E
	N">\n<HTML>\n<HEAD>\n<TITLE></TITLE>\n</HEAD>\n<BODY>\n<h3>LIBERTA vs. CORM
	IER</h3>More info: <a href="https://www.golnetwork.com/game/v/20538/">#50</
	a>\n\n</BODY>\n</HTML>
STATUS:CONFIRMED
CLASS:PUBLIC
URL:https://www.golnetwork.com/game/v/20538/
X-MICROSOFT-CDO-BUSYSTATUS:BUSY
X-MICROSOFT-CDO-IMPORTANCE:1
END:VEVENT
BEGIN:VEVENT
UID:g2521@games.golnetwork.com
LOCATION:CVM - Court #1
GEO:45.5146585;-73.5658635
CREATED:20120922T222938Z
DTSTART:20121202T233000Z
DTEND:20121203T003000Z
DTSTAMP:20260420T023616Z
SUMMARY:GLOBETROTTERS vs. CORMIER
DESCRIPTION:CORMIER vs. GLOBETROTTERSMore info: #44
X-ALT-DESC;FMTTYPE=text/html:<!DOCTYPE HTML PUBLIC "-//W3C//DTD HTML 3.2//E
	N">\n<HTML>\n<HEAD>\n<TITLE></TITLE>\n</HEAD>\n<BODY>\n<h3>CORMIER vs. GLOB
	ETROTTERS</h3>More info: <a href="https://www.golnetwork.com/game/v/20534/"
	>#44</a>\n\n</BODY>\n</HTML>
STATUS:CONFIRMED
CLASS:PUBLIC
URL:https://www.golnetwork.com/game/v/20534/
X-MICROSOFT-CDO-BUSYSTATUS:BUSY
X-MICROSOFT-CDO-IMPORTANCE:1
END:VEVENT
BEGIN:VEVENT
UID:g251g@games.golnetwork.com
LOCATION:CVM - Court #1
GEO:45.5146585;-73.5658635
CREATED:20120922T222938Z
DTSTART:20121126T013000Z
DTEND:20121126T023000Z
DTSTAMP:20260420T023616Z
SUMMARY:CORMIER vs. SUNSHINE
DESCRIPTION:SUNSHINE vs. CORMIERMore info: #40
X-ALT-DESC;FMTTYPE=text/html:<!DOCTYPE HTML PUBLIC "-//W3C//DTD HTML 3.2//E
	N">\n<HTML>\n<HEAD>\n<TITLE></TITLE>\n</HEAD>\n<BODY>\n<h3>SUNSHINE vs. COR
	MIER</h3>More info: <a href="https://www.golnetwork.com/game/v/20528/">#40<
	/a>\n\n</BODY>\n</HTML>
STATUS:CONFIRMED
CLASS:PUBLIC
URL:https://www.golnetwork.com/game/v/20528/
X-MICROSOFT-CDO-BUSYSTATUS:BUSY
X-MICROSOFT-CDO-IMPORTANCE:1
END:VEVENT
BEGIN:VEVENT
UID:g251a@games.golnetwork.com
LOCATION:CVM - Court #1
GEO:45.5146585;-73.5658635
CREATED:20120922T222938Z
DTSTART:20121118T223000Z
DTEND:20121118T233000Z
DTSTAMP:20260420T023616Z
SUMMARY:CORMIER vs. P SQUAD
DESCRIPTION:P SQUAD vs. CORMIERMore info: #31
X-ALT-DESC;FMTTYPE=text/html:<!DOCTYPE HTML PUBLIC "-//W3C//DTD HTML 3.2//E
	N">\n<HTML>\n<HEAD>\n<TITLE></TITLE>\n</HEAD>\n<BODY>\n<h3>P SQUAD vs. CORM
	IER</h3>More info: <a href="https://www.golnetwork.com/game/v/20525/">#31</
	a>\n\n</BODY>\n</HTML>
STATUS:CONFIRMED
CLASS:PUBLIC
URL:https://www.golnetwork.com/game/v/20525/
X-MICROSOFT-CDO-BUSYSTATUS:BUSY
X-MICROSOFT-CDO-IMPORTANCE:1
END:VEVENT
BEGIN:VEVENT
UID:g2514@games.golnetwork.com
LOCATION:CVM - Court #1
GEO:45.5146585;-73.5658635
CREATED:20120922T222938Z
DTSTART:20121111T233000Z
DTEND:20121112T003000Z
DTSTAMP:20260420T023616Z
SUMMARY:CORMIER vs. LIBERTA
DESCRIPTION:LIBERTA vs. CORMIERMore info: #26
X-ALT-DESC;FMTTYPE=text/html:<!DOCTYPE HTML PUBLIC "-//W3C//DTD HTML 3.2//E
	N">\n<HTML>\n<HEAD>\n<TITLE></TITLE>\n</HEAD>\n<BODY>\n<h3>LIBERTA vs. CORM
	IER</h3>More info: <a href="https://www.golnetwork.com/game/v/20522/">#26</
	a>\n\n</BODY>\n</HTML>
STATUS:CONFIRMED
CLASS:PUBLIC
URL:https://www.golnetwork.com/game/v/20522/
X-MICROSOFT-CDO-BUSYSTATUS:BUSY
X-MICROSOFT-CDO-IMPORTANCE:1
END:VEVENT
BEGIN:VEVENT
UID:g250n@games.golnetwork.com
LOCATION:CVM - Court #1
GEO:45.5146585;-73.5658635
CREATED:20120922T222938Z
DTSTART:20121104T223000Z
DTEND:20121104T233000Z
DTSTAMP:20260420T023616Z
SUMMARY:OLD SCHOOL LIONEL GROULX vs. CORMIER
DESCRIPTION:CORMIER vs. OLD SCHOOL LIONEL GROULXMore info: #19
X-ALT-DESC;FMTTYPE=text/html:<!DOCTYPE HTML PUBLIC "-//W3C//DTD HTML 3.2//E
	N">\n<HTML>\n<HEAD>\n<TITLE></TITLE>\n</HEAD>\n<BODY>\n<h3>CORMIER vs. OLD 
	SCHOOL LIONEL GROULX</h3>More info: <a href="https://www.golnetwork.com/gam
	e/v/20518/">#19</a>\n\n</BODY>\n</HTML>
STATUS:CONFIRMED
CLASS:PUBLIC
URL:https://www.golnetwork.com/game/v/20518/
X-MICROSOFT-CDO-BUSYSTATUS:BUSY
X-MICROSOFT-CDO-IMPORTANCE:1
END:VEVENT
BEGIN:VEVENT
UID:g250d@games.golnetwork.com
LOCATION:CVM - Court #1
GEO:45.5146585;-73.5658635
CREATED:20120922T222938Z
DTSTART:20121028T213000Z
DTEND:20121028T223000Z
DTSTAMP:20260420T023616Z
SUMMARY:NO NAME BALLERS vs. CORMIER
DESCRIPTION:CORMIER vs. NO NAME BALLERSMore info: #13
X-ALT-DESC;FMTTYPE=text/html:<!DOCTYPE HTML PUBLIC "-//W3C//DTD HTML 3.2//E
	N">\n<HTML>\n<HEAD>\n<TITLE></TITLE>\n</HEAD>\n<BODY>\n<h3>CORMIER vs. NO N
	AME BALLERS</h3>More info: <a href="https://www.golnetwork.com/game/v/20513
	/">#13</a>\n\n</BODY>\n</HTML>
STATUS:CONFIRMED
CLASS:PUBLIC
URL:https://www.golnetwork.com/game/v/20513/
X-MICROSOFT-CDO-BUSYSTATUS:BUSY
X-MICROSOFT-CDO-IMPORTANCE:1
END:VEVENT
BEGIN:VEVENT
UID:g2503@games.golnetwork.com
LOCATION:CVM - Court #1
GEO:45.5146585;-73.5658635
CREATED:20120922T222938Z
DTSTART:20121021T233000Z
DTEND:20121022T003000Z
DTSTAMP:20260420T023616Z
SUMMARY:GLOBETROTTERS vs. CORMIER
DESCRIPTION:CORMIER vs. GLOBETROTTERSMore info: #9
X-ALT-DESC;FMTTYPE=text/html:<!DOCTYPE HTML PUBLIC "-//W3C//DTD HTML 3.2//E
	N">\n<HTML>\n<HEAD>\n<TITLE></TITLE>\n</HEAD>\n<BODY>\n<h3>CORMIER vs. GLOB
	ETROTTERS</h3>More info: <a href="https://www.golnetwork.com/game/v/20508/"
	>#9</a>\n\n</BODY>\n</HTML>
STATUS:CONFIRMED
CLASS:PUBLIC
URL:https://www.golnetwork.com/game/v/20508/
X-MICROSOFT-CDO-BUSYSTATUS:BUSY
X-MICROSOFT-CDO-IMPORTANCE:1
END:VEVENT
BEGIN:VEVENT
UID:g24qk@games.golnetwork.com
LOCATION:CVM - Court #1
GEO:45.5146585;-73.5658635
CREATED:20120922T222938Z
DTSTART:20121014T213000Z
DTEND:20121014T223000Z
DTSTAMP:20260420T023616Z
SUMMARY:NINJA TURTLES vs. CORMIER
DESCRIPTION:CORMIER vs. NINJA TURTLESMore info: #1
X-ALT-DESC;FMTTYPE=text/html:<!DOCTYPE HTML PUBLIC "-//W3C//DTD HTML 3.2//E
	N">\n<HTML>\n<HEAD>\n<TITLE></TITLE>\n</HEAD>\n<BODY>\n<h3>CORMIER vs. NINJ
	A TURTLES</h3>More info: <a href="https://www.golnetwork.com/game/v/20503/"
	>#1</a>\n\n</BODY>\n</HTML>
STATUS:CONFIRMED
CLASS:PUBLIC
URL:https://www.golnetwork.com/game/v/20503/
X-MICROSOFT-CDO-BUSYSTATUS:BUSY
X-MICROSOFT-CDO-IMPORTANCE:1
END:VEVENT
END:VCALENDAR
