BEGIN:VCALENDAR
PRODID:-//gdesolutions.com//MV Framework 1.0.0.1607 Calendar//EN
VERSION:2.0
METHOD:PUBLISH
CALSCALE:GREGORIAN
BEGIN:VEVENT
UID:g1col@games.golnetwork.com
LOCATION:Trafalgar
GEO:45.4987672;-73.5845067
CREATED:20120424T160322Z
DTSTART:20120911T223000Z
DTEND:20120911T233000Z
DTSTAMP:20260423T180405Z
SUMMARY:BDO vs. CEPS
DESCRIPTION:CEPS vs. BDOMore info: #115
X-ALT-DESC;FMTTYPE=text/html:<!DOCTYPE HTML PUBLIC "-//W3C//DTD HTML 3.2//E
	N">\n<HTML>\n<HEAD>\n<TITLE></TITLE>\n</HEAD>\n<BODY>\n<h3>CEPS vs. BDO</h3
	>More info: <a href="https://www.golnetwork.com/game/v/13551/">#115</a>\n\n
	</BODY>\n</HTML>
STATUS:CONFIRMED
CLASS:PUBLIC
URL:https://www.golnetwork.com/game/v/13551/
X-MICROSOFT-CDO-BUSYSTATUS:BUSY
X-MICROSOFT-CDO-IMPORTANCE:1
END:VEVENT
END:VCALENDAR
