BEGIN:VCALENDAR
PRODID:-//gdesolutions.com//MV Framework 1.0.0.1607 Calendar//EN
VERSION:2.0
METHOD:PUBLISH
CALSCALE:GREGORIAN
BEGIN:VEVENT
UID:g1q4p@games.golnetwork.com
LOCATION:Danforth Tech 2
CREATED:20120829T122803Z
DTSTART:20120829T221500Z
DTEND:20120829T233000Z
DTSTAMP:20260423T134138Z
SUMMARY:Goonies (Green) vs. Red Hot Cane Toads
DESCRIPTION:Red Hot Cane Toads vs. Goonies (Green)More info: #378
X-ALT-DESC;FMTTYPE=text/html:<!DOCTYPE HTML PUBLIC "-//W3C//DTD HTML 3.2//E
	N">\n<HTML>\n<HEAD>\n<TITLE></TITLE>\n</HEAD>\n<BODY>\n<h3>Red Hot Cane Toa
	ds vs. Goonies (Green)</h3>More info: <a href="https://www.golnetwork.com/g
	ame/v/18386/">#378</a>\n\n</BODY>\n</HTML>
STATUS:CONFIRMED
CLASS:PUBLIC
URL:https://www.golnetwork.com/game/v/18386/
X-MICROSOFT-CDO-BUSYSTATUS:BUSY
X-MICROSOFT-CDO-IMPORTANCE:1
END:VEVENT
BEGIN:VEVENT
UID:g1naq@games.golnetwork.com
LOCATION:Danforth Tech 2
CREATED:20120706T210117Z
DTSTART:20120822T223000Z
DTEND:20120822T233500Z
DTSTAMP:20260423T134138Z
SUMMARY:Lazy Pandas vs. Red Hot Cane Toads
DESCRIPTION:Red Hot Cane Toads vs. Lazy PandasMore info: #331
X-ALT-DESC;FMTTYPE=text/html:<!DOCTYPE HTML PUBLIC "-//W3C//DTD HTML 3.2//E
	N">\n<HTML>\n<HEAD>\n<TITLE></TITLE>\n</HEAD>\n<BODY>\n<h3>Red Hot Cane Toa
	ds vs. Lazy Pandas</h3>More info: <a href="https://www.golnetwork.com/game/
	v/17374/">#331</a>\n\n</BODY>\n</HTML>
STATUS:CONFIRMED
CLASS:PUBLIC
URL:https://www.golnetwork.com/game/v/17374/
X-MICROSOFT-CDO-BUSYSTATUS:BUSY
X-MICROSOFT-CDO-IMPORTANCE:1
END:VEVENT
BEGIN:VEVENT
UID:g1nag@games.golnetwork.com
LOCATION:Danforth Tech field
CREATED:20120706T210117Z
DTSTART:20120815T223000Z
DTEND:20120815T233500Z
DTSTAMP:20260423T134138Z
SUMMARY:Red Hot Cane Toads vs. Bumble Cleats (Yellow)
DESCRIPTION:Bumble Cleats (Yellow) vs. Red Hot Cane ToadsMore info: #276
X-ALT-DESC;FMTTYPE=text/html:<!DOCTYPE HTML PUBLIC "-//W3C//DTD HTML 3.2//E
	N">\n<HTML>\n<HEAD>\n<TITLE></TITLE>\n</HEAD>\n<BODY>\n<h3>Bumble Cleats (Y
	ellow) vs. Red Hot Cane Toads</h3>More info: <a href="https://www.golnetwor
	k.com/game/v/17369/">#276</a>\n\n</BODY>\n</HTML>
STATUS:CONFIRMED
CLASS:PUBLIC
URL:https://www.golnetwork.com/game/v/17369/
X-MICROSOFT-CDO-BUSYSTATUS:BUSY
X-MICROSOFT-CDO-IMPORTANCE:1
END:VEVENT
BEGIN:VEVENT
UID:g1naa@games.golnetwork.com
LOCATION:Danforth Tech 2
CREATED:20120706T210117Z
DTSTART:20120808T223000Z
DTEND:20120808T233500Z
DTSTAMP:20260423T134138Z
SUMMARY:Red Hot Cane Toads vs. Aztecas
DESCRIPTION:Aztecas vs. Red Hot Cane ToadsMore info: #225
X-ALT-DESC;FMTTYPE=text/html:<!DOCTYPE HTML PUBLIC "-//W3C//DTD HTML 3.2//E
	N">\n<HTML>\n<HEAD>\n<TITLE></TITLE>\n</HEAD>\n<BODY>\n<h3>Aztecas vs. Red 
	Hot Cane Toads</h3>More info: <a href="https://www.golnetwork.com/game/v/17
	366/">#225</a>\n\n</BODY>\n</HTML>
STATUS:CONFIRMED
CLASS:PUBLIC
URL:https://www.golnetwork.com/game/v/17366/
X-MICROSOFT-CDO-BUSYSTATUS:BUSY
X-MICROSOFT-CDO-IMPORTANCE:1
END:VEVENT
BEGIN:VEVENT
UID:g1na4@games.golnetwork.com
LOCATION:Danforth Tech field
CREATED:20120706T210117Z
DTSTART:20120801T233500Z
DTEND:20120802T004000Z
DTSTAMP:20260423T134138Z
SUMMARY:Red Hot Cane Toads vs. Goonies (Green)
DESCRIPTION:Goonies (Green) vs. Red Hot Cane ToadsMore info: #188
X-ALT-DESC;FMTTYPE=text/html:<!DOCTYPE HTML PUBLIC "-//W3C//DTD HTML 3.2//E
	N">\n<HTML>\n<HEAD>\n<TITLE></TITLE>\n</HEAD>\n<BODY>\n<h3>Goonies (Green) 
	vs. Red Hot Cane Toads</h3>More info: <a href="https://www.golnetwork.com/g
	ame/v/17363/">#188</a>\n\n</BODY>\n</HTML>
STATUS:CONFIRMED
CLASS:PUBLIC
URL:https://www.golnetwork.com/game/v/17363/
X-MICROSOFT-CDO-BUSYSTATUS:BUSY
X-MICROSOFT-CDO-IMPORTANCE:1
END:VEVENT
BEGIN:VEVENT
UID:g1n9p@games.golnetwork.com
LOCATION:Danforth Tech 2
CREATED:20120706T210117Z
DTSTART:20120725T233500Z
DTEND:20120726T004000Z
DTSTAMP:20260423T134138Z
SUMMARY:Red Hot Cane Toads vs. Marketwired FC
DESCRIPTION:Marketwired FC vs. Red Hot Cane ToadsMore info: #133
X-ALT-DESC;FMTTYPE=text/html:<!DOCTYPE HTML PUBLIC "-//W3C//DTD HTML 3.2//E
	N">\n<HTML>\n<HEAD>\n<TITLE></TITLE>\n</HEAD>\n<BODY>\n<h3>Marketwired FC v
	s. Red Hot Cane Toads</h3>More info: <a href="https://www.golnetwork.com/ga
	me/v/17360/">#133</a>\n\n</BODY>\n</HTML>
STATUS:CONFIRMED
CLASS:PUBLIC
URL:https://www.golnetwork.com/game/v/17360/
X-MICROSOFT-CDO-BUSYSTATUS:BUSY
X-MICROSOFT-CDO-IMPORTANCE:1
END:VEVENT
BEGIN:VEVENT
UID:g1n9h@games.golnetwork.com
LOCATION:Danforth Tech 2
CREATED:20120706T210117Z
DTSTART:20120718T233500Z
DTEND:20120719T004000Z
DTSTAMP:20260423T134138Z
SUMMARY:The Muppets vs. Red Hot Cane Toads
DESCRIPTION:Red Hot Cane Toads vs. The MuppetsMore info: #75
X-ALT-DESC;FMTTYPE=text/html:<!DOCTYPE HTML PUBLIC "-//W3C//DTD HTML 3.2//E
	N">\n<HTML>\n<HEAD>\n<TITLE></TITLE>\n</HEAD>\n<BODY>\n<h3>Red Hot Cane Toa
	ds vs. The Muppets</h3>More info: <a href="https://www.golnetwork.com/game/
	v/17356/">#75</a>\n\n</BODY>\n</HTML>
STATUS:CONFIRMED
CLASS:PUBLIC
URL:https://www.golnetwork.com/game/v/17356/
X-MICROSOFT-CDO-BUSYSTATUS:BUSY
X-MICROSOFT-CDO-IMPORTANCE:1
END:VEVENT
BEGIN:VEVENT
UID:g1n97@games.golnetwork.com
LOCATION:Danforth Tech field
CREATED:20120706T210117Z
DTSTART:20120711T233500Z
DTEND:20120712T004000Z
DTSTAMP:20260423T134138Z
SUMMARY:The 1 and Onlys vs. Red Hot Cane Toads
DESCRIPTION:Red Hot Cane Toads vs. The 1 and OnlysMore info: #25
X-ALT-DESC;FMTTYPE=text/html:<!DOCTYPE HTML PUBLIC "-//W3C//DTD HTML 3.2//E
	N">\n<HTML>\n<HEAD>\n<TITLE></TITLE>\n</HEAD>\n<BODY>\n<h3>Red Hot Cane Toa
	ds vs. The 1 and Onlys</h3>More info: <a href="https://www.golnetwork.com/g
	ame/v/17351/">#25</a>\n\n</BODY>\n</HTML>
STATUS:CONFIRMED
CLASS:PUBLIC
URL:https://www.golnetwork.com/game/v/17351/
X-MICROSOFT-CDO-BUSYSTATUS:BUSY
X-MICROSOFT-CDO-IMPORTANCE:1
END:VEVENT
END:VCALENDAR
