BEGIN:VCALENDAR
PRODID:-//gdesolutions.com//MV Framework 1.0.0.1607 Calendar//EN
VERSION:2.0
METHOD:PUBLISH
CALSCALE:GREGORIAN
BEGIN:VEVENT
UID:g1g30@games.golnetwork.com
LOCATION:Jesse Ketchum 2
GEO:45.10662;-94.578209
CREATED:20120501T202621Z
DTSTART:20120625T220500Z
DTEND:20120625T231000Z
DTSTAMP:20260420T011659Z
SUMMARY:Chimmichurris vs. Awesomesauce FC (White)
DESCRIPTION:Awesomesauce FC (White) vs. ChimmichurrisMore info: #332
X-ALT-DESC;FMTTYPE=text/html:<!DOCTYPE HTML PUBLIC "-//W3C//DTD HTML 3.2//E
	N">\n<HTML>\n<HEAD>\n<TITLE></TITLE>\n</HEAD>\n<BODY>\n<h3>Awesomesauce FC 
	(White) vs. Chimmichurris</h3>More info: <a href="https://www.golnetwork.co
	m/game/v/14715/">#332</a>\n\n</BODY>\n</HTML>
STATUS:CONFIRMED
CLASS:PUBLIC
URL:https://www.golnetwork.com/game/v/14715/
X-MICROSOFT-CDO-BUSYSTATUS:BUSY
X-MICROSOFT-CDO-IMPORTANCE:1
END:VEVENT
BEGIN:VEVENT
UID:g1g2n@games.golnetwork.com
LOCATION:Jesse Ketchum 1
GEO:45.10662;-94.578209
CREATED:20120501T202621Z
DTSTART:20120619T001500Z
DTEND:20120619T012000Z
DTSTAMP:20260420T011659Z
SUMMARY:EFC vs. Awesomesauce FC (White)
DESCRIPTION:Awesomesauce FC (White) vs. EFCMore info: #286
X-ALT-DESC;FMTTYPE=text/html:<!DOCTYPE HTML PUBLIC "-//W3C//DTD HTML 3.2//E
	N">\n<HTML>\n<HEAD>\n<TITLE></TITLE>\n</HEAD>\n<BODY>\n<h3>Awesomesauce FC 
	(White) vs. EFC</h3>More info: <a href="https://www.golnetwork.com/game/v/1
	4713/">#286</a>\n\n</BODY>\n</HTML>
STATUS:CONFIRMED
CLASS:PUBLIC
URL:https://www.golnetwork.com/game/v/14713/
X-MICROSOFT-CDO-BUSYSTATUS:BUSY
X-MICROSOFT-CDO-IMPORTANCE:1
END:VEVENT
BEGIN:VEVENT
UID:g1g23@games.golnetwork.com
LOCATION:Jesse Ketchum 2
GEO:45.10662;-94.578209
CREATED:20120501T202621Z
DTSTART:20120611T220500Z
DTEND:20120611T231000Z
DTSTAMP:20260420T011659Z
SUMMARY:Cool Runnings vs. Awesomesauce FC (White)
DESCRIPTION:Awesomesauce FC (White) vs. Cool RunningsMore info: #216
X-ALT-DESC;FMTTYPE=text/html:<!DOCTYPE HTML PUBLIC "-//W3C//DTD HTML 3.2//E
	N">\n<HTML>\n<HEAD>\n<TITLE></TITLE>\n</HEAD>\n<BODY>\n<h3>Awesomesauce FC 
	(White) vs. Cool Runnings</h3>More info: <a href="https://www.golnetwork.co
	m/game/v/14703/">#216</a>\n\n</BODY>\n</HTML>
STATUS:CONFIRMED
CLASS:PUBLIC
URL:https://www.golnetwork.com/game/v/14703/
X-MICROSOFT-CDO-BUSYSTATUS:BUSY
X-MICROSOFT-CDO-IMPORTANCE:1
END:VEVENT
BEGIN:VEVENT
UID:g1g21@games.golnetwork.com
LOCATION:Jesse Ketchum 2
GEO:45.10662;-94.578209
CREATED:20120501T202621Z
DTSTART:20120605T001500Z
DTEND:20120605T012000Z
DTSTAMP:20260420T011659Z
SUMMARY:Los Conquistadors (Blue) vs. Awesomesauce FC (White)
DESCRIPTION:Awesomesauce FC (White) vs. Los Conquistadors (Blue)More info: 
	#174
X-ALT-DESC;FMTTYPE=text/html:<!DOCTYPE HTML PUBLIC "-//W3C//DTD HTML 3.2//E
	N">\n<HTML>\n<HEAD>\n<TITLE></TITLE>\n</HEAD>\n<BODY>\n<h3>Awesomesauce FC 
	(White) vs. Los Conquistadors (Blue)</h3>More info: <a href="https://www.go
	lnetwork.com/game/v/14702/">#174</a>\n\n</BODY>\n</HTML>
STATUS:CONFIRMED
CLASS:PUBLIC
URL:https://www.golnetwork.com/game/v/14702/
X-MICROSOFT-CDO-BUSYSTATUS:BUSY
X-MICROSOFT-CDO-IMPORTANCE:1
END:VEVENT
BEGIN:VEVENT
UID:g1g1c@games.golnetwork.com
LOCATION:Jesse Ketchum 1
GEO:45.10662;-94.578209
CREATED:20120501T202620Z
DTSTART:20120528T231000Z
DTEND:20120529T001500Z
DTSTAMP:20260420T011659Z
SUMMARY:Scoregasms FC (Blue/White) vs. Awesomesauce FC (White)
DESCRIPTION:Awesomesauce FC (White) vs. Scoregasms FC (Blue/White)More info
	: #111
X-ALT-DESC;FMTTYPE=text/html:<!DOCTYPE HTML PUBLIC "-//W3C//DTD HTML 3.2//E
	N">\n<HTML>\n<HEAD>\n<TITLE></TITLE>\n</HEAD>\n<BODY>\n<h3>Awesomesauce FC 
	(White) vs. Scoregasms FC (Blue/White)</h3>More info: <a href="https://www.
	golnetwork.com/game/v/14694/">#111</a>\n\n</BODY>\n</HTML>
STATUS:CONFIRMED
CLASS:PUBLIC
URL:https://www.golnetwork.com/game/v/14694/
X-MICROSOFT-CDO-BUSYSTATUS:BUSY
X-MICROSOFT-CDO-IMPORTANCE:1
END:VEVENT
BEGIN:VEVENT
UID:g1g0l@games.golnetwork.com
LOCATION:Jesse Ketchum 2
GEO:45.10662;-94.578209
CREATED:20120501T202620Z
DTSTART:20120521T220500Z
DTEND:20120521T231000Z
DTSTAMP:20260420T011659Z
SUMMARY:Awesomesauce FC (White) vs. No One Wanted to Sign (Light Blue)
DESCRIPTION:No One Wanted to Sign (Light Blue) vs. Awesomesauce FC (White)M
	ore info: #49
X-ALT-DESC;FMTTYPE=text/html:<!DOCTYPE HTML PUBLIC "-//W3C//DTD HTML 3.2//E
	N">\n<HTML>\n<HEAD>\n<TITLE></TITLE>\n</HEAD>\n<BODY>\n<h3>No One Wanted to
	 Sign (Light Blue) vs. Awesomesauce FC (White)</h3>More info: <a href="http
	s://www.golnetwork.com/game/v/14685/">#49</a>\n\n</BODY>\n</HTML>
STATUS:CONFIRMED
CLASS:PUBLIC
URL:https://www.golnetwork.com/game/v/14685/
X-MICROSOFT-CDO-BUSYSTATUS:BUSY
X-MICROSOFT-CDO-IMPORTANCE:1
END:VEVENT
BEGIN:VEVENT
UID:g1g09@games.golnetwork.com
LOCATION:Jesse Ketchum 2
GEO:45.10662;-94.578209
CREATED:20120501T202620Z
DTSTART:20120514T220500Z
DTEND:20120514T231000Z
DTSTAMP:20260420T011659Z
SUMMARY:Hard Working Manpants vs. Awesomesauce FC (White)
DESCRIPTION:Awesomesauce FC (White) vs. Hard Working ManpantsMore info: #14
X-ALT-DESC;FMTTYPE=text/html:<!DOCTYPE HTML PUBLIC "-//W3C//DTD HTML 3.2//E
	N">\n<HTML>\n<HEAD>\n<TITLE></TITLE>\n</HEAD>\n<BODY>\n<h3>Awesomesauce FC 
	(White) vs. Hard Working Manpants</h3>More info: <a href="https://www.golne
	twork.com/game/v/14679/">#14</a>\n\n</BODY>\n</HTML>
STATUS:CONFIRMED
CLASS:PUBLIC
URL:https://www.golnetwork.com/game/v/14679/
X-MICROSOFT-CDO-BUSYSTATUS:BUSY
X-MICROSOFT-CDO-IMPORTANCE:1
END:VEVENT
BEGIN:VEVENT
UID:g1fqo@games.golnetwork.com
LOCATION:Jesse Ketchum 2
GEO:45.10662;-94.578209
CREATED:20120501T202620Z
DTSTART:20120507T220500Z
DTEND:20120507T231000Z
DTSTAMP:20260420T011659Z
SUMMARY:Awesomesauce FC (White) vs. Sapient FC (Black)
DESCRIPTION:Sapient FC (Black) vs. Awesomesauce FC (White)More info: #2
X-ALT-DESC;FMTTYPE=text/html:<!DOCTYPE HTML PUBLIC "-//W3C//DTD HTML 3.2//E
	N">\n<HTML>\n<HEAD>\n<TITLE></TITLE>\n</HEAD>\n<BODY>\n<h3>Sapient FC (Blac
	k) vs. Awesomesauce FC (White)</h3>More info: <a href="https://www.golnetwo
	rk.com/game/v/14673/">#2</a>\n\n</BODY>\n</HTML>
STATUS:CONFIRMED
CLASS:PUBLIC
URL:https://www.golnetwork.com/game/v/14673/
X-MICROSOFT-CDO-BUSYSTATUS:BUSY
X-MICROSOFT-CDO-IMPORTANCE:1
END:VEVENT
END:VCALENDAR
