BEGIN:VCALENDAR
PRODID:-//gdesolutions.com//MV Framework 1.0.0.1607 Calendar//EN
VERSION:2.0
METHOD:PUBLISH
CALSCALE:GREGORIAN
BEGIN:VEVENT
UID:g1mk7@games.golnetwork.com
LOCATION:Jesse Ketchum 1
GEO:45.10662;-94.578209
CREATED:20120627T014512Z
DTSTART:20120820T221500Z
DTEND:20120820T233000Z
DTSTAMP:20260420T071425Z
SUMMARY:Cool Runnings vs. Los Conquistadors (Blue)
DESCRIPTION:Los Conquistadors (Blue) vs. Cool RunningsMore info: #307
X-ALT-DESC;FMTTYPE=text/html:<!DOCTYPE HTML PUBLIC "-//W3C//DTD HTML 3.2//E
	N">\n<HTML>\n<HEAD>\n<TITLE></TITLE>\n</HEAD>\n<BODY>\n<h3>Los Conquistador
	s (Blue) vs. Cool Runnings</h3>More info: <a href="https://www.golnetwork.c
	om/game/v/17135/">#307</a>\n\n</BODY>\n</HTML>
STATUS:CONFIRMED
CLASS:PUBLIC
URL:https://www.golnetwork.com/game/v/17135/
X-MICROSOFT-CDO-BUSYSTATUS:BUSY
X-MICROSOFT-CDO-IMPORTANCE:1
END:VEVENT
BEGIN:VEVENT
UID:g1mk3@games.golnetwork.com
LOCATION:Jesse Ketchum 2
GEO:45.10662;-94.578209
CREATED:20120627T014512Z
DTSTART:20120813T233000Z
DTEND:20120814T004500Z
DTSTAMP:20260420T071425Z
SUMMARY:Sapient FC (Black) vs. Los Conquistadors (Blue)
DESCRIPTION:Los Conquistadors (Blue) vs. Sapient FC (Black)More info: #258
X-ALT-DESC;FMTTYPE=text/html:<!DOCTYPE HTML PUBLIC "-//W3C//DTD HTML 3.2//E
	N">\n<HTML>\n<HEAD>\n<TITLE></TITLE>\n</HEAD>\n<BODY>\n<h3>Los Conquistador
	s (Blue) vs. Sapient FC (Black)</h3>More info: <a href="https://www.golnetw
	ork.com/game/v/17133/">#258</a>\n\n</BODY>\n</HTML>
STATUS:CONFIRMED
CLASS:PUBLIC
URL:https://www.golnetwork.com/game/v/17133/
X-MICROSOFT-CDO-BUSYSTATUS:BUSY
X-MICROSOFT-CDO-IMPORTANCE:1
END:VEVENT
BEGIN:VEVENT
UID:g1mji@games.golnetwork.com
LOCATION:Jesse Ketchum 1
GEO:45.10662;-94.578209
CREATED:20120627T014512Z
DTSTART:20120806T221500Z
DTEND:20120806T233000Z
DTSTAMP:20260420T071425Z
SUMMARY:Awesomesauce FC (White) vs. Los Conquistadors (Blue)
DESCRIPTION:Los Conquistadors (Blue) vs. Awesomesauce FC (White)More info: 
	#203
X-ALT-DESC;FMTTYPE=text/html:<!DOCTYPE HTML PUBLIC "-//W3C//DTD HTML 3.2//E
	N">\n<HTML>\n<HEAD>\n<TITLE></TITLE>\n</HEAD>\n<BODY>\n<h3>Los Conquistador
	s (Blue) vs. Awesomesauce FC (White)</h3>More info: <a href="https://www.go
	lnetwork.com/game/v/17127/">#203</a>\n\n</BODY>\n</HTML>
STATUS:CONFIRMED
CLASS:PUBLIC
URL:https://www.golnetwork.com/game/v/17127/
X-MICROSOFT-CDO-BUSYSTATUS:BUSY
X-MICROSOFT-CDO-IMPORTANCE:1
END:VEVENT
BEGIN:VEVENT
UID:g1mjc@games.golnetwork.com
LOCATION:Jesse Ketchum 2
GEO:45.10662;-94.578209
CREATED:20120627T014512Z
DTSTART:20120730T221500Z
DTEND:20120730T233000Z
DTSTAMP:20260420T071425Z
SUMMARY:Los Conquistadors (Blue) vs. Semifinals Samba (Black)
DESCRIPTION:Semifinals Samba (Black) vs. Los Conquistadors (Blue)More info:
	 #159
X-ALT-DESC;FMTTYPE=text/html:<!DOCTYPE HTML PUBLIC "-//W3C//DTD HTML 3.2//E
	N">\n<HTML>\n<HEAD>\n<TITLE></TITLE>\n</HEAD>\n<BODY>\n<h3>Semifinals Samba
	 (Black) vs. Los Conquistadors (Blue)</h3>More info: <a href="https://www.g
	olnetwork.com/game/v/17124/">#159</a>\n\n</BODY>\n</HTML>
STATUS:CONFIRMED
CLASS:PUBLIC
URL:https://www.golnetwork.com/game/v/17124/
X-MICROSOFT-CDO-BUSYSTATUS:BUSY
X-MICROSOFT-CDO-IMPORTANCE:1
END:VEVENT
BEGIN:VEVENT
UID:g1mj4@games.golnetwork.com
LOCATION:Jesse Ketchum 1
GEO:45.10662;-94.578209
CREATED:20120627T014054Z
DTSTART:20120723T223000Z
DTEND:20120723T234500Z
DTSTAMP:20260420T071425Z
SUMMARY:Cool Runnings vs. Los Conquistadors (Blue)
DESCRIPTION:Los Conquistadors (Blue) vs. Cool RunningsMore info: #104
X-ALT-DESC;FMTTYPE=text/html:<!DOCTYPE HTML PUBLIC "-//W3C//DTD HTML 3.2//E
	N">\n<HTML>\n<HEAD>\n<TITLE></TITLE>\n</HEAD>\n<BODY>\n<h3>Los Conquistador
	s (Blue) vs. Cool Runnings</h3>More info: <a href="https://www.golnetwork.c
	om/game/v/17120/">#104</a>\n\n</BODY>\n</HTML>
STATUS:CONFIRMED
CLASS:PUBLIC
URL:https://www.golnetwork.com/game/v/17120/
X-MICROSOFT-CDO-BUSYSTATUS:BUSY
X-MICROSOFT-CDO-IMPORTANCE:1
END:VEVENT
BEGIN:VEVENT
UID:g1mil@games.golnetwork.com
LOCATION:Jesse Ketchum 1
GEO:45.10662;-94.578209
CREATED:20120627T014054Z
DTSTART:20120716T223000Z
DTEND:20120716T234500Z
DTSTAMP:20260420T071425Z
SUMMARY:P&G Pumas (Blue) vs. Los Conquistadors (Blue)
DESCRIPTION:Los Conquistadors (Blue) vs. P&G Pumas (Blue)More info: #46
X-ALT-DESC;FMTTYPE=text/html:<!DOCTYPE HTML PUBLIC "-//W3C//DTD HTML 3.2//E
	N">\n<HTML>\n<HEAD>\n<TITLE></TITLE>\n</HEAD>\n<BODY>\n<h3>Los Conquistador
	s (Blue) vs. P&G Pumas (Blue)</h3>More info: <a href="https://www.golnetwor
	k.com/game/v/17115/">#46</a>\n\n</BODY>\n</HTML>
STATUS:CONFIRMED
CLASS:PUBLIC
URL:https://www.golnetwork.com/game/v/17115/
X-MICROSOFT-CDO-BUSYSTATUS:BUSY
X-MICROSOFT-CDO-IMPORTANCE:1
END:VEVENT
BEGIN:VEVENT
UID:g1mif@games.golnetwork.com
LOCATION:Jesse Ketchum 2
GEO:45.10662;-94.578209
CREATED:20120627T014054Z
DTSTART:20120709T223000Z
DTEND:20120709T234500Z
DTSTAMP:20260420T071425Z
SUMMARY:Los Conquistadors (Blue) vs. Awesomesauce FC (White)
DESCRIPTION:Awesomesauce FC (White) vs. Los Conquistadors (Blue)More info: 
	#6
X-ALT-DESC;FMTTYPE=text/html:<!DOCTYPE HTML PUBLIC "-//W3C//DTD HTML 3.2//E
	N">\n<HTML>\n<HEAD>\n<TITLE></TITLE>\n</HEAD>\n<BODY>\n<h3>Awesomesauce FC 
	(White) vs. Los Conquistadors (Blue)</h3>More info: <a href="https://www.go
	lnetwork.com/game/v/17112/">#6</a>\n\n</BODY>\n</HTML>
STATUS:CONFIRMED
CLASS:PUBLIC
URL:https://www.golnetwork.com/game/v/17112/
X-MICROSOFT-CDO-BUSYSTATUS:BUSY
X-MICROSOFT-CDO-IMPORTANCE:1
END:VEVENT
BEGIN:VEVENT
UID:g1mi9@games.golnetwork.com
LOCATION:Jesse Ketchum 2
GEO:45.10662;-94.578209
CREATED:20120627T014054Z
DTSTART:20120702T234500Z
DTEND:20120703T010000Z
DTSTAMP:20260420T071425Z
SUMMARY:Los Conquistadors (Blue) vs. Sapient FC (Black)
DESCRIPTION:Sapient FC (Black) vs. Los Conquistadors (Blue)More info: #4
X-ALT-DESC;FMTTYPE=text/html:<!DOCTYPE HTML PUBLIC "-//W3C//DTD HTML 3.2//E
	N">\n<HTML>\n<HEAD>\n<TITLE></TITLE>\n</HEAD>\n<BODY>\n<h3>Sapient FC (Blac
	k) vs. Los Conquistadors (Blue)</h3>More info: <a href="https://www.golnetw
	ork.com/game/v/17109/">#4</a>\n\n</BODY>\n</HTML>
STATUS:CONFIRMED
CLASS:PUBLIC
URL:https://www.golnetwork.com/game/v/17109/
X-MICROSOFT-CDO-BUSYSTATUS:BUSY
X-MICROSOFT-CDO-IMPORTANCE:1
END:VEVENT
END:VCALENDAR
