BEGIN:VCALENDAR
PRODID:-//gdesolutions.com//MV Framework 1.0.0.1607 Calendar//EN
VERSION:2.0
METHOD:PUBLISH
CALSCALE:GREGORIAN
BEGIN:VEVENT
UID:g1e76@games.golnetwork.com
LOCATION:Ben Weider #1
GEO:45.488223;-73.634105
CREATED:20120427T000018Z
DTSTART:20120915T153000Z
DTEND:20120915T163000Z
DTSTAMP:20260422T160856Z
SUMMARY:X PISTOLS vs. MILTON PARC
DESCRIPTION:MILTON PARC vs. X PISTOLSMore info: #60
X-ALT-DESC;FMTTYPE=text/html:<!DOCTYPE HTML PUBLIC "-//W3C//DTD HTML 3.2//E
	N">\n<HTML>\n<HEAD>\n<TITLE></TITLE>\n</HEAD>\n<BODY>\n<h3>MILTON PARC vs. 
	X PISTOLS</h3>More info: <a href="https://www.golnetwork.com/game/v/14043/"
	>#60</a>\n\n</BODY>\n</HTML>
STATUS:CONFIRMED
CLASS:PUBLIC
URL:https://www.golnetwork.com/game/v/14043/
X-MICROSOFT-CDO-BUSYSTATUS:BUSY
X-MICROSOFT-CDO-IMPORTANCE:1
END:VEVENT
BEGIN:VEVENT
UID:g1e5o@games.golnetwork.com
LOCATION:Ben Weider #1
GEO:45.488223;-73.634105
CREATED:20120427T000018Z
DTSTART:20120908T143000Z
DTEND:20120908T153000Z
DTSTAMP:20260422T160856Z
SUMMARY:RETRO vs. MILTON PARC
DESCRIPTION:MILTON PARC vs. RETROMore info: #55
X-ALT-DESC;FMTTYPE=text/html:<!DOCTYPE HTML PUBLIC "-//W3C//DTD HTML 3.2//E
	N">\n<HTML>\n<HEAD>\n<TITLE></TITLE>\n</HEAD>\n<BODY>\n<h3>MILTON PARC vs. 
	RETRO</h3>More info: <a href="https://www.golnetwork.com/game/v/14025/">#55
	</a>\n\n</BODY>\n</HTML>
STATUS:CONFIRMED
CLASS:PUBLIC
URL:https://www.golnetwork.com/game/v/14025/
X-MICROSOFT-CDO-BUSYSTATUS:BUSY
X-MICROSOFT-CDO-IMPORTANCE:1
END:VEVENT
BEGIN:VEVENT
UID:g1e70@games.golnetwork.com
LOCATION:Ben Weider #1
GEO:45.488223;-73.634105
CREATED:20120427T000018Z
DTSTART:20120828T013000Z
DTEND:20120828T023000Z
DTSTAMP:20260422T160856Z
SUMMARY:MILTON PARC vs. RETRO
DESCRIPTION:RETRO vs. MILTON PARCMore info: #54
X-ALT-DESC;FMTTYPE=text/html:<!DOCTYPE HTML PUBLIC "-//W3C//DTD HTML 3.2//E
	N">\n<HTML>\n<HEAD>\n<TITLE></TITLE>\n</HEAD>\n<BODY>\n<h3>RETRO vs. MILTON
	 PARC</h3>More info: <a href="https://www.golnetwork.com/game/v/14040/">#54
	</a>\n\n</BODY>\n</HTML>
STATUS:CONFIRMED
CLASS:PUBLIC
URL:https://www.golnetwork.com/game/v/14040/
X-MICROSOFT-CDO-BUSYSTATUS:BUSY
X-MICROSOFT-CDO-IMPORTANCE:1
END:VEVENT
BEGIN:VEVENT
UID:g1e6p@games.golnetwork.com
LOCATION:Ben Weider #1
GEO:45.488223;-73.634105
CREATED:20120427T000018Z
DTSTART:20120818T153000Z
DTEND:20120818T163000Z
DTSTAMP:20260422T160856Z
SUMMARY:MILTON PARC vs. OLD SCHOOL BALLERS
DESCRIPTION:OLD SCHOOL BALLERS vs. MILTON PARCMore info: #48
X-ALT-DESC;FMTTYPE=text/html:<!DOCTYPE HTML PUBLIC "-//W3C//DTD HTML 3.2//E
	N">\n<HTML>\n<HEAD>\n<TITLE></TITLE>\n</HEAD>\n<BODY>\n<h3>OLD SCHOOL BALLE
	RS vs. MILTON PARC</h3>More info: <a href="https://www.golnetwork.com/game/
	v/14039/">#48</a>\n\n</BODY>\n</HTML>
STATUS:CONFIRMED
CLASS:PUBLIC
URL:https://www.golnetwork.com/game/v/14039/
X-MICROSOFT-CDO-BUSYSTATUS:BUSY
X-MICROSOFT-CDO-IMPORTANCE:1
END:VEVENT
BEGIN:VEVENT
UID:g1e6l@games.golnetwork.com
LOCATION:Ben Weider #1
GEO:45.488223;-73.634105
CREATED:20120427T000018Z
DTSTART:20120811T143000Z
DTEND:20120811T153000Z
DTSTAMP:20260422T160856Z
SUMMARY:X PISTOLS vs. MILTON PARC
DESCRIPTION:MILTON PARC vs. X PISTOLSMore info: #43
X-ALT-DESC;FMTTYPE=text/html:<!DOCTYPE HTML PUBLIC "-//W3C//DTD HTML 3.2//E
	N">\n<HTML>\n<HEAD>\n<TITLE></TITLE>\n</HEAD>\n<BODY>\n<h3>MILTON PARC vs. 
	X PISTOLS</h3>More info: <a href="https://www.golnetwork.com/game/v/14037/"
	>#43</a>\n\n</BODY>\n</HTML>
STATUS:CONFIRMED
CLASS:PUBLIC
URL:https://www.golnetwork.com/game/v/14037/
X-MICROSOFT-CDO-BUSYSTATUS:BUSY
X-MICROSOFT-CDO-IMPORTANCE:1
END:VEVENT
BEGIN:VEVENT
UID:g1e6f@games.golnetwork.com
LOCATION:Ben Weider #1
GEO:45.488223;-73.634105
CREATED:20120427T000018Z
DTSTART:20120804T143000Z
DTEND:20120804T153000Z
DTSTAMP:20260422T160856Z
SUMMARY:MILTON PARC vs. RETRO
DESCRIPTION:RETRO vs. MILTON PARCMore info: #39
X-ALT-DESC;FMTTYPE=text/html:<!DOCTYPE HTML PUBLIC "-//W3C//DTD HTML 3.2//E
	N">\n<HTML>\n<HEAD>\n<TITLE></TITLE>\n</HEAD>\n<BODY>\n<h3>RETRO vs. MILTON
	 PARC</h3>More info: <a href="https://www.golnetwork.com/game/v/14034/">#39
	</a>\n\n</BODY>\n</HTML>
STATUS:CONFIRMED
CLASS:PUBLIC
URL:https://www.golnetwork.com/game/v/14034/
X-MICROSOFT-CDO-BUSYSTATUS:BUSY
X-MICROSOFT-CDO-IMPORTANCE:1
END:VEVENT
BEGIN:VEVENT
UID:g1e6d@games.golnetwork.com
LOCATION:Ben Weider #1
GEO:45.488223;-73.634105
CREATED:20120427T000018Z
DTSTART:20120730T233000Z
DTEND:20120731T003000Z
DTSTAMP:20260422T160856Z
SUMMARY:MILTON PARC vs. OLD SCHOOL BALLERS
DESCRIPTION:OLD SCHOOL BALLERS vs. MILTON PARCMore info: #38
X-ALT-DESC;FMTTYPE=text/html:<!DOCTYPE HTML PUBLIC "-//W3C//DTD HTML 3.2//E
	N">\n<HTML>\n<HEAD>\n<TITLE></TITLE>\n</HEAD>\n<BODY>\n<h3>OLD SCHOOL BALLE
	RS vs. MILTON PARC</h3>More info: <a href="https://www.golnetwork.com/game/
	v/14033/">#38</a>\n\n</BODY>\n</HTML>
STATUS:CONFIRMED
CLASS:PUBLIC
URL:https://www.golnetwork.com/game/v/14033/
X-MICROSOFT-CDO-BUSYSTATUS:BUSY
X-MICROSOFT-CDO-IMPORTANCE:1
END:VEVENT
BEGIN:VEVENT
UID:g1e67@games.golnetwork.com
LOCATION:Ben Weider #1
GEO:45.488223;-73.634105
CREATED:20120427T000018Z
DTSTART:20120723T233000Z
DTEND:20120724T003000Z
DTSTAMP:20260422T160856Z
SUMMARY:MILTON PARC vs. RETRO
DESCRIPTION:RETRO vs. MILTON PARCMore info: #33
X-ALT-DESC;FMTTYPE=text/html:<!DOCTYPE HTML PUBLIC "-//W3C//DTD HTML 3.2//E
	N">\n<HTML>\n<HEAD>\n<TITLE></TITLE>\n</HEAD>\n<BODY>\n<h3>RETRO vs. MILTON
	 PARC</h3>More info: <a href="https://www.golnetwork.com/game/v/14030/">#33
	</a>\n\n</BODY>\n</HTML>
STATUS:CONFIRMED
CLASS:PUBLIC
URL:https://www.golnetwork.com/game/v/14030/
X-MICROSOFT-CDO-BUSYSTATUS:BUSY
X-MICROSOFT-CDO-IMPORTANCE:1
END:VEVENT
BEGIN:VEVENT
UID:g1e63@games.golnetwork.com
LOCATION:Ben Weider #1
GEO:45.488223;-73.634105
CREATED:20120427T000018Z
DTSTART:20120714T143000Z
DTEND:20120714T153000Z
DTSTAMP:20260422T160856Z
SUMMARY:X PISTOLS vs. MILTON PARC
DESCRIPTION:MILTON PARC vs. X PISTOLSMore info: #27
X-ALT-DESC;FMTTYPE=text/html:<!DOCTYPE HTML PUBLIC "-//W3C//DTD HTML 3.2//E
	N">\n<HTML>\n<HEAD>\n<TITLE></TITLE>\n</HEAD>\n<BODY>\n<h3>MILTON PARC vs. 
	X PISTOLS</h3>More info: <a href="https://www.golnetwork.com/game/v/14028/"
	>#27</a>\n\n</BODY>\n</HTML>
STATUS:CONFIRMED
CLASS:PUBLIC
URL:https://www.golnetwork.com/game/v/14028/
X-MICROSOFT-CDO-BUSYSTATUS:BUSY
X-MICROSOFT-CDO-IMPORTANCE:1
END:VEVENT
BEGIN:VEVENT
UID:g1e5q@games.golnetwork.com
LOCATION:Ben Weider #1
GEO:45.488223;-73.634105
CREATED:20120427T000018Z
DTSTART:20120707T143000Z
DTEND:20120707T153000Z
DTSTAMP:20260422T160856Z
SUMMARY:MILTON PARC vs. OLD SCHOOL BALLERS
DESCRIPTION:OLD SCHOOL BALLERS vs. MILTON PARCMore info: #23
X-ALT-DESC;FMTTYPE=text/html:<!DOCTYPE HTML PUBLIC "-//W3C//DTD HTML 3.2//E
	N">\n<HTML>\n<HEAD>\n<TITLE></TITLE>\n</HEAD>\n<BODY>\n<h3>OLD SCHOOL BALLE
	RS vs. MILTON PARC</h3>More info: <a href="https://www.golnetwork.com/game/
	v/14026/">#23</a>\n\n</BODY>\n</HTML>
STATUS:CONFIRMED
CLASS:PUBLIC
URL:https://www.golnetwork.com/game/v/14026/
X-MICROSOFT-CDO-BUSYSTATUS:BUSY
X-MICROSOFT-CDO-IMPORTANCE:1
END:VEVENT
BEGIN:VEVENT
UID:g1e5i@games.golnetwork.com
LOCATION:Ben Weider #1
GEO:45.488223;-73.634105
CREATED:20120427T000018Z
DTSTART:20120623T143000Z
DTEND:20120623T153000Z
DTSTAMP:20260422T160856Z
SUMMARY:MILTON PARC vs. X PISTOLS
DESCRIPTION:X PISTOLS vs. MILTON PARCMore info: #17
X-ALT-DESC;FMTTYPE=text/html:<!DOCTYPE HTML PUBLIC "-//W3C//DTD HTML 3.2//E
	N">\n<HTML>\n<HEAD>\n<TITLE></TITLE>\n</HEAD>\n<BODY>\n<h3>X PISTOLS vs. MI
	LTON PARC</h3>More info: <a href="https://www.golnetwork.com/game/v/14022/"
	>#17</a>\n\n</BODY>\n</HTML>
STATUS:CONFIRMED
CLASS:PUBLIC
URL:https://www.golnetwork.com/game/v/14022/
X-MICROSOFT-CDO-BUSYSTATUS:BUSY
X-MICROSOFT-CDO-IMPORTANCE:1
END:VEVENT
BEGIN:VEVENT
UID:g1e5g@games.golnetwork.com
LOCATION:Ben Weider #1
GEO:45.488223;-73.634105
CREATED:20120427T000018Z
DTSTART:20120618T233000Z
DTEND:20120619T003000Z
DTSTAMP:20260422T160856Z
SUMMARY:MILTON PARC vs. OLD SCHOOL BALLERS
DESCRIPTION:OLD SCHOOL BALLERS vs. MILTON PARCMore info: #15
X-ALT-DESC;FMTTYPE=text/html:<!DOCTYPE HTML PUBLIC "-//W3C//DTD HTML 3.2//E
	N">\n<HTML>\n<HEAD>\n<TITLE></TITLE>\n</HEAD>\n<BODY>\n<h3>OLD SCHOOL BALLE
	RS vs. MILTON PARC</h3>More info: <a href="https://www.golnetwork.com/game/
	v/14021/">#15</a>\n\n</BODY>\n</HTML>
STATUS:CONFIRMED
CLASS:PUBLIC
URL:https://www.golnetwork.com/game/v/14021/
X-MICROSOFT-CDO-BUSYSTATUS:BUSY
X-MICROSOFT-CDO-IMPORTANCE:1
END:VEVENT
BEGIN:VEVENT
UID:g1e5a@games.golnetwork.com
LOCATION:Ben Weider #1
GEO:45.488223;-73.634105
CREATED:20120427T000018Z
DTSTART:20120611T233000Z
DTEND:20120612T003000Z
DTSTAMP:20260422T160856Z
SUMMARY:OLD SCHOOL BALLERS vs. MILTON PARC
DESCRIPTION:MILTON PARC vs. OLD SCHOOL BALLERSMore info: #11
X-ALT-DESC;FMTTYPE=text/html:<!DOCTYPE HTML PUBLIC "-//W3C//DTD HTML 3.2//E
	N">\n<HTML>\n<HEAD>\n<TITLE></TITLE>\n</HEAD>\n<BODY>\n<h3>MILTON PARC vs. 
	OLD SCHOOL BALLERS</h3>More info: <a href="https://www.golnetwork.com/game/
	v/14018/">#11</a>\n\n</BODY>\n</HTML>
STATUS:CONFIRMED
CLASS:PUBLIC
URL:https://www.golnetwork.com/game/v/14018/
X-MICROSOFT-CDO-BUSYSTATUS:BUSY
X-MICROSOFT-CDO-IMPORTANCE:1
END:VEVENT
BEGIN:VEVENT
UID:g1e58@games.golnetwork.com
LOCATION:Ben Weider #1
GEO:45.488223;-73.634105
CREATED:20120427T000018Z
DTSTART:20120602T153000Z
DTEND:20120602T163000Z
DTSTAMP:20260422T160856Z
SUMMARY:MILTON PARC vs. X PISTOLS
DESCRIPTION:X PISTOLS vs. MILTON PARCMore info: #6
X-ALT-DESC;FMTTYPE=text/html:<!DOCTYPE HTML PUBLIC "-//W3C//DTD HTML 3.2//E
	N">\n<HTML>\n<HEAD>\n<TITLE></TITLE>\n</HEAD>\n<BODY>\n<h3>X PISTOLS vs. MI
	LTON PARC</h3>More info: <a href="https://www.golnetwork.com/game/v/14017/"
	>#6</a>\n\n</BODY>\n</HTML>
STATUS:CONFIRMED
CLASS:PUBLIC
URL:https://www.golnetwork.com/game/v/14017/
X-MICROSOFT-CDO-BUSYSTATUS:BUSY
X-MICROSOFT-CDO-IMPORTANCE:1
END:VEVENT
BEGIN:VEVENT
UID:g1e54@games.golnetwork.com
LOCATION:Ben Weider #1
GEO:45.488223;-73.634105
CREATED:20120427T000018Z
DTSTART:20120526T153000Z
DTEND:20120526T163000Z
DTSTAMP:20260422T160856Z
SUMMARY:RETRO vs. MILTON PARC
DESCRIPTION:MILTON PARC vs. RETROMore info: #2
X-ALT-DESC;FMTTYPE=text/html:<!DOCTYPE HTML PUBLIC "-//W3C//DTD HTML 3.2//E
	N">\n<HTML>\n<HEAD>\n<TITLE></TITLE>\n</HEAD>\n<BODY>\n<h3>MILTON PARC vs. 
	RETRO</h3>More info: <a href="https://www.golnetwork.com/game/v/14015/">#2<
	/a>\n\n</BODY>\n</HTML>
STATUS:CONFIRMED
CLASS:PUBLIC
URL:https://www.golnetwork.com/game/v/14015/
X-MICROSOFT-CDO-BUSYSTATUS:BUSY
X-MICROSOFT-CDO-IMPORTANCE:1
END:VEVENT
END:VCALENDAR
