BEGIN:VCALENDAR
PRODID:-//gdesolutions.com//MV Framework 1.0.0.1607 Calendar//EN
VERSION:2.0
METHOD:PUBLISH
CALSCALE:GREGORIAN
BEGIN:VEVENT
UID:g9980@games.golnetwork.com
LOCATION:Cherry Beach East 3
CREATED:20160802T142925Z
DTSTART:20160914T030000Z
DTEND:20160914T035500Z
DTSTAMP:20260423T134108Z
SUMMARY:XTSC Warriors vs. Shut your legs or I'll meg ya
DESCRIPTION:Shut your legs or I'll meg ya vs. XTSC WarriorsMore info: #469
X-ALT-DESC;FMTTYPE=text/html:<!DOCTYPE HTML PUBLIC "-//W3C//DTD HTML 3.2//E
	N">\n<HTML>\n<HEAD>\n<TITLE></TITLE>\n</HEAD>\n<BODY>\n<h3>Shut your legs o
	r I'll meg ya vs. XTSC Warriors</h3>More info: <a href="https://www.golnetw
	ork.com/game/v/90963/">#469</a>\n\n</BODY>\n</HTML>
STATUS:CONFIRMED
CLASS:PUBLIC
URL:https://www.golnetwork.com/game/v/90963/
X-MICROSOFT-CDO-BUSYSTATUS:BUSY
X-MICROSOFT-CDO-IMPORTANCE:1
END:VEVENT
BEGIN:VEVENT
UID:g97dh@games.golnetwork.com
LOCATION:Cherry Beach East 3
CREATED:20160707T184601Z
DTSTART:20160907T030000Z
DTEND:20160907T040000Z
DTSTAMP:20260423T134108Z
SUMMARY:Shut your legs or I'll meg ya vs. XTSC Stars 
DESCRIPTION:XTSC Stars  vs. Shut your legs or I'll meg yaMore info: #397
X-ALT-DESC;FMTTYPE=text/html:<!DOCTYPE HTML PUBLIC "-//W3C//DTD HTML 3.2//E
	N">\n<HTML>\n<HEAD>\n<TITLE></TITLE>\n</HEAD>\n<BODY>\n<h3>XTSC Stars  vs. 
	Shut your legs or I'll meg ya</h3>More info: <a href="https://www.golnetwor
	k.com/game/v/90310/">#397</a>\n\n</BODY>\n</HTML>
STATUS:CONFIRMED
CLASS:PUBLIC
URL:https://www.golnetwork.com/game/v/90310/
X-MICROSOFT-CDO-BUSYSTATUS:BUSY
X-MICROSOFT-CDO-IMPORTANCE:1
END:VEVENT
BEGIN:VEVENT
UID:g97d9@games.golnetwork.com
LOCATION:Cherry Beach East 3
CREATED:20160707T184601Z
DTSTART:20160824T020000Z
DTEND:20160824T030000Z
DTSTAMP:20260423T134108Z
SUMMARY:Shut your legs or I'll meg ya vs. Blue Agave FC
DESCRIPTION:Blue Agave FC vs. Shut your legs or I'll meg yaMore info: #269
X-ALT-DESC;FMTTYPE=text/html:<!DOCTYPE HTML PUBLIC "-//W3C//DTD HTML 3.2//E
	N">\n<HTML>\n<HEAD>\n<TITLE></TITLE>\n</HEAD>\n<BODY>\n<h3>Blue Agave FC vs
	. Shut your legs or I'll meg ya</h3>More info: <a href="https://www.golnetw
	ork.com/game/v/90306/">#269</a>\n\n</BODY>\n</HTML>
STATUS:CONFIRMED
CLASS:PUBLIC
URL:https://www.golnetwork.com/game/v/90306/
X-MICROSOFT-CDO-BUSYSTATUS:BUSY
X-MICROSOFT-CDO-IMPORTANCE:1
END:VEVENT
BEGIN:VEVENT
UID:g97d1@games.golnetwork.com
LOCATION:Cherry Beach East 3
CREATED:20160707T184601Z
DTSTART:20160817T020000Z
DTEND:20160817T030000Z
DTSTAMP:20260423T134108Z
SUMMARY:Shut your legs or I'll meg ya vs. XTSC Stars 
DESCRIPTION:XTSC Stars  vs. Shut your legs or I'll meg yaMore info: #194
X-ALT-DESC;FMTTYPE=text/html:<!DOCTYPE HTML PUBLIC "-//W3C//DTD HTML 3.2//E
	N">\n<HTML>\n<HEAD>\n<TITLE></TITLE>\n</HEAD>\n<BODY>\n<h3>XTSC Stars  vs. 
	Shut your legs or I'll meg ya</h3>More info: <a href="https://www.golnetwor
	k.com/game/v/90302/">#194</a>\n\n</BODY>\n</HTML>
STATUS:CONFIRMED
CLASS:PUBLIC
URL:https://www.golnetwork.com/game/v/90302/
X-MICROSOFT-CDO-BUSYSTATUS:BUSY
X-MICROSOFT-CDO-IMPORTANCE:1
END:VEVENT
BEGIN:VEVENT
UID:g97cm@games.golnetwork.com
LOCATION:Cherry Beach East 3
CREATED:20160707T184600Z
DTSTART:20160810T030000Z
DTEND:20160810T040000Z
DTSTAMP:20260423T134108Z
SUMMARY:XTSC Warriors vs. Shut your legs or I'll meg ya
DESCRIPTION:Shut your legs or I'll meg ya vs. XTSC WarriorsMore info: #138
X-ALT-DESC;FMTTYPE=text/html:<!DOCTYPE HTML PUBLIC "-//W3C//DTD HTML 3.2//E
	N">\n<HTML>\n<HEAD>\n<TITLE></TITLE>\n</HEAD>\n<BODY>\n<h3>Shut your legs o
	r I'll meg ya vs. XTSC Warriors</h3>More info: <a href="https://www.golnetw
	ork.com/game/v/90299/">#138</a>\n\n</BODY>\n</HTML>
STATUS:CONFIRMED
CLASS:PUBLIC
URL:https://www.golnetwork.com/game/v/90299/
X-MICROSOFT-CDO-BUSYSTATUS:BUSY
X-MICROSOFT-CDO-IMPORTANCE:1
END:VEVENT
BEGIN:VEVENT
UID:g97ci@games.golnetwork.com
LOCATION:Cherry Beach East 3
CREATED:20160707T184600Z
DTSTART:20160803T020000Z
DTEND:20160803T030000Z
DTSTAMP:20260423T134108Z
SUMMARY:Free Agents vs. Shut your legs or I'll meg ya
DESCRIPTION:Shut your legs or I'll meg ya vs. Free AgentsMore info: #89
X-ALT-DESC;FMTTYPE=text/html:<!DOCTYPE HTML PUBLIC "-//W3C//DTD HTML 3.2//E
	N">\n<HTML>\n<HEAD>\n<TITLE></TITLE>\n</HEAD>\n<BODY>\n<h3>Shut your legs o
	r I'll meg ya vs. Free Agents</h3>More info: <a href="https://www.golnetwor
	k.com/game/v/90297/">#89</a>\n\n</BODY>\n</HTML>
STATUS:CONFIRMED
CLASS:PUBLIC
URL:https://www.golnetwork.com/game/v/90297/
X-MICROSOFT-CDO-BUSYSTATUS:BUSY
X-MICROSOFT-CDO-IMPORTANCE:1
END:VEVENT
BEGIN:VEVENT
UID:g97ca@games.golnetwork.com
LOCATION:Cherry Beach East 3
CREATED:20160707T184600Z
DTSTART:20160727T020000Z
DTEND:20160727T030000Z
DTSTAMP:20260423T134108Z
SUMMARY:XTSC Stars  vs. Shut your legs or I'll meg ya
DESCRIPTION:Shut your legs or I'll meg ya vs. XTSC Stars More info: #61
X-ALT-DESC;FMTTYPE=text/html:<!DOCTYPE HTML PUBLIC "-//W3C//DTD HTML 3.2//E
	N">\n<HTML>\n<HEAD>\n<TITLE></TITLE>\n</HEAD>\n<BODY>\n<h3>Shut your legs o
	r I'll meg ya vs. XTSC Stars </h3>More info: <a href="https://www.golnetwor
	k.com/game/v/90293/">#61</a>\n\n</BODY>\n</HTML>
STATUS:CONFIRMED
CLASS:PUBLIC
URL:https://www.golnetwork.com/game/v/90293/
X-MICROSOFT-CDO-BUSYSTATUS:BUSY
X-MICROSOFT-CDO-IMPORTANCE:1
END:VEVENT
BEGIN:VEVENT
UID:g97cc@games.golnetwork.com
LOCATION:Cherry Beach East 3
CREATED:20160707T184600Z
DTSTART:20160727T010000Z
DTEND:20160727T020000Z
DTSTAMP:20260423T134108Z
SUMMARY:Blue Agave FC vs. Shut your legs or I'll meg ya
DESCRIPTION:Shut your legs or I'll meg ya vs. Blue Agave FCMore info: #58
X-ALT-DESC;FMTTYPE=text/html:<!DOCTYPE HTML PUBLIC "-//W3C//DTD HTML 3.2//E
	N">\n<HTML>\n<HEAD>\n<TITLE></TITLE>\n</HEAD>\n<BODY>\n<h3>Shut your legs o
	r I'll meg ya vs. Blue Agave FC</h3>More info: <a href="https://www.golnetw
	ork.com/game/v/90294/">#58</a>\n\n</BODY>\n</HTML>
STATUS:CONFIRMED
CLASS:PUBLIC
URL:https://www.golnetwork.com/game/v/90294/
X-MICROSOFT-CDO-BUSYSTATUS:BUSY
X-MICROSOFT-CDO-IMPORTANCE:1
END:VEVENT
BEGIN:VEVENT
UID:g97c2@games.golnetwork.com
LOCATION:Cherry Beach East 3
CREATED:20160707T184600Z
DTSTART:20160720T010000Z
DTEND:20160720T020000Z
DTSTAMP:20260423T134108Z
SUMMARY:Gringos vs. Shut your legs or I'll meg ya
DESCRIPTION:Shut your legs or I'll meg ya vs. GringosMore info: #36
X-ALT-DESC;FMTTYPE=text/html:<!DOCTYPE HTML PUBLIC "-//W3C//DTD HTML 3.2//E
	N">\n<HTML>\n<HEAD>\n<TITLE></TITLE>\n</HEAD>\n<BODY>\n<h3>Shut your legs o
	r I'll meg ya vs. Gringos</h3>More info: <a href="https://www.golnetwork.co
	m/game/v/90289/">#36</a>\n\n</BODY>\n</HTML>
STATUS:CONFIRMED
CLASS:PUBLIC
URL:https://www.golnetwork.com/game/v/90289/
X-MICROSOFT-CDO-BUSYSTATUS:BUSY
X-MICROSOFT-CDO-IMPORTANCE:1
END:VEVENT
END:VCALENDAR
