BEGIN:VCALENDAR
PRODID:-//gdesolutions.com//MV Framework 1.0.0.1607 Calendar//EN
VERSION:2.0
METHOD:PUBLISH
CALSCALE:GREGORIAN
BEGIN:VEVENT
UID:ga6ik@games.golnetwork.com
LOCATION:Monarch Park Stadium - Field 2
GEO:43.6792789;-79.3234873
CREATED:20170106T163846Z
DTSTART:20170224T020000Z
DTEND:20170224T025000Z
DTSTAMP:20260420T004554Z
SUMMARY:SAS vs. XTSC Shady Bunch
DESCRIPTION:XTSC Shady Bunch vs. SASMore info: #465
X-ALT-DESC;FMTTYPE=text/html:<!DOCTYPE HTML PUBLIC "-//W3C//DTD HTML 3.2//E
	N">\n<HTML>\n<HEAD>\n<TITLE></TITLE>\n</HEAD>\n<BODY>\n<h3>XTSC Shady Bunch
	 vs. SAS</h3>More info: <a href="https://www.golnetwork.com/game/v/99856/">
	#465</a>\n\n</BODY>\n</HTML>
STATUS:CONFIRMED
CLASS:PUBLIC
URL:https://www.golnetwork.com/game/v/99856/
X-MICROSOFT-CDO-BUSYSTATUS:BUSY
X-MICROSOFT-CDO-IMPORTANCE:1
END:VEVENT
BEGIN:VEVENT
UID:ga6ie@games.golnetwork.com
LOCATION:Monarch Park Stadium - Field 2
GEO:43.6792789;-79.3234873
CREATED:20170106T163819Z
DTSTART:20170217T030000Z
DTEND:20170217T035000Z
DTSTAMP:20260420T004554Z
SUMMARY:XTSC Shady Bunch vs. SAS
DESCRIPTION:SAS vs. XTSC Shady BunchMore info: #419
X-ALT-DESC;FMTTYPE=text/html:<!DOCTYPE HTML PUBLIC "-//W3C//DTD HTML 3.2//E
	N">\n<HTML>\n<HEAD>\n<TITLE></TITLE>\n</HEAD>\n<BODY>\n<h3>SAS vs. XTSC Sha
	dy Bunch</h3>More info: <a href="https://www.golnetwork.com/game/v/99853/">
	#419</a>\n\n</BODY>\n</HTML>
STATUS:CONFIRMED
CLASS:PUBLIC
URL:https://www.golnetwork.com/game/v/99853/
X-MICROSOFT-CDO-BUSYSTATUS:BUSY
X-MICROSOFT-CDO-IMPORTANCE:1
END:VEVENT
BEGIN:VEVENT
UID:ga6ic@games.golnetwork.com
LOCATION:Monarch Park Stadium - Field 2
GEO:43.6792789;-79.3234873
CREATED:20170106T163814Z
DTSTART:20170217T020000Z
DTEND:20170217T025000Z
DTSTAMP:20260420T004554Z
SUMMARY:XTSC Heroes vs. SAS
DESCRIPTION:SAS vs. XTSC HeroesMore info: #415
X-ALT-DESC;FMTTYPE=text/html:<!DOCTYPE HTML PUBLIC "-//W3C//DTD HTML 3.2//E
	N">\n<HTML>\n<HEAD>\n<TITLE></TITLE>\n</HEAD>\n<BODY>\n<h3>SAS vs. XTSC Her
	oes</h3>More info: <a href="https://www.golnetwork.com/game/v/99852/">#415<
	/a>\n\n</BODY>\n</HTML>
STATUS:CONFIRMED
CLASS:PUBLIC
URL:https://www.golnetwork.com/game/v/99852/
X-MICROSOFT-CDO-BUSYSTATUS:BUSY
X-MICROSOFT-CDO-IMPORTANCE:1
END:VEVENT
BEGIN:VEVENT
UID:ga6ia@games.golnetwork.com
LOCATION:Monarch Park Stadium - Field 2
GEO:43.6792789;-79.3234873
CREATED:20170106T163804Z
DTSTART:20170210T040000Z
DTEND:20170210T045000Z
DTSTAMP:20260420T004554Z
SUMMARY:Blues vs. SAS
DESCRIPTION:SAS vs. BluesMore info: #341
X-ALT-DESC;FMTTYPE=text/html:<!DOCTYPE HTML PUBLIC "-//W3C//DTD HTML 3.2//E
	N">\n<HTML>\n<HEAD>\n<TITLE></TITLE>\n</HEAD>\n<BODY>\n<h3>SAS vs. Blues</h
	3>More info: <a href="https://www.golnetwork.com/game/v/99851/">#341</a>\n\
	n</BODY>\n</HTML>
STATUS:CONFIRMED
CLASS:PUBLIC
URL:https://www.golnetwork.com/game/v/99851/
X-MICROSOFT-CDO-BUSYSTATUS:BUSY
X-MICROSOFT-CDO-IMPORTANCE:1
END:VEVENT
BEGIN:VEVENT
UID:ga6i0@games.golnetwork.com
LOCATION:Monarch Park Stadium - Field 2
GEO:43.6792789;-79.3234873
CREATED:20170106T163716Z
DTSTART:20170203T030000Z
DTEND:20170203T035000Z
DTSTAMP:20260420T004554Z
SUMMARY:SAS vs. I am Batman FC
DESCRIPTION:I am Batman FC vs. SASMore info: #257
X-ALT-DESC;FMTTYPE=text/html:<!DOCTYPE HTML PUBLIC "-//W3C//DTD HTML 3.2//E
	N">\n<HTML>\n<HEAD>\n<TITLE></TITLE>\n</HEAD>\n<BODY>\n<h3>I am Batman FC v
	s. SAS</h3>More info: <a href="https://www.golnetwork.com/game/v/99846/">#2
	57</a>\n\n</BODY>\n</HTML>
STATUS:CONFIRMED
CLASS:PUBLIC
URL:https://www.golnetwork.com/game/v/99846/
X-MICROSOFT-CDO-BUSYSTATUS:BUSY
X-MICROSOFT-CDO-IMPORTANCE:1
END:VEVENT
BEGIN:VEVENT
UID:ga6hf@games.golnetwork.com
LOCATION:Monarch Park Stadium - Field 2
GEO:43.6792789;-79.3234873
CREATED:20170106T163532Z
DTSTART:20170127T010000Z
DTEND:20170127T015000Z
DTSTAMP:20260420T004554Z
SUMMARY:XTSC Shady Bunch vs. SAS
DESCRIPTION:SAS vs. XTSC Shady BunchMore info: #178
X-ALT-DESC;FMTTYPE=text/html:<!DOCTYPE HTML PUBLIC "-//W3C//DTD HTML 3.2//E
	N">\n<HTML>\n<HEAD>\n<TITLE></TITLE>\n</HEAD>\n<BODY>\n<h3>SAS vs. XTSC Sha
	dy Bunch</h3>More info: <a href="https://www.golnetwork.com/game/v/99840/">
	#178</a>\n\n</BODY>\n</HTML>
STATUS:CONFIRMED
CLASS:PUBLIC
URL:https://www.golnetwork.com/game/v/99840/
X-MICROSOFT-CDO-BUSYSTATUS:BUSY
X-MICROSOFT-CDO-IMPORTANCE:1
END:VEVENT
BEGIN:VEVENT
UID:ga6hd@games.golnetwork.com
LOCATION:Monarch Park Stadium - Field 2
GEO:43.6792789;-79.3234873
CREATED:20170106T163501Z
DTSTART:20170120T040000Z
DTEND:20170120T045000Z
DTSTAMP:20260420T004554Z
SUMMARY:XTSC Heroes vs. SAS
DESCRIPTION:SAS vs. XTSC HeroesMore info: #134
X-ALT-DESC;FMTTYPE=text/html:<!DOCTYPE HTML PUBLIC "-//W3C//DTD HTML 3.2//E
	N">\n<HTML>\n<HEAD>\n<TITLE></TITLE>\n</HEAD>\n<BODY>\n<h3>SAS vs. XTSC Her
	oes</h3>More info: <a href="https://www.golnetwork.com/game/v/99839/">#134<
	/a>\n\n</BODY>\n</HTML>
STATUS:CONFIRMED
CLASS:PUBLIC
URL:https://www.golnetwork.com/game/v/99839/
X-MICROSOFT-CDO-BUSYSTATUS:BUSY
X-MICROSOFT-CDO-IMPORTANCE:1
END:VEVENT
BEGIN:VEVENT
UID:ga6gq@games.golnetwork.com
LOCATION:Monarch Park Stadium - Field 2
GEO:43.6792789;-79.3234873
CREATED:20170106T163304Z
DTSTART:20170113T030000Z
DTEND:20170113T035000Z
DTSTAMP:20260420T004554Z
SUMMARY:Black Walnuts FC vs. SAS
DESCRIPTION:SAS vs. Black Walnuts FCMore info: #82
X-ALT-DESC;FMTTYPE=text/html:<!DOCTYPE HTML PUBLIC "-//W3C//DTD HTML 3.2//E
	N">\n<HTML>\n<HEAD>\n<TITLE></TITLE>\n</HEAD>\n<BODY>\n<h3>SAS vs. Black Wa
	lnuts FC</h3>More info: <a href="https://www.golnetwork.com/game/v/99832/">
	#82</a>\n\n</BODY>\n</HTML>
STATUS:CONFIRMED
CLASS:PUBLIC
URL:https://www.golnetwork.com/game/v/99832/
X-MICROSOFT-CDO-BUSYSTATUS:BUSY
X-MICROSOFT-CDO-IMPORTANCE:1
END:VEVENT
BEGIN:VEVENT
UID:ga53o@games.golnetwork.com
LOCATION:Monarch Park Stadium - Field 2
GEO:43.6792789;-79.3234873
CREATED:20161230T183321Z
DTSTART:20170106T010000Z
DTEND:20170106T015000Z
DTSTAMP:20260420T004554Z
SUMMARY:SAS vs. Head Trauma
DESCRIPTION:Head Trauma vs. SASMore info: #30
X-ALT-DESC;FMTTYPE=text/html:<!DOCTYPE HTML PUBLIC "-//W3C//DTD HTML 3.2//E
	N">\n<HTML>\n<HEAD>\n<TITLE></TITLE>\n</HEAD>\n<BODY>\n<h3>Head Trauma vs. 
	SAS</h3>More info: <a href="https://www.golnetwork.com/game/v/99291/">#30</
	a>\n\n</BODY>\n</HTML>
STATUS:CONFIRMED
CLASS:PUBLIC
URL:https://www.golnetwork.com/game/v/99291/
X-MICROSOFT-CDO-BUSYSTATUS:BUSY
X-MICROSOFT-CDO-IMPORTANCE:1
END:VEVENT
END:VCALENDAR
