BEGIN:VCALENDAR
PRODID:-//gdesolutions.com//MV Framework 1.0.0.1607 Calendar//EN
VERSION:2.0
METHOD:PUBLISH
CALSCALE:GREGORIAN
BEGIN:VEVENT
UID:g1k5a@games.golnetwork.com
LOCATION:Lamport Stadium Field 3
GEO:43.639337;-79.4248954
CREATED:20120530T175534Z
DTSTART:20120716T000000Z
DTEND:20120716T010000Z
DTSTAMP:20260422T160904Z
SUMMARY:Scoregasms FC (Orange) vs. FUFC
DESCRIPTION:FUFC vs. Scoregasms FC (Orange)More info: #305
X-ALT-DESC;FMTTYPE=text/html:<!DOCTYPE HTML PUBLIC "-//W3C//DTD HTML 3.2//E
	N">\n<HTML>\n<HEAD>\n<TITLE></TITLE>\n</HEAD>\n<BODY>\n<h3>FUFC vs. Scorega
	sms FC (Orange)</h3>More info: <a href="https://www.golnetwork.com/game/v/1
	6205/">#305</a>\n\n</BODY>\n</HTML>
STATUS:CONFIRMED
CLASS:PUBLIC
URL:https://www.golnetwork.com/game/v/16205/
X-MICROSOFT-CDO-BUSYSTATUS:BUSY
X-MICROSOFT-CDO-IMPORTANCE:1
END:VEVENT
BEGIN:VEVENT
UID:g1k58@games.golnetwork.com
LOCATION:Lamport Stadium Field 3
GEO:43.639337;-79.4248954
CREATED:20120530T175534Z
DTSTART:20120715T230000Z
DTEND:20120716T000000Z
DTSTAMP:20260422T160904Z
SUMMARY:Scoregasms FC (Orange) vs. XTSC Bomb Squad
DESCRIPTION:XTSC Bomb Squad vs. Scoregasms FC (Orange)More info: #302
X-ALT-DESC;FMTTYPE=text/html:<!DOCTYPE HTML PUBLIC "-//W3C//DTD HTML 3.2//E
	N">\n<HTML>\n<HEAD>\n<TITLE></TITLE>\n</HEAD>\n<BODY>\n<h3>XTSC Bomb Squad 
	vs. Scoregasms FC (Orange)</h3>More info: <a href="https://www.golnetwork.c
	om/game/v/16204/">#302</a>\n\n</BODY>\n</HTML>
STATUS:CONFIRMED
CLASS:PUBLIC
URL:https://www.golnetwork.com/game/v/16204/
X-MICROSOFT-CDO-BUSYSTATUS:BUSY
X-MICROSOFT-CDO-IMPORTANCE:1
END:VEVENT
BEGIN:VEVENT
UID:g1hf3@games.golnetwork.com
LOCATION:Lamport Stadium Field 1
GEO:43.639337;-79.4248954
CREATED:20120503T175825Z
DTSTART:20120709T020000Z
DTEND:20120709T030000Z
DTSTAMP:20260422T160904Z
SUMMARY:Scoregasms FC (Orange) vs. XTSC Bomb Squad
DESCRIPTION:XTSC Bomb Squad vs. Scoregasms FC (Orange)More info: #281
X-ALT-DESC;FMTTYPE=text/html:<!DOCTYPE HTML PUBLIC "-//W3C//DTD HTML 3.2//E
	N">\n<HTML>\n<HEAD>\n<TITLE></TITLE>\n</HEAD>\n<BODY>\n<h3>XTSC Bomb Squad 
	vs. Scoregasms FC (Orange)</h3>More info: <a href="https://www.golnetwork.c
	om/game/v/15243/">#281</a>\n\n</BODY>\n</HTML>
STATUS:RESCHEDULED
CLASS:PUBLIC
URL:https://www.golnetwork.com/game/v/15243/
X-MICROSOFT-CDO-BUSYSTATUS:BUSY
X-MICROSOFT-CDO-IMPORTANCE:1
END:VEVENT
BEGIN:VEVENT
UID:g1hh3@games.golnetwork.com
LOCATION:Lamport Stadium Field 3
GEO:43.639337;-79.4248954
CREATED:20120504T202946Z
DTSTART:20120701T230000Z
DTEND:20120702T000000Z
DTSTAMP:20260422T160904Z
SUMMARY:Bad News Bears (Red) vs. Scoregasms FC (Orange)
DESCRIPTION:Scoregasms FC (Orange) vs. Bad News Bears (Red)More info: #244
X-ALT-DESC;FMTTYPE=text/html:<!DOCTYPE HTML PUBLIC "-//W3C//DTD HTML 3.2//E
	N">\n<HTML>\n<HEAD>\n<TITLE></TITLE>\n</HEAD>\n<BODY>\n<h3>Scoregasms FC (O
	range) vs. Bad News Bears (Red)</h3>More info: <a href="https://www.golnetw
	ork.com/game/v/15270/">#244</a>\n\n</BODY>\n</HTML>
STATUS:CONFIRMED
CLASS:PUBLIC
URL:https://www.golnetwork.com/game/v/15270/
X-MICROSOFT-CDO-BUSYSTATUS:BUSY
X-MICROSOFT-CDO-IMPORTANCE:1
END:VEVENT
BEGIN:VEVENT
UID:g1hek@games.golnetwork.com
LOCATION:Lamport Stadium Field 3
GEO:43.639337;-79.4248954
CREATED:20120503T175825Z
DTSTART:20120625T020000Z
DTEND:20120625T030000Z
DTSTAMP:20260422T160904Z
SUMMARY:Scoregasms FC (Orange) vs. XTSC Bomb Squad
DESCRIPTION:XTSC Bomb Squad vs. Scoregasms FC (Orange)More info: #222
X-ALT-DESC;FMTTYPE=text/html:<!DOCTYPE HTML PUBLIC "-//W3C//DTD HTML 3.2//E
	N">\n<HTML>\n<HEAD>\n<TITLE></TITLE>\n</HEAD>\n<BODY>\n<h3>XTSC Bomb Squad 
	vs. Scoregasms FC (Orange)</h3>More info: <a href="https://www.golnetwork.c
	om/game/v/15238/">#222</a>\n\n</BODY>\n</HTML>
STATUS:CONFIRMED
CLASS:PUBLIC
URL:https://www.golnetwork.com/game/v/15238/
X-MICROSOFT-CDO-BUSYSTATUS:BUSY
X-MICROSOFT-CDO-IMPORTANCE:1
END:VEVENT
BEGIN:VEVENT
UID:g1he4@games.golnetwork.com
LOCATION:Lamport Stadium Field 1
GEO:43.639337;-79.4248954
CREATED:20120503T175825Z
DTSTART:20120617T230000Z
DTEND:20120618T000000Z
DTSTAMP:20260422T160904Z
SUMMARY:Scoregasms FC (Orange) vs. Gang Green (Neon Green)
DESCRIPTION:Gang Green (Neon Green) vs. Scoregasms FC (Orange)More info: #1
	78
X-ALT-DESC;FMTTYPE=text/html:<!DOCTYPE HTML PUBLIC "-//W3C//DTD HTML 3.2//E
	N">\n<HTML>\n<HEAD>\n<TITLE></TITLE>\n</HEAD>\n<BODY>\n<h3>Gang Green (Neon
	 Green) vs. Scoregasms FC (Orange)</h3>More info: <a href="https://www.goln
	etwork.com/game/v/15230/">#178</a>\n\n</BODY>\n</HTML>
STATUS:CONFIRMED
CLASS:PUBLIC
URL:https://www.golnetwork.com/game/v/15230/
X-MICROSOFT-CDO-BUSYSTATUS:BUSY
X-MICROSOFT-CDO-IMPORTANCE:1
END:VEVENT
BEGIN:VEVENT
UID:g1hdn@games.golnetwork.com
LOCATION:Lamport Stadium Field 3
GEO:43.639337;-79.4248954
CREATED:20120503T175825Z
DTSTART:20120611T010000Z
DTEND:20120611T020000Z
DTSTAMP:20260422T160904Z
SUMMARY:Scoregasms FC (Orange) vs. Boogie Time United (Light Blue)
DESCRIPTION:Boogie Time United (Light Blue) vs. Scoregasms FC (Orange)More 
	info: #152
X-ALT-DESC;FMTTYPE=text/html:<!DOCTYPE HTML PUBLIC "-//W3C//DTD HTML 3.2//E
	N">\n<HTML>\n<HEAD>\n<TITLE></TITLE>\n</HEAD>\n<BODY>\n<h3>Boogie Time Unit
	ed (Light Blue) vs. Scoregasms FC (Orange)</h3>More info: <a href="https://
	www.golnetwork.com/game/v/15226/">#152</a>\n\n</BODY>\n</HTML>
STATUS:CONFIRMED
CLASS:PUBLIC
URL:https://www.golnetwork.com/game/v/15226/
X-MICROSOFT-CDO-BUSYSTATUS:BUSY
X-MICROSOFT-CDO-IMPORTANCE:1
END:VEVENT
BEGIN:VEVENT
UID:g1hdf@games.golnetwork.com
LOCATION:Lamport Stadium Field 1
GEO:43.639337;-79.4248954
CREATED:20120503T175825Z
DTSTART:20120604T020000Z
DTEND:20120604T030000Z
DTSTAMP:20260422T160904Z
SUMMARY:Scoregasms FC (Orange) vs. Buzzkill (Yellow)
DESCRIPTION:Buzzkill (Yellow) vs. Scoregasms FC (Orange)More info: #119
X-ALT-DESC;FMTTYPE=text/html:<!DOCTYPE HTML PUBLIC "-//W3C//DTD HTML 3.2//E
	N">\n<HTML>\n<HEAD>\n<TITLE></TITLE>\n</HEAD>\n<BODY>\n<h3>Buzzkill (Yellow
	) vs. Scoregasms FC (Orange)</h3>More info: <a href="https://www.golnetwork
	.com/game/v/15222/">#119</a>\n\n</BODY>\n</HTML>
STATUS:CONFIRMED
CLASS:PUBLIC
URL:https://www.golnetwork.com/game/v/15222/
X-MICROSOFT-CDO-BUSYSTATUS:BUSY
X-MICROSOFT-CDO-IMPORTANCE:1
END:VEVENT
BEGIN:VEVENT
UID:g1hd5@games.golnetwork.com
LOCATION:Lamport Stadium Field 3
GEO:43.639337;-79.4248954
CREATED:20120503T175825Z
DTSTART:20120528T010000Z
DTEND:20120528T020000Z
DTSTAMP:20260422T160904Z
SUMMARY:Orange Crush FC vs. Scoregasms FC (Orange)
DESCRIPTION:Scoregasms FC (Orange) vs. Orange Crush FCMore info: #83
X-ALT-DESC;FMTTYPE=text/html:<!DOCTYPE HTML PUBLIC "-//W3C//DTD HTML 3.2//E
	N">\n<HTML>\n<HEAD>\n<TITLE></TITLE>\n</HEAD>\n<BODY>\n<h3>Scoregasms FC (O
	range) vs. Orange Crush FC</h3>More info: <a href="https://www.golnetwork.c
	om/game/v/15217/">#83</a>\n\n</BODY>\n</HTML>
STATUS:CONFIRMED
CLASS:PUBLIC
URL:https://www.golnetwork.com/game/v/15217/
X-MICROSOFT-CDO-BUSYSTATUS:BUSY
X-MICROSOFT-CDO-IMPORTANCE:1
END:VEVENT
BEGIN:VEVENT
UID:g1hco@games.golnetwork.com
LOCATION:Lamport Stadium Field 3
GEO:43.639337;-79.4248954
CREATED:20120503T175825Z
DTSTART:20120521T010000Z
DTEND:20120521T020000Z
DTSTAMP:20260422T160904Z
SUMMARY:Bad News Bears (Red) vs. Scoregasms FC (Orange)
DESCRIPTION:Scoregasms FC (Orange) vs. Bad News Bears (Red)More info: #51
X-ALT-DESC;FMTTYPE=text/html:<!DOCTYPE HTML PUBLIC "-//W3C//DTD HTML 3.2//E
	N">\n<HTML>\n<HEAD>\n<TITLE></TITLE>\n</HEAD>\n<BODY>\n<h3>Scoregasms FC (O
	range) vs. Bad News Bears (Red)</h3>More info: <a href="https://www.golnetw
	ork.com/game/v/15213/">#51</a>\n\n</BODY>\n</HTML>
STATUS:CONFIRMED
CLASS:PUBLIC
URL:https://www.golnetwork.com/game/v/15213/
X-MICROSOFT-CDO-BUSYSTATUS:BUSY
X-MICROSOFT-CDO-IMPORTANCE:1
END:VEVENT
END:VCALENDAR
