BEGIN:VCALENDAR
PRODID:-//gdesolutions.com//MV Framework 1.0.0.1607 Calendar//EN
VERSION:2.0
METHOD:PUBLISH
CALSCALE:GREGORIAN
BEGIN:VEVENT
UID:g1k5c@games.golnetwork.com
LOCATION:Lamport Stadium Field 3
GEO:43.639337;-79.4248954
CREATED:20120530T175534Z
DTSTART:20120716T010000Z
DTEND:20120716T020000Z
DTSTAMP:20260419T212542Z
SUMMARY:Kickin it Old School (White) vs. Gang Green (Neon Green)
DESCRIPTION:Gang Green (Neon Green) vs. Kickin it Old School (White)More in
	fo: #308
X-ALT-DESC;FMTTYPE=text/html:<!DOCTYPE HTML PUBLIC "-//W3C//DTD HTML 3.2//E
	N">\n<HTML>\n<HEAD>\n<TITLE></TITLE>\n</HEAD>\n<BODY>\n<h3>Gang Green (Neon
	 Green) vs. Kickin it Old School (White)</h3>More info: <a href="https://ww
	w.golnetwork.com/game/v/16206/">#308</a>\n\n</BODY>\n</HTML>
STATUS:CONFIRMED
CLASS:PUBLIC
URL:https://www.golnetwork.com/game/v/16206/
X-MICROSOFT-CDO-BUSYSTATUS:BUSY
X-MICROSOFT-CDO-IMPORTANCE:1
END:VEVENT
BEGIN:VEVENT
UID:g1hem@games.golnetwork.com
LOCATION:Lamport Stadium Field 3
GEO:43.639337;-79.4248954
CREATED:20120503T175825Z
DTSTART:20120708T230000Z
DTEND:20120709T000000Z
DTSTAMP:20260419T212542Z
SUMMARY:Kickin it Old School (White) vs. FC Shooters
DESCRIPTION:FC Shooters vs. Kickin it Old School (White)More info: #274
X-ALT-DESC;FMTTYPE=text/html:<!DOCTYPE HTML PUBLIC "-//W3C//DTD HTML 3.2//E
	N">\n<HTML>\n<HEAD>\n<TITLE></TITLE>\n</HEAD>\n<BODY>\n<h3>FC Shooters vs. 
	Kickin it Old School (White)</h3>More info: <a href="https://www.golnetwork
	.com/game/v/15239/">#274</a>\n\n</BODY>\n</HTML>
STATUS:CONFIRMED
CLASS:PUBLIC
URL:https://www.golnetwork.com/game/v/15239/
X-MICROSOFT-CDO-BUSYSTATUS:BUSY
X-MICROSOFT-CDO-IMPORTANCE:1
END:VEVENT
BEGIN:VEVENT
UID:g1hh5@games.golnetwork.com
LOCATION:Lamport Stadium Field 3
GEO:43.639337;-79.4248954
CREATED:20120504T202946Z
DTSTART:20120702T000000Z
DTEND:20120702T010000Z
DTSTAMP:20260419T212542Z
SUMMARY:Kickin it Old School (White) vs. Buzzkill (Yellow)
DESCRIPTION:Buzzkill (Yellow) vs. Kickin it Old School (White)More info: #2
	46
X-ALT-DESC;FMTTYPE=text/html:<!DOCTYPE HTML PUBLIC "-//W3C//DTD HTML 3.2//E
	N">\n<HTML>\n<HEAD>\n<TITLE></TITLE>\n</HEAD>\n<BODY>\n<h3>Buzzkill (Yellow
	) vs. Kickin it Old School (White)</h3>More info: <a href="https://www.goln
	etwork.com/game/v/15271/">#246</a>\n\n</BODY>\n</HTML>
STATUS:CONFIRMED
CLASS:PUBLIC
URL:https://www.golnetwork.com/game/v/15271/
X-MICROSOFT-CDO-BUSYSTATUS:BUSY
X-MICROSOFT-CDO-IMPORTANCE:1
END:VEVENT
BEGIN:VEVENT
UID:g1hei@games.golnetwork.com
LOCATION:Lamport Stadium Field 1
GEO:43.639337;-79.4248954
CREATED:20120503T175825Z
DTSTART:20120625T020000Z
DTEND:20120625T030000Z
DTSTAMP:20260419T212542Z
SUMMARY:Boogie Time United (Light Blue) vs. Kickin it Old School (White)
DESCRIPTION:Kickin it Old School (White) vs. Boogie Time United (Light Blue
	)More info: #220
X-ALT-DESC;FMTTYPE=text/html:<!DOCTYPE HTML PUBLIC "-//W3C//DTD HTML 3.2//E
	N">\n<HTML>\n<HEAD>\n<TITLE></TITLE>\n</HEAD>\n<BODY>\n<h3>Kickin it Old Sc
	hool (White) vs. Boogie Time United (Light Blue)</h3>More info: <a href="ht
	tps://www.golnetwork.com/game/v/15237/">#220</a>\n\n</BODY>\n</HTML>
STATUS:CONFIRMED
CLASS:PUBLIC
URL:https://www.golnetwork.com/game/v/15237/
X-MICROSOFT-CDO-BUSYSTATUS:BUSY
X-MICROSOFT-CDO-IMPORTANCE:1
END:VEVENT
BEGIN:VEVENT
UID:g1he6@games.golnetwork.com
LOCATION:Lamport Stadium Field 3
GEO:43.639337;-79.4248954
CREATED:20120503T175825Z
DTSTART:20120618T000000Z
DTEND:20120618T010000Z
DTSTAMP:20260419T212542Z
SUMMARY:Buzzkill (Yellow) vs. Kickin it Old School (White)
DESCRIPTION:Kickin it Old School (White) vs. Buzzkill (Yellow)More info: #1
	83
X-ALT-DESC;FMTTYPE=text/html:<!DOCTYPE HTML PUBLIC "-//W3C//DTD HTML 3.2//E
	N">\n<HTML>\n<HEAD>\n<TITLE></TITLE>\n</HEAD>\n<BODY>\n<h3>Kickin it Old Sc
	hool (White) vs. Buzzkill (Yellow)</h3>More info: <a href="https://www.goln
	etwork.com/game/v/15231/">#183</a>\n\n</BODY>\n</HTML>
STATUS:CONFIRMED
CLASS:PUBLIC
URL:https://www.golnetwork.com/game/v/15231/
X-MICROSOFT-CDO-BUSYSTATUS:BUSY
X-MICROSOFT-CDO-IMPORTANCE:1
END:VEVENT
BEGIN:VEVENT
UID:g1hdl@games.golnetwork.com
LOCATION:Lamport Stadium Field 3
GEO:43.639337;-79.4248954
CREATED:20120503T175825Z
DTSTART:20120611T000000Z
DTEND:20120611T010000Z
DTSTAMP:20260419T212542Z
SUMMARY:Orange Crush FC vs. Kickin it Old School (White)
DESCRIPTION:Kickin it Old School (White) vs. Orange Crush FCMore info: #149
X-ALT-DESC;FMTTYPE=text/html:<!DOCTYPE HTML PUBLIC "-//W3C//DTD HTML 3.2//E
	N">\n<HTML>\n<HEAD>\n<TITLE></TITLE>\n</HEAD>\n<BODY>\n<h3>Kickin it Old Sc
	hool (White) vs. Orange Crush FC</h3>More info: <a href="https://www.golnet
	work.com/game/v/15225/">#149</a>\n\n</BODY>\n</HTML>
STATUS:CONFIRMED
CLASS:PUBLIC
URL:https://www.golnetwork.com/game/v/15225/
X-MICROSOFT-CDO-BUSYSTATUS:BUSY
X-MICROSOFT-CDO-IMPORTANCE:1
END:VEVENT
BEGIN:VEVENT
UID:g1hd9@games.golnetwork.com
LOCATION:Lamport Stadium Field 3
GEO:43.639337;-79.4248954
CREATED:20120503T175825Z
DTSTART:20120603T230000Z
DTEND:20120604T000000Z
DTSTAMP:20260419T212542Z
SUMMARY:Gang Green (Neon Green) vs. Kickin it Old School (White)
DESCRIPTION:Kickin it Old School (White) vs. Gang Green (Neon Green)More in
	fo: #112
X-ALT-DESC;FMTTYPE=text/html:<!DOCTYPE HTML PUBLIC "-//W3C//DTD HTML 3.2//E
	N">\n<HTML>\n<HEAD>\n<TITLE></TITLE>\n</HEAD>\n<BODY>\n<h3>Kickin it Old Sc
	hool (White) vs. Gang Green (Neon Green)</h3>More info: <a href="https://ww
	w.golnetwork.com/game/v/15219/">#112</a>\n\n</BODY>\n</HTML>
STATUS:CONFIRMED
CLASS:PUBLIC
URL:https://www.golnetwork.com/game/v/15219/
X-MICROSOFT-CDO-BUSYSTATUS:BUSY
X-MICROSOFT-CDO-IMPORTANCE:1
END:VEVENT
BEGIN:VEVENT
UID:g1hd1@games.golnetwork.com
LOCATION:Lamport Stadium Field 1
GEO:43.639337;-79.4248954
CREATED:20120503T175825Z
DTSTART:20120527T230000Z
DTEND:20120528T000000Z
DTSTAMP:20260419T212542Z
SUMMARY:Bad News Bears (Red) vs. Kickin it Old School (White)
DESCRIPTION:Kickin it Old School (White) vs. Bad News Bears (Red)More info:
	 #75
X-ALT-DESC;FMTTYPE=text/html:<!DOCTYPE HTML PUBLIC "-//W3C//DTD HTML 3.2//E
	N">\n<HTML>\n<HEAD>\n<TITLE></TITLE>\n</HEAD>\n<BODY>\n<h3>Kickin it Old Sc
	hool (White) vs. Bad News Bears (Red)</h3>More info: <a href="https://www.g
	olnetwork.com/game/v/15215/">#75</a>\n\n</BODY>\n</HTML>
STATUS:CONFIRMED
CLASS:PUBLIC
URL:https://www.golnetwork.com/game/v/15215/
X-MICROSOFT-CDO-BUSYSTATUS:BUSY
X-MICROSOFT-CDO-IMPORTANCE:1
END:VEVENT
BEGIN:VEVENT
UID:g1hck@games.golnetwork.com
LOCATION:Lamport Stadium Field 3
GEO:43.639337;-79.4248954
CREATED:20120503T175825Z
DTSTART:20120520T230000Z
DTEND:20120521T000000Z
DTSTAMP:20260419T212542Z
SUMMARY:XTSC Bomb Squad vs. Kickin it Old School (White)
DESCRIPTION:Kickin it Old School (White) vs. XTSC Bomb SquadMore info: #45
X-ALT-DESC;FMTTYPE=text/html:<!DOCTYPE HTML PUBLIC "-//W3C//DTD HTML 3.2//E
	N">\n<HTML>\n<HEAD>\n<TITLE></TITLE>\n</HEAD>\n<BODY>\n<h3>Kickin it Old Sc
	hool (White) vs. XTSC Bomb Squad</h3>More info: <a href="https://www.golnet
	work.com/game/v/15211/">#45</a>\n\n</BODY>\n</HTML>
STATUS:CONFIRMED
CLASS:PUBLIC
URL:https://www.golnetwork.com/game/v/15211/
X-MICROSOFT-CDO-BUSYSTATUS:BUSY
X-MICROSOFT-CDO-IMPORTANCE:1
END:VEVENT
END:VCALENDAR
