BEGIN:VCALENDAR
PRODID:-//gdesolutions.com//MV Framework 1.0.0.1607 Calendar//EN
VERSION:2.0
METHOD:PUBLISH
CALSCALE:GREGORIAN
BEGIN:VEVENT
UID:g8na1@games.golnetwork.com
LOCATION:Lamport Stadium - Field 3
GEO:43.6390028;-79.4232104
CREATED:20160411T170428Z
DTSTART:20160710T220000Z
DTEND:20160710T230000Z
DTSTAMP:20260421T050549Z
SUMMARY:Too Much Mustard vs. Tree FC
DESCRIPTION:Tree FC vs. Too Much MustardMore info: #466
X-ALT-DESC;FMTTYPE=text/html:<!DOCTYPE HTML PUBLIC "-//W3C//DTD HTML 3.2//E
	N">\n<HTML>\n<HEAD>\n<TITLE></TITLE>\n</HEAD>\n<BODY>\n<h3>Tree FC vs. Too 
	Much Mustard</h3>More info: <a href="https://www.golnetwork.com/game/v/8625
	2/">#466</a>\n\n</BODY>\n</HTML>
STATUS:CONFIRMED
CLASS:PUBLIC
URL:https://www.golnetwork.com/game/v/86252/
X-MICROSOFT-CDO-BUSYSTATUS:BUSY
X-MICROSOFT-CDO-IMPORTANCE:1
END:VEVENT
BEGIN:VEVENT
UID:g8n9o@games.golnetwork.com
LOCATION:Lamport Stadium - Field 3
GEO:43.6390028;-79.4232104
CREATED:20160411T170428Z
DTSTART:20160626T220000Z
DTEND:20160626T230000Z
DTSTAMP:20260421T050549Z
SUMMARY:Tree FC vs. XTSC Comets
DESCRIPTION:XTSC Comets vs. Tree FCMore info: #405
X-ALT-DESC;FMTTYPE=text/html:<!DOCTYPE HTML PUBLIC "-//W3C//DTD HTML 3.2//E
	N">\n<HTML>\n<HEAD>\n<TITLE></TITLE>\n</HEAD>\n<BODY>\n<h3>XTSC Comets vs. 
	Tree FC</h3>More info: <a href="https://www.golnetwork.com/game/v/86250/">#
	405</a>\n\n</BODY>\n</HTML>
STATUS:CONFIRMED
CLASS:PUBLIC
URL:https://www.golnetwork.com/game/v/86250/
X-MICROSOFT-CDO-BUSYSTATUS:BUSY
X-MICROSOFT-CDO-IMPORTANCE:1
END:VEVENT
END:VCALENDAR
