BEGIN:VCALENDAR
PRODID:-//gdesolutions.com//MV Framework 1.0.0.1607 Calendar//EN
VERSION:2.0
METHOD:PUBLISH
CALSCALE:GREGORIAN
BEGIN:VEVENT
UID:g7e7c@games.golnetwork.com
LOCATION:Jarvis CI Field
CREATED:20150720T165036Z
DTSTART:20150831T231500Z
DTEND:20150901T000500Z
DTSTAMP:20260420T223413Z
SUMMARY:Dumpster Fire vs. The D
DESCRIPTION:The D vs. Dumpster FireMore info: #370
X-ALT-DESC;FMTTYPE=text/html:<!DOCTYPE HTML PUBLIC "-//W3C//DTD HTML 3.2//E
	N">\n<HTML>\n<HEAD>\n<TITLE></TITLE>\n</HEAD>\n<BODY>\n<h3>The D vs. Dumpst
	er Fire</h3>More info: <a href="https://www.golnetwork.com/game/v/73095/">#
	370</a>\n\n</BODY>\n</HTML>
STATUS:CONFIRMED
CLASS:PUBLIC
URL:https://www.golnetwork.com/game/v/73095/
X-MICROSOFT-CDO-BUSYSTATUS:BUSY
X-MICROSOFT-CDO-IMPORTANCE:1
END:VEVENT
BEGIN:VEVENT
UID:g7e76@games.golnetwork.com
LOCATION:Jarvis CI Field
CREATED:20150720T164953Z
DTSTART:20150824T221500Z
DTEND:20150824T230500Z
DTSTAMP:20260420T223413Z
SUMMARY:Dumpster Fire vs. AAFC
DESCRIPTION:AAFC vs. Dumpster FireMore info: #323
X-ALT-DESC;FMTTYPE=text/html:<!DOCTYPE HTML PUBLIC "-//W3C//DTD HTML 3.2//E
	N">\n<HTML>\n<HEAD>\n<TITLE></TITLE>\n</HEAD>\n<BODY>\n<h3>AAFC vs. Dumpste
	r Fire</h3>More info: <a href="https://www.golnetwork.com/game/v/73092/">#3
	23</a>\n\n</BODY>\n</HTML>
STATUS:CONFIRMED
CLASS:PUBLIC
URL:https://www.golnetwork.com/game/v/73092/
X-MICROSOFT-CDO-BUSYSTATUS:BUSY
X-MICROSOFT-CDO-IMPORTANCE:1
END:VEVENT
BEGIN:VEVENT
UID:g7e6p@games.golnetwork.com
LOCATION:Eastern Commerce
GEO:43.6796613;-79.3359135
CREATED:20150720T164858Z
DTSTART:20150817T231500Z
DTEND:20150818T000500Z
DTSTAMP:20260420T223413Z
SUMMARY:Dumpster Fire vs. Lazy Pandas
DESCRIPTION:Lazy Pandas vs. Dumpster FireMore info: #282
X-ALT-DESC;FMTTYPE=text/html:<!DOCTYPE HTML PUBLIC "-//W3C//DTD HTML 3.2//E
	N">\n<HTML>\n<HEAD>\n<TITLE></TITLE>\n</HEAD>\n<BODY>\n<h3>Lazy Pandas vs. 
	Dumpster Fire</h3>More info: <a href="https://www.golnetwork.com/game/v/730
	88/">#282</a>\n\n</BODY>\n</HTML>
STATUS:CONFIRMED
CLASS:PUBLIC
URL:https://www.golnetwork.com/game/v/73088/
X-MICROSOFT-CDO-BUSYSTATUS:BUSY
X-MICROSOFT-CDO-IMPORTANCE:1
END:VEVENT
BEGIN:VEVENT
UID:g7e6n@games.golnetwork.com
LOCATION:Eastern Commerce
GEO:43.6796613;-79.3359135
CREATED:20150720T164846Z
DTSTART:20150817T221500Z
DTEND:20150817T230500Z
DTSTAMP:20260420T223413Z
SUMMARY:Cartels vs. Dumpster Fire
DESCRIPTION:Dumpster Fire vs. CartelsMore info: #275
X-ALT-DESC;FMTTYPE=text/html:<!DOCTYPE HTML PUBLIC "-//W3C//DTD HTML 3.2//E
	N">\n<HTML>\n<HEAD>\n<TITLE></TITLE>\n</HEAD>\n<BODY>\n<h3>Dumpster Fire vs
	. Cartels</h3>More info: <a href="https://www.golnetwork.com/game/v/73087/"
	>#275</a>\n\n</BODY>\n</HTML>
STATUS:CONFIRMED
CLASS:PUBLIC
URL:https://www.golnetwork.com/game/v/73087/
X-MICROSOFT-CDO-BUSYSTATUS:BUSY
X-MICROSOFT-CDO-IMPORTANCE:1
END:VEVENT
BEGIN:VEVENT
UID:g7e6j@games.golnetwork.com
LOCATION:Eastern Commerce
GEO:43.6796613;-79.3359135
CREATED:20150720T164815Z
DTSTART:20150810T233000Z
DTEND:20150811T002000Z
DTSTAMP:20260420T223413Z
SUMMARY:AAFC vs. Dumpster Fire
DESCRIPTION:Dumpster Fire vs. AAFCMore info: #233
X-ALT-DESC;FMTTYPE=text/html:<!DOCTYPE HTML PUBLIC "-//W3C//DTD HTML 3.2//E
	N">\n<HTML>\n<HEAD>\n<TITLE></TITLE>\n</HEAD>\n<BODY>\n<h3>Dumpster Fire vs
	. AAFC</h3>More info: <a href="https://www.golnetwork.com/game/v/73085/">#2
	33</a>\n\n</BODY>\n</HTML>
STATUS:CONFIRMED
CLASS:PUBLIC
URL:https://www.golnetwork.com/game/v/73085/
X-MICROSOFT-CDO-BUSYSTATUS:BUSY
X-MICROSOFT-CDO-IMPORTANCE:1
END:VEVENT
BEGIN:VEVENT
UID:g7e6d@games.golnetwork.com
LOCATION:Jarvis CI Field
CREATED:20150720T164710Z
DTSTART:20150727T223000Z
DTEND:20150727T232000Z
DTSTAMP:20260420T223413Z
SUMMARY:Dumpster Fire vs. The D
DESCRIPTION:The D vs. Dumpster FireMore info: #133
X-ALT-DESC;FMTTYPE=text/html:<!DOCTYPE HTML PUBLIC "-//W3C//DTD HTML 3.2//E
	N">\n<HTML>\n<HEAD>\n<TITLE></TITLE>\n</HEAD>\n<BODY>\n<h3>The D vs. Dumpst
	er Fire</h3>More info: <a href="https://www.golnetwork.com/game/v/73082/">#
	133</a>\n\n</BODY>\n</HTML>
STATUS:CONFIRMED
CLASS:PUBLIC
URL:https://www.golnetwork.com/game/v/73082/
X-MICROSOFT-CDO-BUSYSTATUS:BUSY
X-MICROSOFT-CDO-IMPORTANCE:1
END:VEVENT
BEGIN:VEVENT
UID:g7djp@games.golnetwork.com
LOCATION:Eastern Commerce
GEO:43.6796613;-79.3359135
CREATED:20150713T202915Z
DTSTART:20150720T233000Z
DTEND:20150721T002000Z
DTSTAMP:20260420T223413Z
SUMMARY:Dumpster Fire vs. Lazy Pandas
DESCRIPTION:Lazy Pandas vs. Dumpster FireMore info: #86
X-ALT-DESC;FMTTYPE=text/html:<!DOCTYPE HTML PUBLIC "-//W3C//DTD HTML 3.2//E
	N">\n<HTML>\n<HEAD>\n<TITLE></TITLE>\n</HEAD>\n<BODY>\n<h3>Lazy Pandas vs. 
	Dumpster Fire</h3>More info: <a href="https://www.golnetwork.com/game/v/728
	99/">#86</a>\n\n</BODY>\n</HTML>
STATUS:CONFIRMED
CLASS:PUBLIC
URL:https://www.golnetwork.com/game/v/72899/
X-MICROSOFT-CDO-BUSYSTATUS:BUSY
X-MICROSOFT-CDO-IMPORTANCE:1
END:VEVENT
BEGIN:VEVENT
UID:g7djn@games.golnetwork.com
LOCATION:Eastern Commerce
GEO:43.6796613;-79.3359135
CREATED:20150713T202904Z
DTSTART:20150720T223000Z
DTEND:20150720T232000Z
DTSTAMP:20260420T223413Z
SUMMARY:Dumpster Fire vs. Cartels
DESCRIPTION:Cartels vs. Dumpster FireMore info: #79
X-ALT-DESC;FMTTYPE=text/html:<!DOCTYPE HTML PUBLIC "-//W3C//DTD HTML 3.2//E
	N">\n<HTML>\n<HEAD>\n<TITLE></TITLE>\n</HEAD>\n<BODY>\n<h3>Cartels vs. Dump
	ster Fire</h3>More info: <a href="https://www.golnetwork.com/game/v/72898/"
	>#79</a>\n\n</BODY>\n</HTML>
STATUS:CONFIRMED
CLASS:PUBLIC
URL:https://www.golnetwork.com/game/v/72898/
X-MICROSOFT-CDO-BUSYSTATUS:BUSY
X-MICROSOFT-CDO-IMPORTANCE:1
END:VEVENT
END:VCALENDAR
