BEGIN:VCALENDAR
PRODID:-//gdesolutions.com//MV Framework 1.0.0.1607 Calendar//EN
VERSION:2.0
METHOD:PUBLISH
CALSCALE:GREGORIAN
BEGIN:VEVENT
UID:g1mho@games.golnetwork.com
LOCATION:Cherry Beach East 1
CREATED:20120626T140004Z
DTSTART:20120708T210000Z
DTEND:20120708T220000Z
DTSTAMP:20260419T212800Z
SUMMARY:XTSC Cherry Pickers vs. Dude Where's the Beach?
DESCRIPTION:Dude Where's the Beach? vs. XTSC Cherry PickersMore info: #267
X-ALT-DESC;FMTTYPE=text/html:<!DOCTYPE HTML PUBLIC "-//W3C//DTD HTML 3.2//E
	N">\n<HTML>\n<HEAD>\n<TITLE></TITLE>\n</HEAD>\n<BODY>\n<h3>Dude Where's the
	 Beach? vs. XTSC Cherry Pickers</h3>More info: <a href="https://www.golnetw
	ork.com/game/v/17103/">#267</a>\n\n</BODY>\n</HTML>
STATUS:CONFIRMED
CLASS:PUBLIC
URL:https://www.golnetwork.com/game/v/17103/
X-MICROSOFT-CDO-BUSYSTATUS:BUSY
X-MICROSOFT-CDO-IMPORTANCE:1
END:VEVENT
BEGIN:VEVENT
UID:g1med@games.golnetwork.com
LOCATION:Cherry Beach West 2
CREATED:20120618T190753Z
DTSTART:20120624T210000Z
DTEND:20120624T220000Z
DTSTAMP:20260419T212800Z
SUMMARY:Sofa King Good FC vs. Dude Where's the Beach?
DESCRIPTION:Dude Where's the Beach? vs. Sofa King Good FCMore info: #209
X-ALT-DESC;FMTTYPE=text/html:<!DOCTYPE HTML PUBLIC "-//W3C//DTD HTML 3.2//E
	N">\n<HTML>\n<HEAD>\n<TITLE></TITLE>\n</HEAD>\n<BODY>\n<h3>Dude Where's the
	 Beach? vs. Sofa King Good FC</h3>More info: <a href="https://www.golnetwor
	k.com/game/v/17057/">#209</a>\n\n</BODY>\n</HTML>
STATUS:CONFIRMED
CLASS:PUBLIC
URL:https://www.golnetwork.com/game/v/17057/
X-MICROSOFT-CDO-BUSYSTATUS:BUSY
X-MICROSOFT-CDO-IMPORTANCE:1
END:VEVENT
BEGIN:VEVENT
UID:g1hom@games.golnetwork.com
LOCATION:Cherry Beach West 1
CREATED:20120507T153655Z
DTSTART:20120617T210000Z
DTEND:20120617T220000Z
DTSTAMP:20260419T212800Z
SUMMARY:Jerome United vs. Dude Where's the Beach?
DESCRIPTION:Dude Where's the Beach? vs. Jerome UnitedMore info: #175
X-ALT-DESC;FMTTYPE=text/html:<!DOCTYPE HTML PUBLIC "-//W3C//DTD HTML 3.2//E
	N">\n<HTML>\n<HEAD>\n<TITLE></TITLE>\n</HEAD>\n<BODY>\n<h3>Dude Where's the
	 Beach? vs. Jerome United</h3>More info: <a href="https://www.golnetwork.co
	m/game/v/15374/">#175</a>\n\n</BODY>\n</HTML>
STATUS:CONFIRMED
CLASS:PUBLIC
URL:https://www.golnetwork.com/game/v/15374/
X-MICROSOFT-CDO-BUSYSTATUS:BUSY
X-MICROSOFT-CDO-IMPORTANCE:1
END:VEVENT
BEGIN:VEVENT
UID:g1hoa@games.golnetwork.com
LOCATION:Cherry Beach West 3
CREATED:20120507T153655Z
DTSTART:20120610T210000Z
DTEND:20120610T220000Z
DTSTAMP:20260419T212800Z
SUMMARY:Ranal Apes (Grey) vs. Dude Where's the Beach?
DESCRIPTION:Dude Where's the Beach? vs. Ranal Apes (Grey)More info: #143
X-ALT-DESC;FMTTYPE=text/html:<!DOCTYPE HTML PUBLIC "-//W3C//DTD HTML 3.2//E
	N">\n<HTML>\n<HEAD>\n<TITLE></TITLE>\n</HEAD>\n<BODY>\n<h3>Dude Where's the
	 Beach? vs. Ranal Apes (Grey)</h3>More info: <a href="https://www.golnetwor
	k.com/game/v/15368/">#143</a>\n\n</BODY>\n</HTML>
STATUS:CONFIRMED
CLASS:PUBLIC
URL:https://www.golnetwork.com/game/v/15368/
X-MICROSOFT-CDO-BUSYSTATUS:BUSY
X-MICROSOFT-CDO-IMPORTANCE:1
END:VEVENT
BEGIN:VEVENT
UID:g1hnp@games.golnetwork.com
LOCATION:Cherry Beach West 1
CREATED:20120507T153655Z
DTSTART:20120603T210000Z
DTEND:20120603T220000Z
DTSTAMP:20260419T212800Z
SUMMARY:Sofa King Good FC vs. Dude Where's the Beach?
DESCRIPTION:Dude Where's the Beach? vs. Sofa King Good FCMore info: #107
X-ALT-DESC;FMTTYPE=text/html:<!DOCTYPE HTML PUBLIC "-//W3C//DTD HTML 3.2//E
	N">\n<HTML>\n<HEAD>\n<TITLE></TITLE>\n</HEAD>\n<BODY>\n<h3>Dude Where's the
	 Beach? vs. Sofa King Good FC</h3>More info: <a href="https://www.golnetwor
	k.com/game/v/15362/">#107</a>\n\n</BODY>\n</HTML>
STATUS:CONFIRMED
CLASS:PUBLIC
URL:https://www.golnetwork.com/game/v/15362/
X-MICROSOFT-CDO-BUSYSTATUS:BUSY
X-MICROSOFT-CDO-IMPORTANCE:1
END:VEVENT
BEGIN:VEVENT
UID:g1hnd@games.golnetwork.com
LOCATION:Cherry Beach West 2
CREATED:20120507T153655Z
DTSTART:20120527T210000Z
DTEND:20120527T220000Z
DTSTAMP:20260419T212800Z
SUMMARY:Dude Where's the Beach? vs. Boro FC
DESCRIPTION:Boro FC vs. Dude Where's the Beach?More info: #73
X-ALT-DESC;FMTTYPE=text/html:<!DOCTYPE HTML PUBLIC "-//W3C//DTD HTML 3.2//E
	N">\n<HTML>\n<HEAD>\n<TITLE></TITLE>\n</HEAD>\n<BODY>\n<h3>Boro FC vs. Dude
	 Where's the Beach?</h3>More info: <a href="https://www.golnetwork.com/game
	/v/15356/">#73</a>\n\n</BODY>\n</HTML>
STATUS:CONFIRMED
CLASS:PUBLIC
URL:https://www.golnetwork.com/game/v/15356/
X-MICROSOFT-CDO-BUSYSTATUS:BUSY
X-MICROSOFT-CDO-IMPORTANCE:1
END:VEVENT
BEGIN:VEVENT
UID:g1hn5@games.golnetwork.com
LOCATION:Cherry Beach West 1
CREATED:20120507T153655Z
DTSTART:20120520T210000Z
DTEND:20120520T220000Z
DTSTAMP:20260419T212800Z
SUMMARY:Dude Where's the Beach? vs. Shot In The Dark
DESCRIPTION:Shot In The Dark vs. Dude Where's the Beach?More info: #40
X-ALT-DESC;FMTTYPE=text/html:<!DOCTYPE HTML PUBLIC "-//W3C//DTD HTML 3.2//E
	N">\n<HTML>\n<HEAD>\n<TITLE></TITLE>\n</HEAD>\n<BODY>\n<h3>Shot In The Dark
	 vs. Dude Where's the Beach?</h3>More info: <a href="https://www.golnetwork
	.com/game/v/15352/">#40</a>\n\n</BODY>\n</HTML>
STATUS:CONFIRMED
CLASS:PUBLIC
URL:https://www.golnetwork.com/game/v/15352/
X-MICROSOFT-CDO-BUSYSTATUS:BUSY
X-MICROSOFT-CDO-IMPORTANCE:1
END:VEVENT
BEGIN:VEVENT
UID:g1hmq@games.golnetwork.com
LOCATION:Cherry Beach West 1
CREATED:20120507T153655Z
DTSTART:20120520T200000Z
DTEND:20120520T210000Z
DTSTAMP:20260419T212800Z
SUMMARY:Dude Where's the Beach? vs. No Name United (Black)
DESCRIPTION:No Name United (Black) vs. Dude Where's the Beach?More info: #3
	7
X-ALT-DESC;FMTTYPE=text/html:<!DOCTYPE HTML PUBLIC "-//W3C//DTD HTML 3.2//E
	N">\n<HTML>\n<HEAD>\n<TITLE></TITLE>\n</HEAD>\n<BODY>\n<h3>No Name United (
	Black) vs. Dude Where's the Beach?</h3>More info: <a href="https://www.goln
	etwork.com/game/v/15349/">#37</a>\n\n</BODY>\n</HTML>
STATUS:CONFIRMED
CLASS:PUBLIC
URL:https://www.golnetwork.com/game/v/15349/
X-MICROSOFT-CDO-BUSYSTATUS:BUSY
X-MICROSOFT-CDO-IMPORTANCE:1
END:VEVENT
BEGIN:VEVENT
UID:g1hmg@games.golnetwork.com
LOCATION:Cherry Beach West 2
CREATED:20120507T153655Z
DTSTART:20120513T210000Z
DTEND:20120513T220000Z
DTSTAMP:20260419T212800Z
SUMMARY:Dude Where's the Beach? vs. XTSC Cherry Pickers
DESCRIPTION:XTSC Cherry Pickers vs. Dude Where's the Beach?More info: #19
X-ALT-DESC;FMTTYPE=text/html:<!DOCTYPE HTML PUBLIC "-//W3C//DTD HTML 3.2//E
	N">\n<HTML>\n<HEAD>\n<TITLE></TITLE>\n</HEAD>\n<BODY>\n<h3>XTSC Cherry Pick
	ers vs. Dude Where's the Beach?</h3>More info: <a href="https://www.golnetw
	ork.com/game/v/15344/">#19</a>\n\n</BODY>\n</HTML>
STATUS:CONFIRMED
CLASS:PUBLIC
URL:https://www.golnetwork.com/game/v/15344/
X-MICROSOFT-CDO-BUSYSTATUS:BUSY
X-MICROSOFT-CDO-IMPORTANCE:1
END:VEVENT
END:VCALENDAR
