BEGIN:VCALENDAR
PRODID:-//gdesolutions.com//MV Framework 1.0.0.1607 Calendar//EN
VERSION:2.0
METHOD:PUBLISH
CALSCALE:GREGORIAN
BEGIN:VEVENT
UID:g38eh@games.golnetwork.com
LOCATION:Central Tech - Field 1
GEO:43.6637272;-79.4087613
CREATED:20130711T192626Z
DTSTART:20130903T220000Z
DTEND:20130903T230000Z
DTSTAMP:20260421T224839Z
SUMMARY:Purple Haze vs. FUFC
DESCRIPTION:FUFC vs. Purple HazeMore info: #335
X-ALT-DESC;FMTTYPE=text/html:<!DOCTYPE HTML PUBLIC "-//W3C//DTD HTML 3.2//E
	N">\n<HTML>\n<HEAD>\n<TITLE></TITLE>\n</HEAD>\n<BODY>\n<h3>FUFC vs. Purple 
	Haze</h3>More info: <a href="https://www.golnetwork.com/game/v/31639/">#335
	</a>\n\n</BODY>\n</HTML>
STATUS:CONFIRMED
CLASS:PUBLIC
URL:https://www.golnetwork.com/game/v/31639/
X-MICROSOFT-CDO-BUSYSTATUS:BUSY
X-MICROSOFT-CDO-IMPORTANCE:1
END:VEVENT
BEGIN:VEVENT
UID:g39mm@games.golnetwork.com
LOCATION:Central Tech - Field 2
GEO:43.6637272;-79.4087613
CREATED:20130718T191101Z
DTSTART:20130820T230000Z
DTEND:20130821T000000Z
DTSTAMP:20260421T224839Z
SUMMARY:FUFC vs. FC Beercelona
DESCRIPTION:FC Beercelona vs. FUFCMore info: #268
X-ALT-DESC;FMTTYPE=text/html:<!DOCTYPE HTML PUBLIC "-//W3C//DTD HTML 3.2//E
	N">\n<HTML>\n<HEAD>\n<TITLE></TITLE>\n</HEAD>\n<BODY>\n<h3>FC Beercelona vs
	. FUFC</h3>More info: <a href="https://www.golnetwork.com/game/v/32114/">#2
	68</a>\n\n</BODY>\n</HTML>
STATUS:CONFIRMED
CLASS:PUBLIC
URL:https://www.golnetwork.com/game/v/32114/
X-MICROSOFT-CDO-BUSYSTATUS:BUSY
X-MICROSOFT-CDO-IMPORTANCE:1
END:VEVENT
BEGIN:VEVENT
UID:g39mk@games.golnetwork.com
LOCATION:Central Tech - Field 2
GEO:43.6637272;-79.4087613
CREATED:20130718T191058Z
DTSTART:20130820T220000Z
DTEND:20130820T230000Z
DTSTAMP:20260421T224839Z
SUMMARY:FUFC vs. Papa Barone & the Good Time Gang
DESCRIPTION:Papa Barone & the Good Time Gang vs. FUFCMore info: #264
X-ALT-DESC;FMTTYPE=text/html:<!DOCTYPE HTML PUBLIC "-//W3C//DTD HTML 3.2//E
	N">\n<HTML>\n<HEAD>\n<TITLE></TITLE>\n</HEAD>\n<BODY>\n<h3>Papa Barone & th
	e Good Time Gang vs. FUFC</h3>More info: <a href="https://www.golnetwork.co
	m/game/v/32113/">#264</a>\n\n</BODY>\n</HTML>
STATUS:CONFIRMED
CLASS:PUBLIC
URL:https://www.golnetwork.com/game/v/32113/
X-MICROSOFT-CDO-BUSYSTATUS:BUSY
X-MICROSOFT-CDO-IMPORTANCE:1
END:VEVENT
BEGIN:VEVENT
UID:g39mc@games.golnetwork.com
LOCATION:Central Tech - Field 2
GEO:43.6637272;-79.4087613
CREATED:20130718T191042Z
DTSTART:20130813T230000Z
DTEND:20130814T000000Z
DTSTAMP:20260421T224839Z
SUMMARY:FUFC vs. Molson FC
DESCRIPTION:Molson FC vs. FUFCMore info: #224
X-ALT-DESC;FMTTYPE=text/html:<!DOCTYPE HTML PUBLIC "-//W3C//DTD HTML 3.2//E
	N">\n<HTML>\n<HEAD>\n<TITLE></TITLE>\n</HEAD>\n<BODY>\n<h3>Molson FC vs. FU
	FC</h3>More info: <a href="https://www.golnetwork.com/game/v/32109/">#224</
	a>\n\n</BODY>\n</HTML>
STATUS:CONFIRMED
CLASS:PUBLIC
URL:https://www.golnetwork.com/game/v/32109/
X-MICROSOFT-CDO-BUSYSTATUS:BUSY
X-MICROSOFT-CDO-IMPORTANCE:1
END:VEVENT
BEGIN:VEVENT
UID:g38dm@games.golnetwork.com
LOCATION:Central Tech - Field 1
GEO:43.6637272;-79.4087613
CREATED:20130711T192626Z
DTSTART:20130806T220000Z
DTEND:20130806T230000Z
DTSTAMP:20260421T224839Z
SUMMARY:No Merci vs. FUFC
DESCRIPTION:FUFC vs. No MerciMore info: #168
X-ALT-DESC;FMTTYPE=text/html:<!DOCTYPE HTML PUBLIC "-//W3C//DTD HTML 3.2//E
	N">\n<HTML>\n<HEAD>\n<TITLE></TITLE>\n</HEAD>\n<BODY>\n<h3>FUFC vs. No Merc
	i</h3>More info: <a href="https://www.golnetwork.com/game/v/31628/">#168</a
	>\n\n</BODY>\n</HTML>
STATUS:CONFIRMED
CLASS:PUBLIC
URL:https://www.golnetwork.com/game/v/31628/
X-MICROSOFT-CDO-BUSYSTATUS:BUSY
X-MICROSOFT-CDO-IMPORTANCE:1
END:VEVENT
BEGIN:VEVENT
UID:g39m2@games.golnetwork.com
LOCATION:Central Tech - Field 2
GEO:43.6637272;-79.4087613
CREATED:20130718T191021Z
DTSTART:20130730T230000Z
DTEND:20130731T000000Z
DTSTAMP:20260421T224839Z
SUMMARY:FC Insurgency vs. FUFC
DESCRIPTION:FUFC vs. FC InsurgencyMore info: #127
X-ALT-DESC;FMTTYPE=text/html:<!DOCTYPE HTML PUBLIC "-//W3C//DTD HTML 3.2//E
	N">\n<HTML>\n<HEAD>\n<TITLE></TITLE>\n</HEAD>\n<BODY>\n<h3>FUFC vs. FC Insu
	rgency</h3>More info: <a href="https://www.golnetwork.com/game/v/32104/">#1
	27</a>\n\n</BODY>\n</HTML>
STATUS:CONFIRMED
CLASS:PUBLIC
URL:https://www.golnetwork.com/game/v/32104/
X-MICROSOFT-CDO-BUSYSTATUS:BUSY
X-MICROSOFT-CDO-IMPORTANCE:1
END:VEVENT
BEGIN:VEVENT
UID:g38d6@games.golnetwork.com
LOCATION:Central Tech - Field 1
GEO:43.6637272;-79.4087613
CREATED:20130711T192626Z
DTSTART:20130724T000000Z
DTEND:20130724T010000Z
DTSTAMP:20260421T224839Z
SUMMARY:FUFC vs. Red Menace FC
DESCRIPTION:Red Menace FC vs. FUFCMore info: #83
X-ALT-DESC;FMTTYPE=text/html:<!DOCTYPE HTML PUBLIC "-//W3C//DTD HTML 3.2//E
	N">\n<HTML>\n<HEAD>\n<TITLE></TITLE>\n</HEAD>\n<BODY>\n<h3>Red Menace FC vs
	. FUFC</h3>More info: <a href="https://www.golnetwork.com/game/v/31620/">#8
	3</a>\n\n</BODY>\n</HTML>
STATUS:CONFIRMED
CLASS:PUBLIC
URL:https://www.golnetwork.com/game/v/31620/
X-MICROSOFT-CDO-BUSYSTATUS:BUSY
X-MICROSOFT-CDO-IMPORTANCE:1
END:VEVENT
BEGIN:VEVENT
UID:g39pn@games.golnetwork.com
LOCATION:Central Tech - Field 1
GEO:43.6637272;-79.4087613
CREATED:20130718T205339Z
DTSTART:20130716T230000Z
DTEND:20130717T000000Z
DTSTAMP:20260421T224839Z
SUMMARY:FUFC vs. TNT
DESCRIPTION:TNT vs. FUFCMore info: #41
X-ALT-DESC;FMTTYPE=text/html:<!DOCTYPE HTML PUBLIC "-//W3C//DTD HTML 3.2//E
	N">\n<HTML>\n<HEAD>\n<TITLE></TITLE>\n</HEAD>\n<BODY>\n<h3>TNT vs. FUFC</h3
	>More info: <a href="https://www.golnetwork.com/game/v/32155/">#41</a>\n\n<
	/BODY>\n</HTML>
STATUS:CONFIRMED
CLASS:PUBLIC
URL:https://www.golnetwork.com/game/v/32155/
X-MICROSOFT-CDO-BUSYSTATUS:BUSY
X-MICROSOFT-CDO-IMPORTANCE:1
END:VEVENT
END:VCALENDAR
