BEGIN:VCALENDAR
PRODID:-//gdesolutions.com//MV Framework 1.0.0.1607 Calendar//EN
VERSION:2.0
METHOD:PUBLISH
CALSCALE:GREGORIAN
BEGIN:VEVENT
UID:g2e8m@games.golnetwork.com
LOCATION:East York CI
GEO:45.10662;-94.578209
CREATED:20121128T204034Z
DTSTART:20130125T003000Z
DTEND:20130125T013000Z
DTSTAMP:20260420T004504Z
SUMMARY:Y U No Kick vs. Rice (White)
DESCRIPTION:Rice (White) vs. Y U No KickMore info: #199
X-ALT-DESC;FMTTYPE=text/html:<!DOCTYPE HTML PUBLIC "-//W3C//DTD HTML 3.2//E
	N">\n<HTML>\n<HEAD>\n<TITLE></TITLE>\n</HEAD>\n<BODY>\n<h3>Rice (White) vs.
	 Y U No Kick</h3>More info: <a href="https://www.golnetwork.com/game/v/2390
	6/">#199</a>\n\n</BODY>\n</HTML>
STATUS:CONFIRMED
CLASS:PUBLIC
URL:https://www.golnetwork.com/game/v/23906/
X-MICROSOFT-CDO-BUSYSTATUS:BUSY
X-MICROSOFT-CDO-IMPORTANCE:1
END:VEVENT
BEGIN:VEVENT
UID:g2e1d@games.golnetwork.com
LOCATION:East York CI
GEO:45.10662;-94.578209
CREATED:20121123T221148Z
DTSTART:20130118T013000Z
DTEND:20130118T023000Z
DTSTAMP:20260420T004504Z
SUMMARY:Rice (White) vs. Itchy Red Sambas
DESCRIPTION:Itchy Red Sambas vs. Rice (White)More info: #179
X-ALT-DESC;FMTTYPE=text/html:<!DOCTYPE HTML PUBLIC "-//W3C//DTD HTML 3.2//E
	N">\n<HTML>\n<HEAD>\n<TITLE></TITLE>\n</HEAD>\n<BODY>\n<h3>Itchy Red Sambas
	 vs. Rice (White)</h3>More info: <a href="https://www.golnetwork.com/game/v
	/23807/">#179</a>\n\n</BODY>\n</HTML>
STATUS:CONFIRMED
CLASS:PUBLIC
URL:https://www.golnetwork.com/game/v/23807/
X-MICROSOFT-CDO-BUSYSTATUS:BUSY
X-MICROSOFT-CDO-IMPORTANCE:1
END:VEVENT
BEGIN:VEVENT
UID:g2e1b@games.golnetwork.com
LOCATION:East York CI
GEO:45.10662;-94.578209
CREATED:20121123T221140Z
DTSTART:20130111T013000Z
DTEND:20130111T023000Z
DTSTAMP:20260420T004504Z
SUMMARY:Itchy Red Sambas vs. Rice (White)
DESCRIPTION:Rice (White) vs. Itchy Red SambasMore info: #174
X-ALT-DESC;FMTTYPE=text/html:<!DOCTYPE HTML PUBLIC "-//W3C//DTD HTML 3.2//E
	N">\n<HTML>\n<HEAD>\n<TITLE></TITLE>\n</HEAD>\n<BODY>\n<h3>Rice (White) vs.
	 Itchy Red Sambas</h3>More info: <a href="https://www.golnetwork.com/game/v
	/23806/">#174</a>\n\n</BODY>\n</HTML>
STATUS:CONFIRMED
CLASS:PUBLIC
URL:https://www.golnetwork.com/game/v/23806/
X-MICROSOFT-CDO-BUSYSTATUS:BUSY
X-MICROSOFT-CDO-IMPORTANCE:1
END:VEVENT
BEGIN:VEVENT
UID:g2c1d@games.golnetwork.com
LOCATION:East York CI
GEO:45.10662;-94.578209
CREATED:20121107T192612Z
DTSTART:20121207T005500Z
DTEND:20121207T015000Z
DTSTAMP:20260420T004504Z
SUMMARY:Disco Trolls vs. Rice (White)
DESCRIPTION:Rice (White) vs. Disco TrollsMore info: #164
X-ALT-DESC;FMTTYPE=text/html:<!DOCTYPE HTML PUBLIC "-//W3C//DTD HTML 3.2//E
	N">\n<HTML>\n<HEAD>\n<TITLE></TITLE>\n</HEAD>\n<BODY>\n<h3>Rice (White) vs.
	 Disco Trolls</h3>More info: <a href="https://www.golnetwork.com/game/v/230
	78/">#164</a>\n\n</BODY>\n</HTML>
STATUS:CONFIRMED
CLASS:PUBLIC
URL:https://www.golnetwork.com/game/v/23078/
X-MICROSOFT-CDO-BUSYSTATUS:BUSY
X-MICROSOFT-CDO-IMPORTANCE:1
END:VEVENT
BEGIN:VEVENT
UID:g2c11@games.golnetwork.com
LOCATION:East York CI
GEO:45.10662;-94.578209
CREATED:20121107T192129Z
DTSTART:20121130T015000Z
DTEND:20121130T024500Z
DTSTAMP:20260420T004504Z
SUMMARY:AC A Little Silhouette of Milan vs. Rice (White)
DESCRIPTION:Rice (White) vs. AC A Little Silhouette of MilanMore info: #153
X-ALT-DESC;FMTTYPE=text/html:<!DOCTYPE HTML PUBLIC "-//W3C//DTD HTML 3.2//E
	N">\n<HTML>\n<HEAD>\n<TITLE></TITLE>\n</HEAD>\n<BODY>\n<h3>Rice (White) vs.
	 AC A Little Silhouette of Milan</h3>More info: <a href="https://www.golnet
	work.com/game/v/23072/">#153</a>\n\n</BODY>\n</HTML>
STATUS:CONFIRMED
CLASS:PUBLIC
URL:https://www.golnetwork.com/game/v/23072/
X-MICROSOFT-CDO-BUSYSTATUS:BUSY
X-MICROSOFT-CDO-IMPORTANCE:1
END:VEVENT
BEGIN:VEVENT
UID:g2c0o@games.golnetwork.com
LOCATION:East York CI
GEO:45.10662;-94.578209
CREATED:20121107T192129Z
DTSTART:20121123T005500Z
DTEND:20121123T015000Z
DTSTAMP:20260420T004504Z
SUMMARY:Rice (White) vs. Y U No Kick
DESCRIPTION:Y U No Kick vs. Rice (White)More info: #132
X-ALT-DESC;FMTTYPE=text/html:<!DOCTYPE HTML PUBLIC "-//W3C//DTD HTML 3.2//E
	N">\n<HTML>\n<HEAD>\n<TITLE></TITLE>\n</HEAD>\n<BODY>\n<h3>Y U No Kick vs. 
	Rice (White)</h3>More info: <a href="https://www.golnetwork.com/game/v/2307
	0/">#132</a>\n\n</BODY>\n</HTML>
STATUS:CONFIRMED
CLASS:PUBLIC
URL:https://www.golnetwork.com/game/v/23070/
X-MICROSOFT-CDO-BUSYSTATUS:BUSY
X-MICROSOFT-CDO-IMPORTANCE:1
END:VEVENT
BEGIN:VEVENT
UID:g2c0m@games.golnetwork.com
LOCATION:East York CI
GEO:45.10662;-94.578209
CREATED:20121107T192129Z
DTSTART:20121123T000000Z
DTEND:20121123T005500Z
DTSTAMP:20260420T004504Z
SUMMARY:Rice (White) vs. Disco Trolls
DESCRIPTION:Disco Trolls vs. Rice (White)More info: #131
X-ALT-DESC;FMTTYPE=text/html:<!DOCTYPE HTML PUBLIC "-//W3C//DTD HTML 3.2//E
	N">\n<HTML>\n<HEAD>\n<TITLE></TITLE>\n</HEAD>\n<BODY>\n<h3>Disco Trolls vs.
	 Rice (White)</h3>More info: <a href="https://www.golnetwork.com/game/v/230
	69/">#131</a>\n\n</BODY>\n</HTML>
STATUS:CONFIRMED
CLASS:PUBLIC
URL:https://www.golnetwork.com/game/v/23069/
X-MICROSOFT-CDO-BUSYSTATUS:BUSY
X-MICROSOFT-CDO-IMPORTANCE:1
END:VEVENT
BEGIN:VEVENT
UID:g28ck@games.golnetwork.com
LOCATION:East York CI
GEO:45.10662;-94.578209
CREATED:20121022T192237Z
DTSTART:20121109T013000Z
DTEND:20121109T023000Z
DTSTAMP:20260420T004504Z
SUMMARY:Rice (White) vs. Let's Just Have Some Fun (White)
DESCRIPTION:Let's Just Have Some Fun (White) vs. Rice (White)More info: #10
	1
X-ALT-DESC;FMTTYPE=text/html:<!DOCTYPE HTML PUBLIC "-//W3C//DTD HTML 3.2//E
	N">\n<HTML>\n<HEAD>\n<TITLE></TITLE>\n</HEAD>\n<BODY>\n<h3>Let's Just Have 
	Some Fun (White) vs. Rice (White)</h3>More info: <a href="https://www.golne
	twork.com/game/v/21772/">#101</a>\n\n</BODY>\n</HTML>
STATUS:CONFIRMED
CLASS:PUBLIC
URL:https://www.golnetwork.com/game/v/21772/
X-MICROSOFT-CDO-BUSYSTATUS:BUSY
X-MICROSOFT-CDO-IMPORTANCE:1
END:VEVENT
BEGIN:VEVENT
UID:g28ce@games.golnetwork.com
LOCATION:East York CI
GEO:45.10662;-94.578209
CREATED:20121022T192237Z
DTSTART:20121102T003000Z
DTEND:20121102T013000Z
DTSTAMP:20260420T004504Z
SUMMARY:AC A Little Silhouette of Milan vs. Rice (White)
DESCRIPTION:Rice (White) vs. AC A Little Silhouette of MilanMore info: #84
X-ALT-DESC;FMTTYPE=text/html:<!DOCTYPE HTML PUBLIC "-//W3C//DTD HTML 3.2//E
	N">\n<HTML>\n<HEAD>\n<TITLE></TITLE>\n</HEAD>\n<BODY>\n<h3>Rice (White) vs.
	 AC A Little Silhouette of Milan</h3>More info: <a href="https://www.golnet
	work.com/game/v/21769/">#84</a>\n\n</BODY>\n</HTML>
STATUS:CONFIRMED
CLASS:PUBLIC
URL:https://www.golnetwork.com/game/v/21769/
X-MICROSOFT-CDO-BUSYSTATUS:BUSY
X-MICROSOFT-CDO-IMPORTANCE:1
END:VEVENT
BEGIN:VEVENT
UID:g28c8@games.golnetwork.com
LOCATION:East York CI
GEO:45.10662;-94.578209
CREATED:20121022T192237Z
DTSTART:20121026T003000Z
DTEND:20121026T013000Z
DTSTAMP:20260420T004504Z
SUMMARY:Let's Just Have Some Fun (White) vs. Rice (White)
DESCRIPTION:Rice (White) vs. Let's Just Have Some Fun (White)More info: #67
X-ALT-DESC;FMTTYPE=text/html:<!DOCTYPE HTML PUBLIC "-//W3C//DTD HTML 3.2//E
	N">\n<HTML>\n<HEAD>\n<TITLE></TITLE>\n</HEAD>\n<BODY>\n<h3>Rice (White) vs.
	 Let's Just Have Some Fun (White)</h3>More info: <a href="https://www.golne
	twork.com/game/v/21766/">#67</a>\n\n</BODY>\n</HTML>
STATUS:CONFIRMED
CLASS:PUBLIC
URL:https://www.golnetwork.com/game/v/21766/
X-MICROSOFT-CDO-BUSYSTATUS:BUSY
X-MICROSOFT-CDO-IMPORTANCE:1
END:VEVENT
END:VCALENDAR
