BEGIN:VCALENDAR
PRODID:-//gdesolutions.com//MV Framework 1.0.0.1607 Calendar//EN
VERSION:2.0
METHOD:PUBLISH
CALSCALE:GREGORIAN
BEGIN:VEVENT
UID:g1kob@games.golnetwork.com
LOCATION:Glamorgan Park
GEO:43.772405;-79.2875322
CREATED:20120605T205844Z
DTSTART:20120710T013000Z
DTEND:20120710T033000Z
DTSTAMP:20260419T212651Z
SUMMARY:Slush Puppies vs. TeamPro
DESCRIPTION:TeamPro vs. Slush PuppiesMore info: #29
X-ALT-DESC;FMTTYPE=text/html:<!DOCTYPE HTML PUBLIC "-//W3C//DTD HTML 3.2//E
	N">\n<HTML>\n<HEAD>\n<TITLE></TITLE>\n</HEAD>\n<BODY>\n<h3>TeamPro vs. Slus
	h Puppies</h3>More info: <a href="https://www.golnetwork.com/game/v/16462/"
	>#29</a>\n\n</BODY>\n</HTML>
STATUS:CONFIRMED
CLASS:PUBLIC
URL:https://www.golnetwork.com/game/v/16462/
X-MICROSOFT-CDO-BUSYSTATUS:BUSY
X-MICROSOFT-CDO-IMPORTANCE:1
END:VEVENT
BEGIN:VEVENT
UID:g1knq@games.golnetwork.com
LOCATION:L'amoreaux #4
GEO:43.8120425;-79.3050292
CREATED:20120605T205844Z
DTSTART:20120703T013000Z
DTEND:20120703T033000Z
DTSTAMP:20260419T212651Z
SUMMARY:Nom Noms vs. Slush Puppies
DESCRIPTION:Slush Puppies vs. Nom NomsMore info: #24
X-ALT-DESC;FMTTYPE=text/html:<!DOCTYPE HTML PUBLIC "-//W3C//DTD HTML 3.2//E
	N">\n<HTML>\n<HEAD>\n<TITLE></TITLE>\n</HEAD>\n<BODY>\n<h3>Slush Puppies vs
	. Nom Noms</h3>More info: <a href="https://www.golnetwork.com/game/v/16456/
	">#24</a>\n\n</BODY>\n</HTML>
STATUS:CONFIRMED
CLASS:PUBLIC
URL:https://www.golnetwork.com/game/v/16456/
X-MICROSOFT-CDO-BUSYSTATUS:BUSY
X-MICROSOFT-CDO-IMPORTANCE:1
END:VEVENT
BEGIN:VEVENT
UID:g1knc@games.golnetwork.com
LOCATION:L'amoreaux #4
GEO:43.8120425;-79.3050292
CREATED:20120605T205844Z
DTSTART:20120626T013000Z
DTEND:20120626T033000Z
DTSTAMP:20260419T212651Z
SUMMARY:Umbra vs. Slush Puppies
DESCRIPTION:Slush Puppies vs. UmbraMore info: #18
X-ALT-DESC;FMTTYPE=text/html:<!DOCTYPE HTML PUBLIC "-//W3C//DTD HTML 3.2//E
	N">\n<HTML>\n<HEAD>\n<TITLE></TITLE>\n</HEAD>\n<BODY>\n<h3>Slush Puppies vs
	. Umbra</h3>More info: <a href="https://www.golnetwork.com/game/v/16449/">#
	18</a>\n\n</BODY>\n</HTML>
STATUS:CONFIRMED
CLASS:PUBLIC
URL:https://www.golnetwork.com/game/v/16449/
X-MICROSOFT-CDO-BUSYSTATUS:BUSY
X-MICROSOFT-CDO-IMPORTANCE:1
END:VEVENT
BEGIN:VEVENT
UID:g1kmp@games.golnetwork.com
LOCATION:L'amoreaux #4
GEO:43.8120425;-79.3050292
CREATED:20120605T205844Z
DTSTART:20120618T233000Z
DTEND:20120619T013000Z
DTSTAMP:20260419T212651Z
SUMMARY:Blue Devils vs. Slush Puppies
DESCRIPTION:Slush Puppies vs. Blue DevilsMore info: #10
X-ALT-DESC;FMTTYPE=text/html:<!DOCTYPE HTML PUBLIC "-//W3C//DTD HTML 3.2//E
	N">\n<HTML>\n<HEAD>\n<TITLE></TITLE>\n</HEAD>\n<BODY>\n<h3>Slush Puppies vs
	. Blue Devils</h3>More info: <a href="https://www.golnetwork.com/game/v/164
	42/">#10</a>\n\n</BODY>\n</HTML>
STATUS:CONFIRMED
CLASS:PUBLIC
URL:https://www.golnetwork.com/game/v/16442/
X-MICROSOFT-CDO-BUSYSTATUS:BUSY
X-MICROSOFT-CDO-IMPORTANCE:1
END:VEVENT
BEGIN:VEVENT
UID:g1kmb@games.golnetwork.com
LOCATION:L'amoreaux #4
GEO:43.8120425;-79.3050292
CREATED:20120605T205844Z
DTSTART:20120611T233000Z
DTEND:20120612T013000Z
DTSTAMP:20260419T212651Z
SUMMARY:Strikers vs. Slush Puppies
DESCRIPTION:Slush Puppies vs. StrikersMore info: #4
X-ALT-DESC;FMTTYPE=text/html:<!DOCTYPE HTML PUBLIC "-//W3C//DTD HTML 3.2//E
	N">\n<HTML>\n<HEAD>\n<TITLE></TITLE>\n</HEAD>\n<BODY>\n<h3>Slush Puppies vs
	. Strikers</h3>More info: <a href="https://www.golnetwork.com/game/v/16435/
	">#4</a>\n\n</BODY>\n</HTML>
STATUS:CONFIRMED
CLASS:PUBLIC
URL:https://www.golnetwork.com/game/v/16435/
X-MICROSOFT-CDO-BUSYSTATUS:BUSY
X-MICROSOFT-CDO-IMPORTANCE:1
END:VEVENT
END:VCALENDAR
