BEGIN:VCALENDAR
PRODID:-//gdesolutions.com//MV Framework 1.0.0.1607 Calendar//EN
VERSION:2.0
METHOD:PUBLISH
CALSCALE:GREGORIAN
BEGIN:VEVENT
UID:g1m7o@games.golnetwork.com
LOCATION:Hobart Park
GEO:43.7911184;-79.3503834
CREATED:20120615T153932Z
DTSTART:20120610T223000Z
DTEND:20120610T233000Z
DTSTAMP:20260420T012803Z
SUMMARY:Shooters vs. Bergen & Associates
DESCRIPTION:Bergen & Associates vs. ShootersMore info: #47
X-ALT-DESC;FMTTYPE=text/html:<!DOCTYPE HTML PUBLIC "-//W3C//DTD HTML 3.2//E
	N">\n<HTML>\n<HEAD>\n<TITLE></TITLE>\n</HEAD>\n<BODY>\n<h3>Bergen & Associa
	tes vs. Shooters</h3>More info: <a href="https://www.golnetwork.com/game/v/
	16968/">#47</a>\n\n</BODY>\n</HTML>
STATUS:CONFIRMED
CLASS:PUBLIC
URL:https://www.golnetwork.com/game/v/16968/
X-MICROSOFT-CDO-BUSYSTATUS:BUSY
X-MICROSOFT-CDO-IMPORTANCE:1
END:VEVENT
BEGIN:VEVENT
UID:g1m7k@games.golnetwork.com
LOCATION:Havenbrook Park
GEO:43.7367624;-79.3448862
CREATED:20120615T153932Z
DTSTART:20120608T233000Z
DTEND:20120609T003000Z
DTSTAMP:20260420T012803Z
SUMMARY:Shooters vs. Triple Crown
DESCRIPTION:Triple Crown vs. ShootersMore info: #46
X-ALT-DESC;FMTTYPE=text/html:<!DOCTYPE HTML PUBLIC "-//W3C//DTD HTML 3.2//E
	N">\n<HTML>\n<HEAD>\n<TITLE></TITLE>\n</HEAD>\n<BODY>\n<h3>Triple Crown vs.
	 Shooters</h3>More info: <a href="https://www.golnetwork.com/game/v/16966/"
	>#46</a>\n\n</BODY>\n</HTML>
STATUS:CONFIRMED
CLASS:PUBLIC
URL:https://www.golnetwork.com/game/v/16966/
X-MICROSOFT-CDO-BUSYSTATUS:BUSY
X-MICROSOFT-CDO-IMPORTANCE:1
END:VEVENT
BEGIN:VEVENT
UID:g1m7e@games.golnetwork.com
LOCATION:Havenbrook Park
GEO:43.7367624;-79.3448862
CREATED:20120615T153932Z
DTSTART:20120608T223000Z
DTEND:20120608T233000Z
DTSTAMP:20260420T012803Z
SUMMARY:East Toronto Chinese Baptist Church vs. Shooters
DESCRIPTION:Shooters vs. East Toronto Chinese Baptist ChurchMore info: #44
X-ALT-DESC;FMTTYPE=text/html:<!DOCTYPE HTML PUBLIC "-//W3C//DTD HTML 3.2//E
	N">\n<HTML>\n<HEAD>\n<TITLE></TITLE>\n</HEAD>\n<BODY>\n<h3>Shooters vs. Eas
	t Toronto Chinese Baptist Church</h3>More info: <a href="https://www.golnet
	work.com/game/v/16963/">#44</a>\n\n</BODY>\n</HTML>
STATUS:CONFIRMED
CLASS:PUBLIC
URL:https://www.golnetwork.com/game/v/16963/
X-MICROSOFT-CDO-BUSYSTATUS:BUSY
X-MICROSOFT-CDO-IMPORTANCE:1
END:VEVENT
BEGIN:VEVENT
UID:g1m6p@games.golnetwork.com
LOCATION:Havenbrook Park
GEO:43.7367624;-79.3448862
CREATED:20120615T153932Z
DTSTART:20120601T223000Z
DTEND:20120601T233000Z
DTSTAMP:20260420T012803Z
SUMMARY:Karen Millar Realty vs. Shooters
DESCRIPTION:Shooters vs. Karen Millar RealtyMore info: #37
X-ALT-DESC;FMTTYPE=text/html:<!DOCTYPE HTML PUBLIC "-//W3C//DTD HTML 3.2//E
	N">\n<HTML>\n<HEAD>\n<TITLE></TITLE>\n</HEAD>\n<BODY>\n<h3>Shooters vs. Kar
	en Millar Realty</h3>More info: <a href="https://www.golnetwork.com/game/v/
	16955/">#37</a>\n\n</BODY>\n</HTML>
STATUS:CONFIRMED
CLASS:PUBLIC
URL:https://www.golnetwork.com/game/v/16955/
X-MICROSOFT-CDO-BUSYSTATUS:BUSY
X-MICROSOFT-CDO-IMPORTANCE:1
END:VEVENT
BEGIN:VEVENT
UID:g1m6h@games.golnetwork.com
LOCATION:Hobart Park
GEO:43.7911184;-79.3503834
CREATED:20120615T153932Z
DTSTART:20120525T233000Z
DTEND:20120526T003000Z
DTSTAMP:20260420T012803Z
SUMMARY:Shooters vs. Bob Bannerman
DESCRIPTION:Bob Bannerman vs. ShootersMore info: #33
X-ALT-DESC;FMTTYPE=text/html:<!DOCTYPE HTML PUBLIC "-//W3C//DTD HTML 3.2//E
	N">\n<HTML>\n<HEAD>\n<TITLE></TITLE>\n</HEAD>\n<BODY>\n<h3>Bob Bannerman vs
	. Shooters</h3>More info: <a href="https://www.golnetwork.com/game/v/16951/
	">#33</a>\n\n</BODY>\n</HTML>
STATUS:CONFIRMED
CLASS:PUBLIC
URL:https://www.golnetwork.com/game/v/16951/
X-MICROSOFT-CDO-BUSYSTATUS:BUSY
X-MICROSOFT-CDO-IMPORTANCE:1
END:VEVENT
BEGIN:VEVENT
UID:g1m6f@games.golnetwork.com
LOCATION:Hobart Park
GEO:43.7911184;-79.3503834
CREATED:20120615T153932Z
DTSTART:20120525T223000Z
DTEND:20120525T233000Z
DTSTAMP:20260420T012803Z
SUMMARY:Fortis Electric vs. Shooters
DESCRIPTION:Shooters vs. Fortis ElectricMore info: #31
X-ALT-DESC;FMTTYPE=text/html:<!DOCTYPE HTML PUBLIC "-//W3C//DTD HTML 3.2//E
	N">\n<HTML>\n<HEAD>\n<TITLE></TITLE>\n</HEAD>\n<BODY>\n<h3>Shooters vs. For
	tis Electric</h3>More info: <a href="https://www.golnetwork.com/game/v/1695
	0/">#31</a>\n\n</BODY>\n</HTML>
STATUS:CONFIRMED
CLASS:PUBLIC
URL:https://www.golnetwork.com/game/v/16950/
X-MICROSOFT-CDO-BUSYSTATUS:BUSY
X-MICROSOFT-CDO-IMPORTANCE:1
END:VEVENT
BEGIN:VEVENT
UID:g1m69@games.golnetwork.com
LOCATION:Havenbrook Park
GEO:43.7367624;-79.3448862
CREATED:20120615T153932Z
DTSTART:20120520T223000Z
DTEND:20120520T233000Z
DTSTAMP:20260420T012803Z
SUMMARY:Triple Crown vs. Shooters
DESCRIPTION:Shooters vs. Triple CrownMore info: #29
X-ALT-DESC;FMTTYPE=text/html:<!DOCTYPE HTML PUBLIC "-//W3C//DTD HTML 3.2//E
	N">\n<HTML>\n<HEAD>\n<TITLE></TITLE>\n</HEAD>\n<BODY>\n<h3>Shooters vs. Tri
	ple Crown</h3>More info: <a href="https://www.golnetwork.com/game/v/16947/"
	>#29</a>\n\n</BODY>\n</HTML>
STATUS:CONFIRMED
CLASS:PUBLIC
URL:https://www.golnetwork.com/game/v/16947/
X-MICROSOFT-CDO-BUSYSTATUS:BUSY
X-MICROSOFT-CDO-IMPORTANCE:1
END:VEVENT
BEGIN:VEVENT
UID:g1m63@games.golnetwork.com
LOCATION:Havenbrook Park
GEO:43.7367624;-79.3448862
CREATED:20120615T153932Z
DTSTART:20120518T223000Z
DTEND:20120518T233000Z
DTSTAMP:20260420T012803Z
SUMMARY:East Toronto Chinese Baptist Church vs. Shooters
DESCRIPTION:Shooters vs. East Toronto Chinese Baptist ChurchMore info: #26
X-ALT-DESC;FMTTYPE=text/html:<!DOCTYPE HTML PUBLIC "-//W3C//DTD HTML 3.2//E
	N">\n<HTML>\n<HEAD>\n<TITLE></TITLE>\n</HEAD>\n<BODY>\n<h3>Shooters vs. Eas
	t Toronto Chinese Baptist Church</h3>More info: <a href="https://www.golnet
	work.com/game/v/16944/">#26</a>\n\n</BODY>\n</HTML>
STATUS:CONFIRMED
CLASS:PUBLIC
URL:https://www.golnetwork.com/game/v/16944/
X-MICROSOFT-CDO-BUSYSTATUS:BUSY
X-MICROSOFT-CDO-IMPORTANCE:1
END:VEVENT
BEGIN:VEVENT
UID:g1m5i@games.golnetwork.com
LOCATION:Havenbrook Park
GEO:43.7367624;-79.3448862
CREATED:20120615T153932Z
DTSTART:20120511T223000Z
DTEND:20120511T233000Z
DTSTAMP:20260420T012803Z
SUMMARY:Shooters vs. Bob Bannerman
DESCRIPTION:Bob Bannerman vs. ShootersMore info: #20
X-ALT-DESC;FMTTYPE=text/html:<!DOCTYPE HTML PUBLIC "-//W3C//DTD HTML 3.2//E
	N">\n<HTML>\n<HEAD>\n<TITLE></TITLE>\n</HEAD>\n<BODY>\n<h3>Bob Bannerman vs
	. Shooters</h3>More info: <a href="https://www.golnetwork.com/game/v/16938/
	">#20</a>\n\n</BODY>\n</HTML>
STATUS:CONFIRMED
CLASS:PUBLIC
URL:https://www.golnetwork.com/game/v/16938/
X-MICROSOFT-CDO-BUSYSTATUS:BUSY
X-MICROSOFT-CDO-IMPORTANCE:1
END:VEVENT
BEGIN:VEVENT
UID:g1m50@games.golnetwork.com
LOCATION:Havenbrook Park
GEO:43.7367624;-79.3448862
CREATED:20120615T153932Z
DTSTART:20120429T223000Z
DTEND:20120429T233000Z
DTSTAMP:20260420T012803Z
SUMMARY:Shooters vs. Bob Bannerman
DESCRIPTION:Bob Bannerman vs. ShootersMore info: #11
X-ALT-DESC;FMTTYPE=text/html:<!DOCTYPE HTML PUBLIC "-//W3C//DTD HTML 3.2//E
	N">\n<HTML>\n<HEAD>\n<TITLE></TITLE>\n</HEAD>\n<BODY>\n<h3>Bob Bannerman vs
	. Shooters</h3>More info: <a href="https://www.golnetwork.com/game/v/16929/
	">#11</a>\n\n</BODY>\n</HTML>
STATUS:CONFIRMED
CLASS:PUBLIC
URL:https://www.golnetwork.com/game/v/16929/
X-MICROSOFT-CDO-BUSYSTATUS:BUSY
X-MICROSOFT-CDO-IMPORTANCE:1
END:VEVENT
BEGIN:VEVENT
UID:g1m4j@games.golnetwork.com
LOCATION:Havenbrook Park
GEO:43.7367624;-79.3448862
CREATED:20120615T153932Z
DTSTART:20120427T223000Z
DTEND:20120427T233000Z
DTSTAMP:20260420T012803Z
SUMMARY:East Toronto Chinese Baptist Church vs. Shooters
DESCRIPTION:Shooters vs. East Toronto Chinese Baptist ChurchMore info: #8
X-ALT-DESC;FMTTYPE=text/html:<!DOCTYPE HTML PUBLIC "-//W3C//DTD HTML 3.2//E
	N">\n<HTML>\n<HEAD>\n<TITLE></TITLE>\n</HEAD>\n<BODY>\n<h3>Shooters vs. Eas
	t Toronto Chinese Baptist Church</h3>More info: <a href="https://www.golnet
	work.com/game/v/16925/">#8</a>\n\n</BODY>\n</HTML>
STATUS:CONFIRMED
CLASS:PUBLIC
URL:https://www.golnetwork.com/game/v/16925/
X-MICROSOFT-CDO-BUSYSTATUS:BUSY
X-MICROSOFT-CDO-IMPORTANCE:1
END:VEVENT
BEGIN:VEVENT
UID:g1m4d@games.golnetwork.com
LOCATION:Havenbrook Park
GEO:43.7367624;-79.3448862
CREATED:20120615T153932Z
DTSTART:20120422T223000Z
DTEND:20120422T233000Z
DTSTAMP:20260420T012803Z
SUMMARY:Bergen & Associates vs. Shooters
DESCRIPTION:Shooters vs. Bergen & AssociatesMore info: #5
X-ALT-DESC;FMTTYPE=text/html:<!DOCTYPE HTML PUBLIC "-//W3C//DTD HTML 3.2//E
	N">\n<HTML>\n<HEAD>\n<TITLE></TITLE>\n</HEAD>\n<BODY>\n<h3>Shooters vs. Ber
	gen & Associates</h3>More info: <a href="https://www.golnetwork.com/game/v/
	16922/">#5</a>\n\n</BODY>\n</HTML>
STATUS:CONFIRMED
CLASS:PUBLIC
URL:https://www.golnetwork.com/game/v/16922/
X-MICROSOFT-CDO-BUSYSTATUS:BUSY
X-MICROSOFT-CDO-IMPORTANCE:1
END:VEVENT
BEGIN:VEVENT
UID:g1m47@games.golnetwork.com
LOCATION:Hobart Park
GEO:43.7911184;-79.3503834
CREATED:20120615T153932Z
DTSTART:20120420T223000Z
DTEND:20120420T233000Z
DTSTAMP:20260420T012803Z
SUMMARY:Karen Millar Realty vs. Shooters
DESCRIPTION:Shooters vs. Karen Millar RealtyMore info: #1
X-ALT-DESC;FMTTYPE=text/html:<!DOCTYPE HTML PUBLIC "-//W3C//DTD HTML 3.2//E
	N">\n<HTML>\n<HEAD>\n<TITLE></TITLE>\n</HEAD>\n<BODY>\n<h3>Shooters vs. Kar
	en Millar Realty</h3>More info: <a href="https://www.golnetwork.com/game/v/
	16919/">#1</a>\n\n</BODY>\n</HTML>
STATUS:CONFIRMED
CLASS:PUBLIC
URL:https://www.golnetwork.com/game/v/16919/
X-MICROSOFT-CDO-BUSYSTATUS:BUSY
X-MICROSOFT-CDO-IMPORTANCE:1
END:VEVENT
END:VCALENDAR
