BEGIN:VCALENDAR
PRODID:-//gdesolutions.com//MV Framework 1.0.0.1607 Calendar//EN
VERSION:2.0
METHOD:PUBLISH
CALSCALE:GREGORIAN
BEGIN:VEVENT
UID:g79l5@games.golnetwork.com
LOCATION:Cherry Beach East 1
CREATED:20150702T183231Z
DTSTART:20150909T030000Z
DTEND:20150909T040000Z
DTSTAMP:20260421T102409Z
SUMMARY:The Hooligans vs. Lakeshore FC
DESCRIPTION:Lakeshore FC vs. The HooligansMore info: #392
X-ALT-DESC;FMTTYPE=text/html:<!DOCTYPE HTML PUBLIC "-//W3C//DTD HTML 3.2//E
	N">\n<HTML>\n<HEAD>\n<TITLE></TITLE>\n</HEAD>\n<BODY>\n<h3>Lakeshore FC vs.
	 The Hooligans</h3>More info: <a href="https://www.golnetwork.com/game/v/71
	458/">#392</a>\n\n</BODY>\n</HTML>
STATUS:CONFIRMED
CLASS:PUBLIC
URL:https://www.golnetwork.com/game/v/71458/
X-MICROSOFT-CDO-BUSYSTATUS:BUSY
X-MICROSOFT-CDO-IMPORTANCE:1
END:VEVENT
BEGIN:VEVENT
UID:g79ko@games.golnetwork.com
LOCATION:Cherry Beach East 3
CREATED:20150702T183231Z
DTSTART:20150902T030000Z
DTEND:20150902T040000Z
DTSTAMP:20260421T102409Z
SUMMARY:Gringos vs. The Hooligans
DESCRIPTION:The Hooligans vs. GringosMore info: #376
X-ALT-DESC;FMTTYPE=text/html:<!DOCTYPE HTML PUBLIC "-//W3C//DTD HTML 3.2//E
	N">\n<HTML>\n<HEAD>\n<TITLE></TITLE>\n</HEAD>\n<BODY>\n<h3>The Hooligans vs
	. Gringos</h3>More info: <a href="https://www.golnetwork.com/game/v/71454/"
	>#376</a>\n\n</BODY>\n</HTML>
STATUS:CONFIRMED
CLASS:PUBLIC
URL:https://www.golnetwork.com/game/v/71454/
X-MICROSOFT-CDO-BUSYSTATUS:BUSY
X-MICROSOFT-CDO-IMPORTANCE:1
END:VEVENT
BEGIN:VEVENT
UID:g79ka@games.golnetwork.com
LOCATION:Cherry Beach East 1
CREATED:20150702T183231Z
DTSTART:20150826T020000Z
DTEND:20150826T030000Z
DTSTAMP:20260421T102409Z
SUMMARY:The Hooligans vs. Gringos
DESCRIPTION:Gringos vs. The HooligansMore info: #321
X-ALT-DESC;FMTTYPE=text/html:<!DOCTYPE HTML PUBLIC "-//W3C//DTD HTML 3.2//E
	N">\n<HTML>\n<HEAD>\n<TITLE></TITLE>\n</HEAD>\n<BODY>\n<h3>Gringos vs. The 
	Hooligans</h3>More info: <a href="https://www.golnetwork.com/game/v/71447/"
	>#321</a>\n\n</BODY>\n</HTML>
STATUS:CONFIRMED
CLASS:PUBLIC
URL:https://www.golnetwork.com/game/v/71447/
X-MICROSOFT-CDO-BUSYSTATUS:BUSY
X-MICROSOFT-CDO-IMPORTANCE:1
END:VEVENT
BEGIN:VEVENT
UID:g79k2@games.golnetwork.com
LOCATION:Cherry Beach East 1
CREATED:20150702T183231Z
DTSTART:20150819T010000Z
DTEND:20150819T020000Z
DTSTAMP:20260421T102409Z
SUMMARY:The Hooligans vs. Shut your legs or I'll meg ya
DESCRIPTION:Shut your legs or I'll meg ya vs. The HooligansMore info: #270
X-ALT-DESC;FMTTYPE=text/html:<!DOCTYPE HTML PUBLIC "-//W3C//DTD HTML 3.2//E
	N">\n<HTML>\n<HEAD>\n<TITLE></TITLE>\n</HEAD>\n<BODY>\n<h3>Shut your legs o
	r I'll meg ya vs. The Hooligans</h3>More info: <a href="https://www.golnetw
	ork.com/game/v/71443/">#270</a>\n\n</BODY>\n</HTML>
STATUS:CONFIRMED
CLASS:PUBLIC
URL:https://www.golnetwork.com/game/v/71443/
X-MICROSOFT-CDO-BUSYSTATUS:BUSY
X-MICROSOFT-CDO-IMPORTANCE:1
END:VEVENT
BEGIN:VEVENT
UID:g79jl@games.golnetwork.com
LOCATION:Cherry Beach East 3
CREATED:20150702T183231Z
DTSTART:20150812T030000Z
DTEND:20150812T040000Z
DTSTAMP:20260421T102409Z
SUMMARY:The Hooligans vs. Cisco FC
DESCRIPTION:Cisco FC vs. The HooligansMore info: #224
X-ALT-DESC;FMTTYPE=text/html:<!DOCTYPE HTML PUBLIC "-//W3C//DTD HTML 3.2//E
	N">\n<HTML>\n<HEAD>\n<TITLE></TITLE>\n</HEAD>\n<BODY>\n<h3>Cisco FC vs. The
	 Hooligans</h3>More info: <a href="https://www.golnetwork.com/game/v/71439/
	">#224</a>\n\n</BODY>\n</HTML>
STATUS:CONFIRMED
CLASS:PUBLIC
URL:https://www.golnetwork.com/game/v/71439/
X-MICROSOFT-CDO-BUSYSTATUS:BUSY
X-MICROSOFT-CDO-IMPORTANCE:1
END:VEVENT
BEGIN:VEVENT
UID:g79jb@games.golnetwork.com
LOCATION:Cherry Beach East 3
CREATED:20150702T183231Z
DTSTART:20150805T010000Z
DTEND:20150805T020000Z
DTSTAMP:20260421T102409Z
SUMMARY:One Team One Dream vs. The Hooligans
DESCRIPTION:The Hooligans vs. One Team One DreamMore info: #164
X-ALT-DESC;FMTTYPE=text/html:<!DOCTYPE HTML PUBLIC "-//W3C//DTD HTML 3.2//E
	N">\n<HTML>\n<HEAD>\n<TITLE></TITLE>\n</HEAD>\n<BODY>\n<h3>The Hooligans vs
	. One Team One Dream</h3>More info: <a href="https://www.golnetwork.com/gam
	e/v/71434/">#164</a>\n\n</BODY>\n</HTML>
STATUS:CONFIRMED
CLASS:PUBLIC
URL:https://www.golnetwork.com/game/v/71434/
X-MICROSOFT-CDO-BUSYSTATUS:BUSY
X-MICROSOFT-CDO-IMPORTANCE:1
END:VEVENT
BEGIN:VEVENT
UID:g79iq@games.golnetwork.com
LOCATION:Cherry Beach East 1
CREATED:20150702T183231Z
DTSTART:20150729T030000Z
DTEND:20150729T040000Z
DTSTAMP:20260421T102409Z
SUMMARY:Molson FC vs. The Hooligans
DESCRIPTION:The Hooligans vs. Molson FCMore info: #142
X-ALT-DESC;FMTTYPE=text/html:<!DOCTYPE HTML PUBLIC "-//W3C//DTD HTML 3.2//E
	N">\n<HTML>\n<HEAD>\n<TITLE></TITLE>\n</HEAD>\n<BODY>\n<h3>The Hooligans vs
	. Molson FC</h3>More info: <a href="https://www.golnetwork.com/game/v/71428
	/">#142</a>\n\n</BODY>\n</HTML>
STATUS:CONFIRMED
CLASS:PUBLIC
URL:https://www.golnetwork.com/game/v/71428/
X-MICROSOFT-CDO-BUSYSTATUS:BUSY
X-MICROSOFT-CDO-IMPORTANCE:1
END:VEVENT
BEGIN:VEVENT
UID:g79ie@games.golnetwork.com
LOCATION:Cherry Beach East 1
CREATED:20150702T183231Z
DTSTART:20150722T020000Z
DTEND:20150722T030000Z
DTSTAMP:20260421T102409Z
SUMMARY:ID FC vs. The Hooligans
DESCRIPTION:The Hooligans vs. ID FCMore info: #96
X-ALT-DESC;FMTTYPE=text/html:<!DOCTYPE HTML PUBLIC "-//W3C//DTD HTML 3.2//E
	N">\n<HTML>\n<HEAD>\n<TITLE></TITLE>\n</HEAD>\n<BODY>\n<h3>The Hooligans vs
	. ID FC</h3>More info: <a href="https://www.golnetwork.com/game/v/71422/">#
	96</a>\n\n</BODY>\n</HTML>
STATUS:CONFIRMED
CLASS:PUBLIC
URL:https://www.golnetwork.com/game/v/71422/
X-MICROSOFT-CDO-BUSYSTATUS:BUSY
X-MICROSOFT-CDO-IMPORTANCE:1
END:VEVENT
BEGIN:VEVENT
UID:g79i2@games.golnetwork.com
LOCATION:Cherry Beach East 3
CREATED:20150702T183230Z
DTSTART:20150715T010000Z
DTEND:20150715T020000Z
DTSTAMP:20260421T102409Z
SUMMARY:XTSC Power vs. The Hooligans
DESCRIPTION:The Hooligans vs. XTSC PowerMore info: #45
X-ALT-DESC;FMTTYPE=text/html:<!DOCTYPE HTML PUBLIC "-//W3C//DTD HTML 3.2//E
	N">\n<HTML>\n<HEAD>\n<TITLE></TITLE>\n</HEAD>\n<BODY>\n<h3>The Hooligans vs
	. XTSC Power</h3>More info: <a href="https://www.golnetwork.com/game/v/7141
	6/">#45</a>\n\n</BODY>\n</HTML>
STATUS:CONFIRMED
CLASS:PUBLIC
URL:https://www.golnetwork.com/game/v/71416/
X-MICROSOFT-CDO-BUSYSTATUS:BUSY
X-MICROSOFT-CDO-IMPORTANCE:1
END:VEVENT
END:VCALENDAR
