BEGIN:VCALENDAR
PRODID:-//gdesolutions.com//MV Framework 1.0.0.1607 Calendar//EN
VERSION:2.0
METHOD:PUBLISH
CALSCALE:GREGORIAN
BEGIN:VEVENT
UID:g28bd@games.golnetwork.com
LOCATION:MetroGolf Dome
GEO:43.793932;-79.223587
CREATED:20121017T183312Z
DTSTART:20121116T043000Z
DTEND:20121116T053000Z
DTSTAMP:20260422T160849Z
SUMMARY:Bredrin FC vs. Unathletic Madrid
DESCRIPTION:Unathletic Madrid vs. Bredrin FCMore info: #88
X-ALT-DESC;FMTTYPE=text/html:<!DOCTYPE HTML PUBLIC "-//W3C//DTD HTML 3.2//E
	N">\n<HTML>\n<HEAD>\n<TITLE></TITLE>\n</HEAD>\n<BODY>\n<h3>Unathletic Madri
	d vs. Bredrin FC</h3>More info: <a href="https://www.golnetwork.com/game/v/
	21755/">#88</a>\n\n</BODY>\n</HTML>
STATUS:CONFIRMED
CLASS:PUBLIC
URL:https://www.golnetwork.com/game/v/21755/
X-MICROSOFT-CDO-BUSYSTATUS:BUSY
X-MICROSOFT-CDO-IMPORTANCE:1
END:VEVENT
BEGIN:VEVENT
UID:g28b9@games.golnetwork.com
LOCATION:MetroGolf Dome
GEO:43.793932;-79.223587
CREATED:20121017T183256Z
DTSTART:20121109T033000Z
DTEND:20121109T043000Z
DTSTAMP:20260422T160849Z
SUMMARY:Scarbcelona vs. Bredrin FC
DESCRIPTION:Bredrin FC vs. ScarbcelonaMore info: #84
X-ALT-DESC;FMTTYPE=text/html:<!DOCTYPE HTML PUBLIC "-//W3C//DTD HTML 3.2//E
	N">\n<HTML>\n<HEAD>\n<TITLE></TITLE>\n</HEAD>\n<BODY>\n<h3>Bredrin FC vs. S
	carbcelona</h3>More info: <a href="https://www.golnetwork.com/game/v/21753/
	">#84</a>\n\n</BODY>\n</HTML>
STATUS:CONFIRMED
CLASS:PUBLIC
URL:https://www.golnetwork.com/game/v/21753/
X-MICROSOFT-CDO-BUSYSTATUS:BUSY
X-MICROSOFT-CDO-IMPORTANCE:1
END:VEVENT
BEGIN:VEVENT
UID:g1qp4@games.golnetwork.com
LOCATION:MetroGolf Dome
GEO:43.793932;-79.223587
CREATED:20120910T192904Z
DTSTART:20121102T033000Z
DTEND:20121102T043000Z
DTSTAMP:20260422T160849Z
SUMMARY:Scarbcelona vs. Bredrin FC
DESCRIPTION:Bredrin FC vs. ScarbcelonaMore info: #82
X-ALT-DESC;FMTTYPE=text/html:<!DOCTYPE HTML PUBLIC "-//W3C//DTD HTML 3.2//E
	N">\n<HTML>\n<HEAD>\n<TITLE></TITLE>\n</HEAD>\n<BODY>\n<h3>Bredrin FC vs. S
	carbcelona</h3>More info: <a href="https://www.golnetwork.com/game/v/18659/
	">#82</a>\n\n</BODY>\n</HTML>
STATUS:CONFIRMED
CLASS:PUBLIC
URL:https://www.golnetwork.com/game/v/18659/
X-MICROSOFT-CDO-BUSYSTATUS:BUSY
X-MICROSOFT-CDO-IMPORTANCE:1
END:VEVENT
BEGIN:VEVENT
UID:g1qon@games.golnetwork.com
LOCATION:MetroGolf Dome
GEO:43.793932;-79.223587
CREATED:20120910T192904Z
DTSTART:20121026T023000Z
DTEND:20121026T033000Z
DTSTAMP:20260422T160849Z
SUMMARY:Big Time vs. Bredrin FC
DESCRIPTION:Bredrin FC vs. Big TimeMore info: #73
X-ALT-DESC;FMTTYPE=text/html:<!DOCTYPE HTML PUBLIC "-//W3C//DTD HTML 3.2//E
	N">\n<HTML>\n<HEAD>\n<TITLE></TITLE>\n</HEAD>\n<BODY>\n<h3>Bredrin FC vs. B
	ig Time</h3>More info: <a href="https://www.golnetwork.com/game/v/18655/">#
	73</a>\n\n</BODY>\n</HTML>
STATUS:CONFIRMED
CLASS:PUBLIC
URL:https://www.golnetwork.com/game/v/18655/
X-MICROSOFT-CDO-BUSYSTATUS:BUSY
X-MICROSOFT-CDO-IMPORTANCE:1
END:VEVENT
BEGIN:VEVENT
UID:g1qof@games.golnetwork.com
LOCATION:MetroGolf Dome
GEO:43.793932;-79.223587
CREATED:20120910T192903Z
DTSTART:20121019T013000Z
DTEND:20121019T023000Z
DTSTAMP:20260422T160849Z
SUMMARY:Bredrin FC vs. Pickering FC
DESCRIPTION:Pickering FC vs. Bredrin FCMore info: #62
X-ALT-DESC;FMTTYPE=text/html:<!DOCTYPE HTML PUBLIC "-//W3C//DTD HTML 3.2//E
	N">\n<HTML>\n<HEAD>\n<TITLE></TITLE>\n</HEAD>\n<BODY>\n<h3>Pickering FC vs.
	 Bredrin FC</h3>More info: <a href="https://www.golnetwork.com/game/v/18651
	/">#62</a>\n\n</BODY>\n</HTML>
STATUS:CONFIRMED
CLASS:PUBLIC
URL:https://www.golnetwork.com/game/v/18651/
X-MICROSOFT-CDO-BUSYSTATUS:BUSY
X-MICROSOFT-CDO-IMPORTANCE:1
END:VEVENT
BEGIN:VEVENT
UID:g273c@games.golnetwork.com
LOCATION:MetroGolf Dome
GEO:43.793932;-79.223587
CREATED:20121004T201435Z
DTSTART:20121012T000000Z
DTEND:20121012T010000Z
DTSTAMP:20260422T160849Z
SUMMARY:Bredrin FC vs. Unathletic Madrid
DESCRIPTION:Unathletic Madrid vs. Bredrin FCMore info: #53
X-ALT-DESC;FMTTYPE=text/html:<!DOCTYPE HTML PUBLIC "-//W3C//DTD HTML 3.2//E
	N">\n<HTML>\n<HEAD>\n<TITLE></TITLE>\n</HEAD>\n<BODY>\n<h3>Unathletic Madri
	d vs. Bredrin FC</h3>More info: <a href="https://www.golnetwork.com/game/v/
	21282/">#53</a>\n\n</BODY>\n</HTML>
STATUS:CONFIRMED
CLASS:PUBLIC
URL:https://www.golnetwork.com/game/v/21282/
X-MICROSOFT-CDO-BUSYSTATUS:BUSY
X-MICROSOFT-CDO-IMPORTANCE:1
END:VEVENT
BEGIN:VEVENT
UID:g1qo3@games.golnetwork.com
LOCATION:MetroGolf Dome
GEO:43.793932;-79.223587
CREATED:20120910T192416Z
DTSTART:20121004T230000Z
DTEND:20121005T000000Z
DTSTAMP:20260422T160849Z
SUMMARY:Vinny Chase and the Chasers vs. Bredrin FC
DESCRIPTION:Bredrin FC vs. Vinny Chase and the ChasersMore info: #45
X-ALT-DESC;FMTTYPE=text/html:<!DOCTYPE HTML PUBLIC "-//W3C//DTD HTML 3.2//E
	N">\n<HTML>\n<HEAD>\n<TITLE></TITLE>\n</HEAD>\n<BODY>\n<h3>Bredrin FC vs. V
	inny Chase and the Chasers</h3>More info: <a href="https://www.golnetwork.c
	om/game/v/18645/">#45</a>\n\n</BODY>\n</HTML>
STATUS:CONFIRMED
CLASS:PUBLIC
URL:https://www.golnetwork.com/game/v/18645/
X-MICROSOFT-CDO-BUSYSTATUS:BUSY
X-MICROSOFT-CDO-IMPORTANCE:1
END:VEVENT
BEGIN:VEVENT
UID:g1qno@games.golnetwork.com
LOCATION:MetroGolf Dome
GEO:43.793932;-79.223587
CREATED:20120910T192416Z
DTSTART:20120927T230000Z
DTEND:20120928T000000Z
DTSTAMP:20260422T160849Z
SUMMARY:Bredrin FC vs. Big Time
DESCRIPTION:Big Time vs. Bredrin FCMore info: #34
X-ALT-DESC;FMTTYPE=text/html:<!DOCTYPE HTML PUBLIC "-//W3C//DTD HTML 3.2//E
	N">\n<HTML>\n<HEAD>\n<TITLE></TITLE>\n</HEAD>\n<BODY>\n<h3>Big Time vs. Bre
	drin FC</h3>More info: <a href="https://www.golnetwork.com/game/v/18642/">#
	34</a>\n\n</BODY>\n</HTML>
STATUS:CONFIRMED
CLASS:PUBLIC
URL:https://www.golnetwork.com/game/v/18642/
X-MICROSOFT-CDO-BUSYSTATUS:BUSY
X-MICROSOFT-CDO-IMPORTANCE:1
END:VEVENT
BEGIN:VEVENT
UID:g1qni@games.golnetwork.com
LOCATION:MetroGolf Dome
GEO:43.793932;-79.223587
CREATED:20120910T192416Z
DTSTART:20120920T230000Z
DTEND:20120921T000000Z
DTSTAMP:20260422T160849Z
SUMMARY:Unathletic Madrid vs. Bredrin FC
DESCRIPTION:Bredrin FC vs. Unathletic MadridMore info: #23
X-ALT-DESC;FMTTYPE=text/html:<!DOCTYPE HTML PUBLIC "-//W3C//DTD HTML 3.2//E
	N">\n<HTML>\n<HEAD>\n<TITLE></TITLE>\n</HEAD>\n<BODY>\n<h3>Bredrin FC vs. U
	nathletic Madrid</h3>More info: <a href="https://www.golnetwork.com/game/v/
	18639/">#23</a>\n\n</BODY>\n</HTML>
STATUS:CONFIRMED
CLASS:PUBLIC
URL:https://www.golnetwork.com/game/v/18639/
X-MICROSOFT-CDO-BUSYSTATUS:BUSY
X-MICROSOFT-CDO-IMPORTANCE:1
END:VEVENT
BEGIN:VEVENT
UID:g1qnc@games.golnetwork.com
LOCATION:MetroGolf Dome
GEO:43.793932;-79.223587
CREATED:20120910T192416Z
DTSTART:20120913T230000Z
DTEND:20120914T000000Z
DTSTAMP:20260422T160849Z
SUMMARY:Bredrin FC vs. Pickering FC
DESCRIPTION:Pickering FC vs. Bredrin FCMore info: #13
X-ALT-DESC;FMTTYPE=text/html:<!DOCTYPE HTML PUBLIC "-//W3C//DTD HTML 3.2//E
	N">\n<HTML>\n<HEAD>\n<TITLE></TITLE>\n</HEAD>\n<BODY>\n<h3>Pickering FC vs.
	 Bredrin FC</h3>More info: <a href="https://www.golnetwork.com/game/v/18636
	/">#13</a>\n\n</BODY>\n</HTML>
STATUS:CONFIRMED
CLASS:PUBLIC
URL:https://www.golnetwork.com/game/v/18636/
X-MICROSOFT-CDO-BUSYSTATUS:BUSY
X-MICROSOFT-CDO-IMPORTANCE:1
END:VEVENT
END:VCALENDAR
