BEGIN:VCALENDAR
PRODID:-//gdesolutions.com//MV Framework 1.0.0.1607 Calendar//EN
VERSION:2.0
METHOD:PUBLISH
CALSCALE:GREGORIAN
BEGIN:VEVENT
UID:g4pje@games.golnetwork.com
LOCATION:North Toronto - Field 1
GEO:43.7098022;-79.3963055
CREATED:20140410T211713Z
DTSTART:20140623T235000Z
DTEND:20140624T004500Z
DTSTAMP:20260420T023625Z
SUMMARY:Goal Diggers vs. EFC
DESCRIPTION:EFC vs. Goal DiggersMore info: #442
X-ALT-DESC;FMTTYPE=text/html:<!DOCTYPE HTML PUBLIC "-//W3C//DTD HTML 3.2//E
	N">\n<HTML>\n<HEAD>\n<TITLE></TITLE>\n</HEAD>\n<BODY>\n<h3>EFC vs. Goal Dig
	gers</h3>More info: <a href="https://www.golnetwork.com/game/v/47743/">#442
	</a>\n\n</BODY>\n</HTML>
STATUS:CONFIRMED
CLASS:PUBLIC
URL:https://www.golnetwork.com/game/v/47743/
X-MICROSOFT-CDO-BUSYSTATUS:BUSY
X-MICROSOFT-CDO-IMPORTANCE:1
END:VEVENT
BEGIN:VEVENT
UID:g4pj4@games.golnetwork.com
LOCATION:North Toronto - Field 1
GEO:43.7098022;-79.3963055
CREATED:20140410T211713Z
DTSTART:20140616T220000Z
DTEND:20140616T225500Z
DTSTAMP:20260420T023625Z
SUMMARY:Goal Diggers vs. LinkedIn
DESCRIPTION:LinkedIn vs. Goal DiggersMore info: #384
X-ALT-DESC;FMTTYPE=text/html:<!DOCTYPE HTML PUBLIC "-//W3C//DTD HTML 3.2//E
	N">\n<HTML>\n<HEAD>\n<TITLE></TITLE>\n</HEAD>\n<BODY>\n<h3>LinkedIn vs. Goa
	l Diggers</h3>More info: <a href="https://www.golnetwork.com/game/v/47738/"
	>#384</a>\n\n</BODY>\n</HTML>
STATUS:CONFIRMED
CLASS:PUBLIC
URL:https://www.golnetwork.com/game/v/47738/
X-MICROSOFT-CDO-BUSYSTATUS:BUSY
X-MICROSOFT-CDO-IMPORTANCE:1
END:VEVENT
BEGIN:VEVENT
UID:g4pj2@games.golnetwork.com
LOCATION:North Toronto - Field 1
GEO:43.7098022;-79.3963055
CREATED:20140410T211713Z
DTSTART:20140609T235000Z
DTEND:20140610T004500Z
DTSTAMP:20260420T023625Z
SUMMARY:Goal Diggers vs. IFC United
DESCRIPTION:IFC United vs. Goal DiggersMore info: #338
X-ALT-DESC;FMTTYPE=text/html:<!DOCTYPE HTML PUBLIC "-//W3C//DTD HTML 3.2//E
	N">\n<HTML>\n<HEAD>\n<TITLE></TITLE>\n</HEAD>\n<BODY>\n<h3>IFC United vs. G
	oal Diggers</h3>More info: <a href="https://www.golnetwork.com/game/v/47737
	/">#338</a>\n\n</BODY>\n</HTML>
STATUS:CONFIRMED
CLASS:PUBLIC
URL:https://www.golnetwork.com/game/v/47737/
X-MICROSOFT-CDO-BUSYSTATUS:BUSY
X-MICROSOFT-CDO-IMPORTANCE:1
END:VEVENT
BEGIN:VEVENT
UID:g4pil@games.golnetwork.com
LOCATION:North Toronto - Field 1
GEO:43.7098022;-79.3963055
CREATED:20140410T211713Z
DTSTART:20140602T225500Z
DTEND:20140602T235000Z
DTSTAMP:20260420T023625Z
SUMMARY:Unreal Madrid vs. Goal Diggers
DESCRIPTION:Goal Diggers vs. Unreal MadridMore info: #283
X-ALT-DESC;FMTTYPE=text/html:<!DOCTYPE HTML PUBLIC "-//W3C//DTD HTML 3.2//E
	N">\n<HTML>\n<HEAD>\n<TITLE></TITLE>\n</HEAD>\n<BODY>\n<h3>Goal Diggers vs.
	 Unreal Madrid</h3>More info: <a href="https://www.golnetwork.com/game/v/47
	733/">#283</a>\n\n</BODY>\n</HTML>
STATUS:CONFIRMED
CLASS:PUBLIC
URL:https://www.golnetwork.com/game/v/47733/
X-MICROSOFT-CDO-BUSYSTATUS:BUSY
X-MICROSOFT-CDO-IMPORTANCE:1
END:VEVENT
BEGIN:VEVENT
UID:g4pid@games.golnetwork.com
LOCATION:North Toronto - Field 1
GEO:43.7098022;-79.3963055
CREATED:20140410T211713Z
DTSTART:20140526T220000Z
DTEND:20140526T225500Z
DTSTAMP:20260420T023625Z
SUMMARY:XTSC Gunners vs. Goal Diggers
DESCRIPTION:Goal Diggers vs. XTSC GunnersMore info: #228
X-ALT-DESC;FMTTYPE=text/html:<!DOCTYPE HTML PUBLIC "-//W3C//DTD HTML 3.2//E
	N">\n<HTML>\n<HEAD>\n<TITLE></TITLE>\n</HEAD>\n<BODY>\n<h3>Goal Diggers vs.
	 XTSC Gunners</h3>More info: <a href="https://www.golnetwork.com/game/v/477
	29/">#228</a>\n\n</BODY>\n</HTML>
STATUS:CONFIRMED
CLASS:PUBLIC
URL:https://www.golnetwork.com/game/v/47729/
X-MICROSOFT-CDO-BUSYSTATUS:BUSY
X-MICROSOFT-CDO-IMPORTANCE:1
END:VEVENT
BEGIN:VEVENT
UID:g4pi9@games.golnetwork.com
LOCATION:North Toronto - Field 1
GEO:43.7098022;-79.3963055
CREATED:20140410T211713Z
DTSTART:20140519T225500Z
DTEND:20140519T235000Z
DTSTAMP:20260420T023625Z
SUMMARY:Goal Diggers vs. LinkedIn
DESCRIPTION:LinkedIn vs. Goal DiggersMore info: #179
X-ALT-DESC;FMTTYPE=text/html:<!DOCTYPE HTML PUBLIC "-//W3C//DTD HTML 3.2//E
	N">\n<HTML>\n<HEAD>\n<TITLE></TITLE>\n</HEAD>\n<BODY>\n<h3>LinkedIn vs. Goa
	l Diggers</h3>More info: <a href="https://www.golnetwork.com/game/v/47727/"
	>#179</a>\n\n</BODY>\n</HTML>
STATUS:CONFIRMED
CLASS:PUBLIC
URL:https://www.golnetwork.com/game/v/47727/
X-MICROSOFT-CDO-BUSYSTATUS:BUSY
X-MICROSOFT-CDO-IMPORTANCE:1
END:VEVENT
BEGIN:VEVENT
UID:g4pi5@games.golnetwork.com
LOCATION:North Toronto - Field 1
GEO:43.7098022;-79.3963055
CREATED:20140410T211713Z
DTSTART:20140512T235000Z
DTEND:20140513T004500Z
DTSTAMP:20260420T023625Z
SUMMARY:Goal Diggers vs. IFC United
DESCRIPTION:IFC United vs. Goal DiggersMore info: #136
X-ALT-DESC;FMTTYPE=text/html:<!DOCTYPE HTML PUBLIC "-//W3C//DTD HTML 3.2//E
	N">\n<HTML>\n<HEAD>\n<TITLE></TITLE>\n</HEAD>\n<BODY>\n<h3>IFC United vs. G
	oal Diggers</h3>More info: <a href="https://www.golnetwork.com/game/v/47725
	/">#136</a>\n\n</BODY>\n</HTML>
STATUS:CONFIRMED
CLASS:PUBLIC
URL:https://www.golnetwork.com/game/v/47725/
X-MICROSOFT-CDO-BUSYSTATUS:BUSY
X-MICROSOFT-CDO-IMPORTANCE:1
END:VEVENT
BEGIN:VEVENT
UID:g4phm@games.golnetwork.com
LOCATION:North Toronto - Field 1
GEO:43.7098022;-79.3963055
CREATED:20140410T211713Z
DTSTART:20140505T220000Z
DTEND:20140505T225500Z
DTSTAMP:20260420T023625Z
SUMMARY:EFC vs. Goal Diggers
DESCRIPTION:Goal Diggers vs. EFCMore info: #97
X-ALT-DESC;FMTTYPE=text/html:<!DOCTYPE HTML PUBLIC "-//W3C//DTD HTML 3.2//E
	N">\n<HTML>\n<HEAD>\n<TITLE></TITLE>\n</HEAD>\n<BODY>\n<h3>Goal Diggers vs.
	 EFC</h3>More info: <a href="https://www.golnetwork.com/game/v/47720/">#97<
	/a>\n\n</BODY>\n</HTML>
STATUS:CONFIRMED
CLASS:PUBLIC
URL:https://www.golnetwork.com/game/v/47720/
X-MICROSOFT-CDO-BUSYSTATUS:BUSY
X-MICROSOFT-CDO-IMPORTANCE:1
END:VEVENT
BEGIN:VEVENT
UID:g4phi@games.golnetwork.com
LOCATION:North Toronto - Field 1
GEO:43.7098022;-79.3963055
CREATED:20140410T211713Z
DTSTART:20140428T225500Z
DTEND:20140428T235000Z
DTSTAMP:20260420T023625Z
SUMMARY:Unreal Madrid vs. Goal Diggers
DESCRIPTION:Goal Diggers vs. Unreal MadridMore info: #72
X-ALT-DESC;FMTTYPE=text/html:<!DOCTYPE HTML PUBLIC "-//W3C//DTD HTML 3.2//E
	N">\n<HTML>\n<HEAD>\n<TITLE></TITLE>\n</HEAD>\n<BODY>\n<h3>Goal Diggers vs.
	 Unreal Madrid</h3>More info: <a href="https://www.golnetwork.com/game/v/47
	718/">#72</a>\n\n</BODY>\n</HTML>
STATUS:CONFIRMED
CLASS:PUBLIC
URL:https://www.golnetwork.com/game/v/47718/
X-MICROSOFT-CDO-BUSYSTATUS:BUSY
X-MICROSOFT-CDO-IMPORTANCE:1
END:VEVENT
END:VCALENDAR
