BEGIN:VCALENDAR
PRODID:-//gdesolutions.com//MV Framework 1.0.0.1607 Calendar//EN
VERSION:2.0
METHOD:PUBLISH
CALSCALE:GREGORIAN
BEGIN:VEVENT
UID:g97ge@games.golnetwork.com
LOCATION:Lester B Pearson Field #3
GEO:45.4433016;-75.5957775
CREATED:20160708T195455Z
DTSTART:20160721T224500Z
DTEND:20160722T001500Z
DTSTAMP:20260420T025135Z
SUMMARY:Foot Loose FC vs. TMNT
DESCRIPTION:TMNT vs. Foot Loose FCMore info: #34
X-ALT-DESC;FMTTYPE=text/html:<!DOCTYPE HTML PUBLIC "-//W3C//DTD HTML 3.2//E
	N">\n<HTML>\n<HEAD>\n<TITLE></TITLE>\n</HEAD>\n<BODY>\n<h3>TMNT vs. Foot Lo
	ose FC</h3>More info: <a href="https://www.golnetwork.com/game/v/90349/">#3
	4</a>\n\n</BODY>\n</HTML>
STATUS:CONFIRMED
CLASS:PUBLIC
URL:https://www.golnetwork.com/game/v/90349/
X-MICROSOFT-CDO-BUSYSTATUS:BUSY
X-MICROSOFT-CDO-IMPORTANCE:1
END:VEVENT
BEGIN:VEVENT
UID:g97e2@games.golnetwork.com
LOCATION:Louis Riel #1
GEO:45.4410208;-75.5715394
CREATED:20160708T195453Z
DTSTART:20160714T223000Z
DTEND:20160715T000000Z
DTSTAMP:20260420T025135Z
SUMMARY:Foot Loose FC vs. The Kickers
DESCRIPTION:The Kickers vs. Foot Loose FCMore info: #1
X-ALT-DESC;FMTTYPE=text/html:<!DOCTYPE HTML PUBLIC "-//W3C//DTD HTML 3.2//E
	N">\n<HTML>\n<HEAD>\n<TITLE></TITLE>\n</HEAD>\n<BODY>\n<h3>The Kickers vs. 
	Foot Loose FC</h3>More info: <a href="https://www.golnetwork.com/game/v/903
	16/">#1</a>\n\n</BODY>\n</HTML>
STATUS:CONFIRMED
CLASS:PUBLIC
URL:https://www.golnetwork.com/game/v/90316/
X-MICROSOFT-CDO-BUSYSTATUS:BUSY
X-MICROSOFT-CDO-IMPORTANCE:1
END:VEVENT
BEGIN:VEVENT
UID:g959p@games.golnetwork.com
LOCATION:Louis Riel #2
GEO:45.4410208;-75.5715394
CREATED:20160621T055043Z
DTSTART:20160707T223000Z
DTEND:20160708T000000Z
DTSTAMP:20260420T025135Z
SUMMARY:Foot Loose FC vs. JFC
DESCRIPTION:JFC vs. Foot Loose FCMore info: #35
X-ALT-DESC;FMTTYPE=text/html:<!DOCTYPE HTML PUBLIC "-//W3C//DTD HTML 3.2//E
	N">\n<HTML>\n<HEAD>\n<TITLE></TITLE>\n</HEAD>\n<BODY>\n<h3>JFC vs. Foot Loo
	se FC</h3>More info: <a href="https://www.golnetwork.com/game/v/89531/">#35
	</a>\n\n</BODY>\n</HTML>
STATUS:CONFIRMED
CLASS:PUBLIC
URL:https://www.golnetwork.com/game/v/89531/
X-MICROSOFT-CDO-BUSYSTATUS:BUSY
X-MICROSOFT-CDO-IMPORTANCE:1
END:VEVENT
BEGIN:VEVENT
UID:g959j@games.golnetwork.com
LOCATION:Lester B Pearson Field 2
GEO:45.4429892;-75.5963901
CREATED:20160621T055043Z
DTSTART:20160630T224500Z
DTEND:20160701T001500Z
DTSTAMP:20260420T025135Z
SUMMARY:Foot Loose FC vs. Grasshoppers
DESCRIPTION:Grasshoppers vs. Foot Loose FCMore info: #32
X-ALT-DESC;FMTTYPE=text/html:<!DOCTYPE HTML PUBLIC "-//W3C//DTD HTML 3.2//E
	N">\n<HTML>\n<HEAD>\n<TITLE></TITLE>\n</HEAD>\n<BODY>\n<h3>Grasshoppers vs.
	 Foot Loose FC</h3>More info: <a href="https://www.golnetwork.com/game/v/89
	528/">#32</a>\n\n</BODY>\n</HTML>
STATUS:CONFIRMED
CLASS:PUBLIC
URL:https://www.golnetwork.com/game/v/89528/
X-MICROSOFT-CDO-BUSYSTATUS:BUSY
X-MICROSOFT-CDO-IMPORTANCE:1
END:VEVENT
BEGIN:VEVENT
UID:g957n@games.golnetwork.com
LOCATION:Louis Riel #1
GEO:45.4410208;-75.5715394
CREATED:20160621T055042Z
DTSTART:20160624T013000Z
DTEND:20160624T030000Z
DTSTAMP:20260420T025135Z
SUMMARY:Individuals 2 vs. Foot Loose FC
DESCRIPTION:Foot Loose FC vs. Individuals 2More info: #7
X-ALT-DESC;FMTTYPE=text/html:<!DOCTYPE HTML PUBLIC "-//W3C//DTD HTML 3.2//E
	N">\n<HTML>\n<HEAD>\n<TITLE></TITLE>\n</HEAD>\n<BODY>\n<h3>Foot Loose FC vs
	. Individuals 2</h3>More info: <a href="https://www.golnetwork.com/game/v/8
	9503/">#7</a>\n\n</BODY>\n</HTML>
STATUS:CONFIRMED
CLASS:PUBLIC
URL:https://www.golnetwork.com/game/v/89503/
X-MICROSOFT-CDO-BUSYSTATUS:BUSY
X-MICROSOFT-CDO-IMPORTANCE:1
END:VEVENT
BEGIN:VEVENT
UID:g94en@games.golnetwork.com
LOCATION:Louis Riel #1
GEO:45.4410208;-75.5715394
CREATED:20160530T033909Z
DTSTART:20160617T000000Z
DTEND:20160617T013000Z
DTSTAMP:20260420T025135Z
SUMMARY:Hammerheads vs. Foot Loose FC
DESCRIPTION:Foot Loose FC vs. HammerheadsMore info: #37
X-ALT-DESC;FMTTYPE=text/html:<!DOCTYPE HTML PUBLIC "-//W3C//DTD HTML 3.2//E
	N">\n<HTML>\n<HEAD>\n<TITLE></TITLE>\n</HEAD>\n<BODY>\n<h3>Foot Loose FC vs
	. Hammerheads</h3>More info: <a href="https://www.golnetwork.com/game/v/892
	33/">#37</a>\n\n</BODY>\n</HTML>
STATUS:CONFIRMED
CLASS:PUBLIC
URL:https://www.golnetwork.com/game/v/89233/
X-MICROSOFT-CDO-BUSYSTATUS:BUSY
X-MICROSOFT-CDO-IMPORTANCE:1
END:VEVENT
BEGIN:VEVENT
UID:g94eh@games.golnetwork.com
LOCATION:Louis Riel #1
GEO:45.4410208;-75.5715394
CREATED:20160530T033909Z
DTSTART:20160616T223000Z
DTEND:20160617T000000Z
DTSTAMP:20260420T025135Z
SUMMARY:Red Chili Peppers vs. Foot Loose FC
DESCRIPTION:Foot Loose FC vs. Red Chili PeppersMore info: #34
X-ALT-DESC;FMTTYPE=text/html:<!DOCTYPE HTML PUBLIC "-//W3C//DTD HTML 3.2//E
	N">\n<HTML>\n<HEAD>\n<TITLE></TITLE>\n</HEAD>\n<BODY>\n<h3>Foot Loose FC vs
	. Red Chili Peppers</h3>More info: <a href="https://www.golnetwork.com/game
	/v/89230/">#34</a>\n\n</BODY>\n</HTML>
STATUS:CONFIRMED
CLASS:PUBLIC
URL:https://www.golnetwork.com/game/v/89230/
X-MICROSOFT-CDO-BUSYSTATUS:BUSY
X-MICROSOFT-CDO-IMPORTANCE:1
END:VEVENT
BEGIN:VEVENT
UID:g94da@games.golnetwork.com
LOCATION:Lester B Pearson Field #3
GEO:45.4433016;-75.5957775
CREATED:20160530T033908Z
DTSTART:20160602T224500Z
DTEND:20160603T001500Z
DTSTAMP:20260420T025135Z
SUMMARY:Foot Loose FC vs. Individuals 1
DESCRIPTION:Individuals 1 vs. Foot Loose FCMore info: #17
X-ALT-DESC;FMTTYPE=text/html:<!DOCTYPE HTML PUBLIC "-//W3C//DTD HTML 3.2//E
	N">\n<HTML>\n<HEAD>\n<TITLE></TITLE>\n</HEAD>\n<BODY>\n<h3>Individuals 1 vs
	. Foot Loose FC</h3>More info: <a href="https://www.golnetwork.com/game/v/8
	9213/">#17</a>\n\n</BODY>\n</HTML>
STATUS:CONFIRMED
CLASS:PUBLIC
URL:https://www.golnetwork.com/game/v/89213/
X-MICROSOFT-CDO-BUSYSTATUS:BUSY
X-MICROSOFT-CDO-IMPORTANCE:1
END:VEVENT
BEGIN:VEVENT
UID:g921i@games.golnetwork.com
LOCATION:Louis Riel #1
GEO:45.4410208;-75.5715394
CREATED:20160516T202551Z
DTSTART:20160526T223000Z
DTEND:20160527T000000Z
DTSTAMP:20260420T025135Z
SUMMARY:Fm FC vs. Foot Loose FC
DESCRIPTION:Foot Loose FC vs. Fm FCMore info: #1
X-ALT-DESC;FMTTYPE=text/html:<!DOCTYPE HTML PUBLIC "-//W3C//DTD HTML 3.2//E
	N">\n<HTML>\n<HEAD>\n<TITLE></TITLE>\n</HEAD>\n<BODY>\n<h3>Foot Loose FC vs
	. Fm FC</h3>More info: <a href="https://www.golnetwork.com/game/v/88326/">#
	1</a>\n\n</BODY>\n</HTML>
STATUS:CONFIRMED
CLASS:PUBLIC
URL:https://www.golnetwork.com/game/v/88326/
X-MICROSOFT-CDO-BUSYSTATUS:BUSY
X-MICROSOFT-CDO-IMPORTANCE:1
END:VEVENT
END:VCALENDAR
