BEGIN:VCALENDAR
PRODID:-//gdesolutions.com//MV Framework 1.0.0.1607 Calendar//EN
VERSION:2.0
METHOD:PUBLISH
CALSCALE:GREGORIAN
BEGIN:VEVENT
UID:g5af8@games.golnetwork.com
LOCATION:Louis Riel #3
GEO:45.4410208;-75.5715394
CREATED:20140518T073517Z
DTSTART:20140523T010000Z
DTEND:20140523T015000Z
DTSTAMP:20260419T141540Z
SUMMARY:Ineedasub FC vs. Elemonators
DESCRIPTION:Elemonators vs. Ineedasub FCMore info: #134
X-ALT-DESC;FMTTYPE=text/html:<!DOCTYPE HTML PUBLIC "-//W3C//DTD HTML 3.2//E
	N">\n<HTML>\n<HEAD>\n<TITLE></TITLE>\n</HEAD>\n<BODY>\n<h3>Elemonators vs. 
	Ineedasub FC</h3>More info: <a href="https://www.golnetwork.com/game/v/5206
	0/">#134</a>\n\n</BODY>\n</HTML>
STATUS:CONFIRMED
CLASS:PUBLIC
URL:https://www.golnetwork.com/game/v/52060/
X-MICROSOFT-CDO-BUSYSTATUS:BUSY
X-MICROSOFT-CDO-IMPORTANCE:1
END:VEVENT
BEGIN:VEVENT
UID:g4q6o@games.golnetwork.com
LOCATION:Hornet's Nest #2
GEO:45.4428309;-75.575268
CREATED:20140415T142300Z
DTSTART:20140502T010000Z
DTEND:20140502T015000Z
DTSTAMP:20260419T141540Z
SUMMARY:Killer Cleats vs. Ineedasub FC
DESCRIPTION:Ineedasub FC vs. Killer CleatsMore info: #94
X-ALT-DESC;FMTTYPE=text/html:<!DOCTYPE HTML PUBLIC "-//W3C//DTD HTML 3.2//E
	N">\n<HTML>\n<HEAD>\n<TITLE></TITLE>\n</HEAD>\n<BODY>\n<h3>Ineedasub FC vs.
	 Killer Cleats</h3>More info: <a href="https://www.golnetwork.com/game/v/47
	937/">#94</a>\n\n</BODY>\n</HTML>
STATUS:CONFIRMED
CLASS:PUBLIC
URL:https://www.golnetwork.com/game/v/47937/
X-MICROSOFT-CDO-BUSYSTATUS:BUSY
X-MICROSOFT-CDO-IMPORTANCE:1
END:VEVENT
BEGIN:VEVENT
UID:g4q5d@games.golnetwork.com
LOCATION:Louis Riel #3
GEO:45.4410208;-75.5715394
CREATED:20140415T141351Z
DTSTART:20140425T000000Z
DTEND:20140425T005000Z
DTSTAMP:20260419T141540Z
SUMMARY:Los Amigos vs. Ineedasub FC
DESCRIPTION:Ineedasub FC vs. Los AmigosMore info: #75
X-ALT-DESC;FMTTYPE=text/html:<!DOCTYPE HTML PUBLIC "-//W3C//DTD HTML 3.2//E
	N">\n<HTML>\n<HEAD>\n<TITLE></TITLE>\n</HEAD>\n<BODY>\n<h3>Ineedasub FC vs.
	 Los Amigos</h3>More info: <a href="https://www.golnetwork.com/game/v/47918
	/">#75</a>\n\n</BODY>\n</HTML>
STATUS:CONFIRMED
CLASS:PUBLIC
URL:https://www.golnetwork.com/game/v/47918/
X-MICROSOFT-CDO-BUSYSTATUS:BUSY
X-MICROSOFT-CDO-IMPORTANCE:1
END:VEVENT
BEGIN:VEVENT
UID:g4pk9@games.golnetwork.com
LOCATION:Louis Riel #2
GEO:45.4410208;-75.5715394
CREATED:20140414T081607Z
DTSTART:20140417T230000Z
DTEND:20140417T235000Z
DTSTAMP:20260419T141540Z
SUMMARY:Ineedasub FC vs. TGIT
DESCRIPTION:TGIT vs. Ineedasub FCMore info: #57
X-ALT-DESC;FMTTYPE=text/html:<!DOCTYPE HTML PUBLIC "-//W3C//DTD HTML 3.2//E
	N">\n<HTML>\n<HEAD>\n<TITLE></TITLE>\n</HEAD>\n<BODY>\n<h3>TGIT vs. Ineedas
	ub FC</h3>More info: <a href="https://www.golnetwork.com/game/v/47754/">#57
	</a>\n\n</BODY>\n</HTML>
STATUS:CONFIRMED
CLASS:PUBLIC
URL:https://www.golnetwork.com/game/v/47754/
X-MICROSOFT-CDO-BUSYSTATUS:BUSY
X-MICROSOFT-CDO-IMPORTANCE:1
END:VEVENT
BEGIN:VEVENT
UID:g4p1m@games.golnetwork.com
LOCATION:Louis Riel #3
GEO:45.4410208;-75.5715394
CREATED:20140407T060418Z
DTSTART:20140410T230000Z
DTEND:20140410T235000Z
DTSTAMP:20260419T141540Z
SUMMARY:Ineedasub FC vs. Spartans FC
DESCRIPTION:Spartans FC vs. Ineedasub FCMore info: #43
X-ALT-DESC;FMTTYPE=text/html:<!DOCTYPE HTML PUBLIC "-//W3C//DTD HTML 3.2//E
	N">\n<HTML>\n<HEAD>\n<TITLE></TITLE>\n</HEAD>\n<BODY>\n<h3>Spartans FC vs. 
	Ineedasub FC</h3>More info: <a href="https://www.golnetwork.com/game/v/4750
	4/">#43</a>\n\n</BODY>\n</HTML>
STATUS:CONFIRMED
CLASS:PUBLIC
URL:https://www.golnetwork.com/game/v/47504/
X-MICROSOFT-CDO-BUSYSTATUS:BUSY
X-MICROSOFT-CDO-IMPORTANCE:1
END:VEVENT
BEGIN:VEVENT
UID:g4oi4@games.golnetwork.com
LOCATION:Hornet's Nest #1
GEO:45.4428309;-75.575268
CREATED:20140331T004258Z
DTSTART:20140404T000000Z
DTEND:20140404T005000Z
DTSTAMP:20260419T141540Z
SUMMARY:Ineedasub FC vs. Money is not an issue
DESCRIPTION:Money is not an issue vs. Ineedasub FCMore info: #34
X-ALT-DESC;FMTTYPE=text/html:<!DOCTYPE HTML PUBLIC "-//W3C//DTD HTML 3.2//E
	N">\n<HTML>\n<HEAD>\n<TITLE></TITLE>\n</HEAD>\n<BODY>\n<h3>Money is not an 
	issue vs. Ineedasub FC</h3>More info: <a href="https://www.golnetwork.com/g
	ame/v/47360/">#34</a>\n\n</BODY>\n</HTML>
STATUS:CONFIRMED
CLASS:PUBLIC
URL:https://www.golnetwork.com/game/v/47360/
X-MICROSOFT-CDO-BUSYSTATUS:BUSY
X-MICROSOFT-CDO-IMPORTANCE:1
END:VEVENT
BEGIN:VEVENT
UID:g4nh4@games.golnetwork.com
LOCATION:Louis Riel #3
GEO:45.4410208;-75.5715394
CREATED:20140322T172603Z
DTSTART:20140328T013000Z
DTEND:20140328T022000Z
DTSTAMP:20260419T141540Z
SUMMARY:Dynamo FC vs. Ineedasub FC
DESCRIPTION:Ineedasub FC vs. Dynamo FCMore info: #22
X-ALT-DESC;FMTTYPE=text/html:<!DOCTYPE HTML PUBLIC "-//W3C//DTD HTML 3.2//E
	N">\n<HTML>\n<HEAD>\n<TITLE></TITLE>\n</HEAD>\n<BODY>\n<h3>Ineedasub FC vs.
	 Dynamo FC</h3>More info: <a href="https://www.golnetwork.com/game/v/46982/
	">#22</a>\n\n</BODY>\n</HTML>
STATUS:CONFIRMED
CLASS:PUBLIC
URL:https://www.golnetwork.com/game/v/46982/
X-MICROSOFT-CDO-BUSYSTATUS:BUSY
X-MICROSOFT-CDO-IMPORTANCE:1
END:VEVENT
BEGIN:VEVENT
UID:g4n1e@games.golnetwork.com
LOCATION:Louis Riel #1
GEO:45.4410208;-75.5715394
CREATED:20140313T074401Z
DTSTART:20140321T030000Z
DTEND:20140321T035000Z
DTSTAMP:20260419T141540Z
SUMMARY:Ineedasub FC vs. The All-Stars
DESCRIPTION:The All-Stars vs. Ineedasub FCMore info: #13
X-ALT-DESC;FMTTYPE=text/html:<!DOCTYPE HTML PUBLIC "-//W3C//DTD HTML 3.2//E
	N">\n<HTML>\n<HEAD>\n<TITLE></TITLE>\n</HEAD>\n<BODY>\n<h3>The All-Stars vs
	. Ineedasub FC</h3>More info: <a href="https://www.golnetwork.com/game/v/46
	771/">#13</a>\n\n</BODY>\n</HTML>
STATUS:CONFIRMED
CLASS:PUBLIC
URL:https://www.golnetwork.com/game/v/46771/
X-MICROSOFT-CDO-BUSYSTATUS:BUSY
X-MICROSOFT-CDO-IMPORTANCE:1
END:VEVENT
END:VCALENDAR
