BEGIN:VCALENDAR
PRODID:-//gdesolutions.com//MV Framework 1.0.0.1607 Calendar//EN
VERSION:2.0
METHOD:PUBLISH
CALSCALE:GREGORIAN
BEGIN:VEVENT
UID:g6kqi@games.golnetwork.com
LOCATION:Louis Riel #2
GEO:45.4410208;-75.5715394
CREATED:20150307T213331Z
DTSTART:20150312T220000Z
DTEND:20150312T225000Z
DTSTAMP:20260419T130513Z
SUMMARY:Los Amigos vs. Cleat Elite
DESCRIPTION:Cleat Elite vs. Los AmigosMore info: #2
X-ALT-DESC;FMTTYPE=text/html:<!DOCTYPE HTML PUBLIC "-//W3C//DTD HTML 3.2//E
	N">\n<HTML>\n<HEAD>\n<TITLE></TITLE>\n</HEAD>\n<BODY>\n<h3>Cleat Elite vs. 
	Los Amigos</h3>More info: <a href="https://www.golnetwork.com/game/v/65700/
	">#2</a>\n\n</BODY>\n</HTML>
STATUS:CONFIRMED
CLASS:PUBLIC
URL:https://www.golnetwork.com/game/v/65700/
X-MICROSOFT-CDO-BUSYSTATUS:BUSY
X-MICROSOFT-CDO-IMPORTANCE:1
END:VEVENT
BEGIN:VEVENT
UID:g6k02@games.golnetwork.com
LOCATION:Branchaud Briere Field #1
GEO:45.4982732;-75.6421544
CREATED:20150214T034047Z
DTSTART:20150220T020000Z
DTEND:20150220T025000Z
DTSTAMP:20260419T130513Z
SUMMARY:Los Amigos vs. Cleat Elite
DESCRIPTION:Cleat Elite vs. Los AmigosMore info: #15
X-ALT-DESC;FMTTYPE=text/html:<!DOCTYPE HTML PUBLIC "-//W3C//DTD HTML 3.2//E
	N">\n<HTML>\n<HEAD>\n<TITLE></TITLE>\n</HEAD>\n<BODY>\n<h3>Cleat Elite vs. 
	Los Amigos</h3>More info: <a href="https://www.golnetwork.com/game/v/65341/
	">#15</a>\n\n</BODY>\n</HTML>
STATUS:CONFIRMED
CLASS:PUBLIC
URL:https://www.golnetwork.com/game/v/65341/
X-MICROSOFT-CDO-BUSYSTATUS:BUSY
X-MICROSOFT-CDO-IMPORTANCE:1
END:VEVENT
BEGIN:VEVENT
UID:g6jap@games.golnetwork.com
LOCATION:Branchaud Briere Field #1
GEO:45.4982732;-75.6421544
CREATED:20150207T022954Z
DTSTART:20150213T010000Z
DTEND:20150213T015000Z
DTSTAMP:20260419T130513Z
SUMMARY:Ineedasub FC vs. Cleat Elite
DESCRIPTION:Cleat Elite vs. Ineedasub FCMore info: #15
X-ALT-DESC;FMTTYPE=text/html:<!DOCTYPE HTML PUBLIC "-//W3C//DTD HTML 3.2//E
	N">\n<HTML>\n<HEAD>\n<TITLE></TITLE>\n</HEAD>\n<BODY>\n<h3>Cleat Elite vs. 
	Ineedasub FC</h3>More info: <a href="https://www.golnetwork.com/game/v/6512
	3/">#15</a>\n\n</BODY>\n</HTML>
STATUS:CONFIRMED
CLASS:PUBLIC
URL:https://www.golnetwork.com/game/v/65123/
X-MICROSOFT-CDO-BUSYSTATUS:BUSY
X-MICROSOFT-CDO-IMPORTANCE:1
END:VEVENT
BEGIN:VEVENT
UID:g6j0l@games.golnetwork.com
LOCATION:Branchaud Briere Field #1
GEO:45.4982732;-75.6421544
CREATED:20150130T222551Z
DTSTART:20150206T010000Z
DTEND:20150206T015000Z
DTSTAMP:20260419T130513Z
SUMMARY:Money is not an issue vs. Cleat Elite
DESCRIPTION:Cleat Elite vs. Money is not an issueMore info: #14
X-ALT-DESC;FMTTYPE=text/html:<!DOCTYPE HTML PUBLIC "-//W3C//DTD HTML 3.2//E
	N">\n<HTML>\n<HEAD>\n<TITLE></TITLE>\n</HEAD>\n<BODY>\n<h3>Cleat Elite vs. 
	Money is not an issue</h3>More info: <a href="https://www.golnetwork.com/ga
	me/v/64986/">#14</a>\n\n</BODY>\n</HTML>
STATUS:CONFIRMED
CLASS:PUBLIC
URL:https://www.golnetwork.com/game/v/64986/
X-MICROSOFT-CDO-BUSYSTATUS:BUSY
X-MICROSOFT-CDO-IMPORTANCE:1
END:VEVENT
BEGIN:VEVENT
UID:g6h3c@games.golnetwork.com
LOCATION:Louis Riel #3
GEO:45.4410208;-75.5715394
CREATED:20150121T064137Z
DTSTART:20150130T020000Z
DTEND:20150130T025000Z
DTSTAMP:20260419T130513Z
SUMMARY:Cleat Elite vs. Flamingos
DESCRIPTION:Flamingos vs. Cleat EliteMore info: #6
X-ALT-DESC;FMTTYPE=text/html:<!DOCTYPE HTML PUBLIC "-//W3C//DTD HTML 3.2//E
	N">\n<HTML>\n<HEAD>\n<TITLE></TITLE>\n</HEAD>\n<BODY>\n<h3>Flamingos vs. Cl
	eat Elite</h3>More info: <a href="https://www.golnetwork.com/game/v/64293/"
	>#6</a>\n\n</BODY>\n</HTML>
STATUS:CONFIRMED
CLASS:PUBLIC
URL:https://www.golnetwork.com/game/v/64293/
X-MICROSOFT-CDO-BUSYSTATUS:BUSY
X-MICROSOFT-CDO-IMPORTANCE:1
END:VEVENT
BEGIN:VEVENT
UID:g6gk8@games.golnetwork.com
LOCATION:Louis Riel #3
GEO:45.4410208;-75.5715394
CREATED:20150119T050057Z
DTSTART:20150123T030000Z
DTEND:20150123T035000Z
DTSTAMP:20260419T130513Z
SUMMARY:Cleat Elite vs. Pas l'temps de niaser
DESCRIPTION:Pas l'temps de niaser vs. Cleat EliteMore info: #9
X-ALT-DESC;FMTTYPE=text/html:<!DOCTYPE HTML PUBLIC "-//W3C//DTD HTML 3.2//E
	N">\n<HTML>\n<HEAD>\n<TITLE></TITLE>\n</HEAD>\n<BODY>\n<h3>Pas l'temps de n
	iaser vs. Cleat Elite</h3>More info: <a href="https://www.golnetwork.com/ga
	me/v/64156/">#9</a>\n\n</BODY>\n</HTML>
STATUS:CONFIRMED
CLASS:PUBLIC
URL:https://www.golnetwork.com/game/v/64156/
X-MICROSOFT-CDO-BUSYSTATUS:BUSY
X-MICROSOFT-CDO-IMPORTANCE:1
END:VEVENT
BEGIN:VEVENT
UID:g6f96@games.golnetwork.com
LOCATION:Louis Riel #3
GEO:45.4410208;-75.5715394
CREATED:20150112T061950Z
DTSTART:20150116T010000Z
DTEND:20150116T015000Z
DTSTAMP:20260419T130513Z
SUMMARY:Cleat Elite vs. Spartans FC
DESCRIPTION:Spartans FC vs. Cleat EliteMore info: #3
X-ALT-DESC;FMTTYPE=text/html:<!DOCTYPE HTML PUBLIC "-//W3C//DTD HTML 3.2//E
	N">\n<HTML>\n<HEAD>\n<TITLE></TITLE>\n</HEAD>\n<BODY>\n<h3>Spartans FC vs. 
	Cleat Elite</h3>More info: <a href="https://www.golnetwork.com/game/v/63642
	/">#3</a>\n\n</BODY>\n</HTML>
STATUS:CONFIRMED
CLASS:PUBLIC
URL:https://www.golnetwork.com/game/v/63642/
X-MICROSOFT-CDO-BUSYSTATUS:BUSY
X-MICROSOFT-CDO-IMPORTANCE:1
END:VEVENT
BEGIN:VEVENT
UID:g6bo1@games.golnetwork.com
LOCATION:Louis Riel #3
GEO:45.4410208;-75.5715394
CREATED:20150103T215838Z
DTSTART:20150109T030000Z
DTEND:20150109T035000Z
DTSTAMP:20260419T130513Z
SUMMARY:Cleat Elite vs. Money is not an issue
DESCRIPTION:Money is not an issue vs. Cleat EliteMore info: #9
X-ALT-DESC;FMTTYPE=text/html:<!DOCTYPE HTML PUBLIC "-//W3C//DTD HTML 3.2//E
	N">\n<HTML>\n<HEAD>\n<TITLE></TITLE>\n</HEAD>\n<BODY>\n<h3>Money is not an 
	issue vs. Cleat Elite</h3>More info: <a href="https://www.golnetwork.com/ga
	me/v/62384/">#9</a>\n\n</BODY>\n</HTML>
STATUS:CONFIRMED
CLASS:PUBLIC
URL:https://www.golnetwork.com/game/v/62384/
X-MICROSOFT-CDO-BUSYSTATUS:BUSY
X-MICROSOFT-CDO-IMPORTANCE:1
END:VEVENT
END:VCALENDAR
