BEGIN:VCALENDAR
PRODID:-//gdesolutions.com//MV Framework 1.0.0.1607 Calendar//EN
VERSION:2.0
METHOD:PUBLISH
CALSCALE:GREGORIAN
BEGIN:VEVENT
UID:g9jim@games.golnetwork.com
LOCATION:CVM - Court #1
GEO:45.5146585;-73.5658635
CREATED:20161010T144258Z
DTSTART:20170328T000000Z
DTEND:20170328T010000Z
DTSTAMP:20260424T213237Z
SUMMARY:RETRO vs. AK REC ALL STARS
DESCRIPTION:AK REC ALL STARS vs. RETROMore info: #567
X-ALT-DESC;FMTTYPE=text/html:<!DOCTYPE HTML PUBLIC "-//W3C//DTD HTML 3.2//E
	N">\n<HTML>\n<HEAD>\n<TITLE></TITLE>\n</HEAD>\n<BODY>\n<h3>AK REC ALL STARS
	 vs. RETRO</h3>More info: <a href="https://www.golnetwork.com/game/v/94754/
	">#567</a>\n\n</BODY>\n</HTML>
STATUS:CONFIRMED
CLASS:PUBLIC
URL:https://www.golnetwork.com/game/v/94754/
X-MICROSOFT-CDO-BUSYSTATUS:BUSY
X-MICROSOFT-CDO-IMPORTANCE:1
END:VEVENT
BEGIN:VEVENT
UID:g9jii@games.golnetwork.com
LOCATION:CVM - Court #1
GEO:45.5146585;-73.5658635
CREATED:20161010T144258Z
DTSTART:20170314T000000Z
DTEND:20170314T010000Z
DTSTAMP:20260424T213237Z
SUMMARY:X PISTOLS vs. AK REC ALL STARS
DESCRIPTION:AK REC ALL STARS vs. X PISTOLSMore info: #544
X-ALT-DESC;FMTTYPE=text/html:<!DOCTYPE HTML PUBLIC "-//W3C//DTD HTML 3.2//E
	N">\n<HTML>\n<HEAD>\n<TITLE></TITLE>\n</HEAD>\n<BODY>\n<h3>AK REC ALL STARS
	 vs. X PISTOLS</h3>More info: <a href="https://www.golnetwork.com/game/v/94
	752/">#544</a>\n\n</BODY>\n</HTML>
STATUS:CONFIRMED
CLASS:PUBLIC
URL:https://www.golnetwork.com/game/v/94752/
X-MICROSOFT-CDO-BUSYSTATUS:BUSY
X-MICROSOFT-CDO-IMPORTANCE:1
END:VEVENT
END:VCALENDAR
