BEGIN:VCALENDAR
PRODID:-//gdesolutions.com//MV Framework 1.0.0.1607 Calendar//EN
VERSION:2.0
METHOD:PUBLISH
CALSCALE:GREGORIAN
BEGIN:VEVENT
UID:g2k08@games.golnetwork.com
LOCATION:Louis Riel #3
GEO:45.4410208;-75.5715394
CREATED:20130218T173250Z
DTSTART:20130225T000000Z
DTEND:20130225T010000Z
DTSTAMP:20260420T031141Z
SUMMARY:Kevin's Team vs. Scoring Angels
DESCRIPTION:Scoring Angels vs. Kevin's TeamMore info: #95
X-ALT-DESC;FMTTYPE=text/html:<!DOCTYPE HTML PUBLIC "-//W3C//DTD HTML 3.2//E
	N">\n<HTML>\n<HEAD>\n<TITLE></TITLE>\n</HEAD>\n<BODY>\n<h3>Scoring Angels v
	s. Kevin's Team</h3>More info: <a href="https://www.golnetwork.com/game/v/2
	5978/">#95</a>\n\n</BODY>\n</HTML>
STATUS:CONFIRMED
CLASS:PUBLIC
URL:https://www.golnetwork.com/game/v/25978/
X-MICROSOFT-CDO-BUSYSTATUS:BUSY
X-MICROSOFT-CDO-IMPORTANCE:1
END:VEVENT
BEGIN:VEVENT
UID:g2j96@games.golnetwork.com
LOCATION:Louis Riel #3
GEO:45.4410208;-75.5715394
CREATED:20130211T043005Z
DTSTART:20130217T210000Z
DTEND:20130217T220000Z
DTSTAMP:20260420T031141Z
SUMMARY:Scoring Angels vs. The Eagles
DESCRIPTION:The Eagles vs. Scoring AngelsMore info: #89
X-ALT-DESC;FMTTYPE=text/html:<!DOCTYPE HTML PUBLIC "-//W3C//DTD HTML 3.2//E
	N">\n<HTML>\n<HEAD>\n<TITLE></TITLE>\n</HEAD>\n<BODY>\n<h3>The Eagles vs. S
	coring Angels</h3>More info: <a href="https://www.golnetwork.com/game/v/257
	34/">#89</a>\n\n</BODY>\n</HTML>
STATUS:CONFIRMED
CLASS:PUBLIC
URL:https://www.golnetwork.com/game/v/25734/
X-MICROSOFT-CDO-BUSYSTATUS:BUSY
X-MICROSOFT-CDO-IMPORTANCE:1
END:VEVENT
BEGIN:VEVENT
UID:g2j32@games.golnetwork.com
LOCATION:Louis Riel #3
GEO:45.4410208;-75.5715394
CREATED:20130206T083117Z
DTSTART:20130210T190000Z
DTEND:20130210T200000Z
DTSTAMP:20260420T031141Z
SUMMARY:Dirty Mike & The Boys vs. Scoring Angels
DESCRIPTION:Scoring Angels vs. Dirty Mike & The BoysMore info: #80
X-ALT-DESC;FMTTYPE=text/html:<!DOCTYPE HTML PUBLIC "-//W3C//DTD HTML 3.2//E
	N">\n<HTML>\n<HEAD>\n<TITLE></TITLE>\n</HEAD>\n<BODY>\n<h3>Scoring Angels v
	s. Dirty Mike & The Boys</h3>More info: <a href="https://www.golnetwork.com
	/game/v/25651/">#80</a>\n\n</BODY>\n</HTML>
STATUS:CONFIRMED
CLASS:PUBLIC
URL:https://www.golnetwork.com/game/v/25651/
X-MICROSOFT-CDO-BUSYSTATUS:BUSY
X-MICROSOFT-CDO-IMPORTANCE:1
END:VEVENT
END:VCALENDAR
