BEGIN:VCALENDAR
PRODID:-//gdesolutions.com//MV Framework 1.0.0.1607 Calendar//EN
VERSION:2.0
METHOD:PUBLISH
CALSCALE:GREGORIAN
BEGIN:VEVENT
UID:g6nnk@games.golnetwork.com
LOCATION:Louis Riel #2
GEO:45.4410208;-75.5715394
CREATED:20150415T200612Z
DTSTART:20150419T210000Z
DTEND:20150419T215000Z
DTSTAMP:20260420T011649Z
SUMMARY:Dirty Mike & The Boys vs. Real Ale Madrid
DESCRIPTION:Real Ale Madrid vs. Dirty Mike & The BoysMore info: #104
X-ALT-DESC;FMTTYPE=text/html:<!DOCTYPE HTML PUBLIC "-//W3C//DTD HTML 3.2//E
	N">\n<HTML>\n<HEAD>\n<TITLE></TITLE>\n</HEAD>\n<BODY>\n<h3>Real Ale Madrid 
	vs. Dirty Mike & The Boys</h3>More info: <a href="https://www.golnetwork.co
	m/game/v/66754/">#104</a>\n\n</BODY>\n</HTML>
STATUS:CONFIRMED
CLASS:PUBLIC
URL:https://www.golnetwork.com/game/v/66754/
X-MICROSOFT-CDO-BUSYSTATUS:BUSY
X-MICROSOFT-CDO-IMPORTANCE:1
END:VEVENT
BEGIN:VEVENT
UID:g6n9k@games.golnetwork.com
LOCATION:Louis Riel #3
GEO:45.4410208;-75.5715394
CREATED:20150331T185216Z
DTSTART:20150412T220000Z
DTEND:20150412T225000Z
DTSTAMP:20260420T011649Z
SUMMARY:Picante Pelotas vs. Dirty Mike & The Boys
DESCRIPTION:Dirty Mike & The Boys vs. Picante PelotasMore info: #98
X-ALT-DESC;FMTTYPE=text/html:<!DOCTYPE HTML PUBLIC "-//W3C//DTD HTML 3.2//E
	N">\n<HTML>\n<HEAD>\n<TITLE></TITLE>\n</HEAD>\n<BODY>\n<h3>Dirty Mike & The
	 Boys vs. Picante Pelotas</h3>More info: <a href="https://www.golnetwork.co
	m/game/v/66565/">#98</a>\n\n</BODY>\n</HTML>
STATUS:CONFIRMED
CLASS:PUBLIC
URL:https://www.golnetwork.com/game/v/66565/
X-MICROSOFT-CDO-BUSYSTATUS:BUSY
X-MICROSOFT-CDO-IMPORTANCE:1
END:VEVENT
BEGIN:VEVENT
UID:g6mf3@games.golnetwork.com
LOCATION:Louis Riel #3
GEO:45.4410208;-75.5715394
CREATED:20150325T051147Z
DTSTART:20150329T230000Z
DTEND:20150329T235000Z
DTSTAMP:20260420T011649Z
SUMMARY:Spartans FC vs. Dirty Mike & The Boys
DESCRIPTION:Dirty Mike & The Boys vs. Spartans FCMore info: #90
X-ALT-DESC;FMTTYPE=text/html:<!DOCTYPE HTML PUBLIC "-//W3C//DTD HTML 3.2//E
	N">\n<HTML>\n<HEAD>\n<TITLE></TITLE>\n</HEAD>\n<BODY>\n<h3>Dirty Mike & The
	 Boys vs. Spartans FC</h3>More info: <a href="https://www.golnetwork.com/ga
	me/v/66273/">#90</a>\n\n</BODY>\n</HTML>
STATUS:CONFIRMED
CLASS:PUBLIC
URL:https://www.golnetwork.com/game/v/66273/
X-MICROSOFT-CDO-BUSYSTATUS:BUSY
X-MICROSOFT-CDO-IMPORTANCE:1
END:VEVENT
END:VCALENDAR
