BEGIN:VCALENDAR
PRODID:-//gdesolutions.com//MV Framework 1.0.0.1607 Calendar//EN
VERSION:2.0
METHOD:PUBLISH
CALSCALE:GREGORIAN
BEGIN:VEVENT
UID:g2d16@games.golnetwork.com
LOCATION:Lamport Stadium Field 3
GEO:43.639337;-79.4248954
CREATED:20121112T031034Z
DTSTART:20130119T020000Z
DTEND:20130119T030000Z
DTSTAMP:20260421T171823Z
SUMMARY:FC Hollywood 1888 vs. Something FC (White)
DESCRIPTION:Something FC (White) vs. FC Hollywood 1888More info: #259
X-ALT-DESC;FMTTYPE=text/html:<!DOCTYPE HTML PUBLIC "-//W3C//DTD HTML 3.2//E
	N">\n<HTML>\n<HEAD>\n<TITLE></TITLE>\n</HEAD>\n<BODY>\n<h3>Something FC (Wh
	ite) vs. FC Hollywood 1888</h3>More info: <a href="https://www.golnetwork.c
	om/game/v/23439/">#259</a>\n\n</BODY>\n</HTML>
STATUS:CONFIRMED
CLASS:PUBLIC
URL:https://www.golnetwork.com/game/v/23439/
X-MICROSOFT-CDO-BUSYSTATUS:BUSY
X-MICROSOFT-CDO-IMPORTANCE:1
END:VEVENT
BEGIN:VEVENT
UID:g2d0n@games.golnetwork.com
LOCATION:Lamport Stadium Field 3
GEO:43.639337;-79.4248954
CREATED:20121112T031034Z
DTSTART:20130112T020000Z
DTEND:20130112T030000Z
DTSTAMP:20260421T171823Z
SUMMARY:La Familia vs. FC Hollywood 1888
DESCRIPTION:FC Hollywood 1888 vs. La FamiliaMore info: #226
X-ALT-DESC;FMTTYPE=text/html:<!DOCTYPE HTML PUBLIC "-//W3C//DTD HTML 3.2//E
	N">\n<HTML>\n<HEAD>\n<TITLE></TITLE>\n</HEAD>\n<BODY>\n<h3>FC Hollywood 188
	8 vs. La Familia</h3>More info: <a href="https://www.golnetwork.com/game/v/
	23434/">#226</a>\n\n</BODY>\n</HTML>
STATUS:CONFIRMED
CLASS:PUBLIC
URL:https://www.golnetwork.com/game/v/23434/
X-MICROSOFT-CDO-BUSYSTATUS:BUSY
X-MICROSOFT-CDO-IMPORTANCE:1
END:VEVENT
BEGIN:VEVENT
UID:g2d0h@games.golnetwork.com
LOCATION:Lamport Stadium Field 3
GEO:43.639337;-79.4248954
CREATED:20121112T031034Z
DTSTART:20130105T040000Z
DTEND:20130105T050000Z
DTSTAMP:20260421T171823Z
SUMMARY:FC Hollywood 1888 vs. Something FC (White)
DESCRIPTION:Something FC (White) vs. FC Hollywood 1888More info: #199
X-ALT-DESC;FMTTYPE=text/html:<!DOCTYPE HTML PUBLIC "-//W3C//DTD HTML 3.2//E
	N">\n<HTML>\n<HEAD>\n<TITLE></TITLE>\n</HEAD>\n<BODY>\n<h3>Something FC (Wh
	ite) vs. FC Hollywood 1888</h3>More info: <a href="https://www.golnetwork.c
	om/game/v/23431/">#199</a>\n\n</BODY>\n</HTML>
STATUS:CONFIRMED
CLASS:PUBLIC
URL:https://www.golnetwork.com/game/v/23431/
X-MICROSOFT-CDO-BUSYSTATUS:BUSY
X-MICROSOFT-CDO-IMPORTANCE:1
END:VEVENT
BEGIN:VEVENT
UID:g2d05@games.golnetwork.com
LOCATION:Lamport Stadium Field 3
GEO:43.639337;-79.4248954
CREATED:20121112T031033Z
DTSTART:20121222T030000Z
DTEND:20121222T040000Z
DTSTAMP:20260421T171823Z
SUMMARY:Kickin it Old Skool vs. FC Hollywood 1888
DESCRIPTION:FC Hollywood 1888 vs. Kickin it Old SkoolMore info: #173
X-ALT-DESC;FMTTYPE=text/html:<!DOCTYPE HTML PUBLIC "-//W3C//DTD HTML 3.2//E
	N">\n<HTML>\n<HEAD>\n<TITLE></TITLE>\n</HEAD>\n<BODY>\n<h3>FC Hollywood 188
	8 vs. Kickin it Old Skool</h3>More info: <a href="https://www.golnetwork.co
	m/game/v/23425/">#173</a>\n\n</BODY>\n</HTML>
STATUS:CONFIRMED
CLASS:PUBLIC
URL:https://www.golnetwork.com/game/v/23425/
X-MICROSOFT-CDO-BUSYSTATUS:BUSY
X-MICROSOFT-CDO-IMPORTANCE:1
END:VEVENT
BEGIN:VEVENT
UID:g2cqk@games.golnetwork.com
LOCATION:Lamport Stadium Field 3
GEO:43.639337;-79.4248954
CREATED:20121112T031033Z
DTSTART:20121215T020000Z
DTEND:20121215T030000Z
DTSTAMP:20260421T171823Z
SUMMARY:Screaming  Giraffes vs. FC Hollywood 1888
DESCRIPTION:FC Hollywood 1888 vs. Screaming  GiraffesMore info: #137
X-ALT-DESC;FMTTYPE=text/html:<!DOCTYPE HTML PUBLIC "-//W3C//DTD HTML 3.2//E
	N">\n<HTML>\n<HEAD>\n<TITLE></TITLE>\n</HEAD>\n<BODY>\n<h3>FC Hollywood 188
	8 vs. Screaming  Giraffes</h3>More info: <a href="https://www.golnetwork.co
	m/game/v/23419/">#137</a>\n\n</BODY>\n</HTML>
STATUS:CONFIRMED
CLASS:PUBLIC
URL:https://www.golnetwork.com/game/v/23419/
X-MICROSOFT-CDO-BUSYSTATUS:BUSY
X-MICROSOFT-CDO-IMPORTANCE:1
END:VEVENT
BEGIN:VEVENT
UID:g2cq8@games.golnetwork.com
LOCATION:Lamport Stadium Field 3
GEO:43.639337;-79.4248954
CREATED:20121112T031033Z
DTSTART:20121208T010000Z
DTEND:20121208T020000Z
DTSTAMP:20260421T171823Z
SUMMARY:SAS vs. FC Hollywood 1888
DESCRIPTION:FC Hollywood 1888 vs. SASMore info: #101
X-ALT-DESC;FMTTYPE=text/html:<!DOCTYPE HTML PUBLIC "-//W3C//DTD HTML 3.2//E
	N">\n<HTML>\n<HEAD>\n<TITLE></TITLE>\n</HEAD>\n<BODY>\n<h3>FC Hollywood 188
	8 vs. SAS</h3>More info: <a href="https://www.golnetwork.com/game/v/23413/"
	>#101</a>\n\n</BODY>\n</HTML>
STATUS:CONFIRMED
CLASS:PUBLIC
URL:https://www.golnetwork.com/game/v/23413/
X-MICROSOFT-CDO-BUSYSTATUS:BUSY
X-MICROSOFT-CDO-IMPORTANCE:1
END:VEVENT
BEGIN:VEVENT
UID:g2cpn@games.golnetwork.com
LOCATION:Lamport Stadium Field 2
GEO:43.639337;-79.4248954
CREATED:20121112T031033Z
DTSTART:20121201T010000Z
DTEND:20121201T020000Z
DTSTAMP:20260421T171823Z
SUMMARY:XTSC Red Devils vs. FC Hollywood 1888
DESCRIPTION:FC Hollywood 1888 vs. XTSC Red DevilsMore info: #67
X-ALT-DESC;FMTTYPE=text/html:<!DOCTYPE HTML PUBLIC "-//W3C//DTD HTML 3.2//E
	N">\n<HTML>\n<HEAD>\n<TITLE></TITLE>\n</HEAD>\n<BODY>\n<h3>FC Hollywood 188
	8 vs. XTSC Red Devils</h3>More info: <a href="https://www.golnetwork.com/ga
	me/v/23407/">#67</a>\n\n</BODY>\n</HTML>
STATUS:CONFIRMED
CLASS:PUBLIC
URL:https://www.golnetwork.com/game/v/23407/
X-MICROSOFT-CDO-BUSYSTATUS:BUSY
X-MICROSOFT-CDO-IMPORTANCE:1
END:VEVENT
BEGIN:VEVENT
UID:g2cpf@games.golnetwork.com
LOCATION:Lamport Stadium Field 3
GEO:43.639337;-79.4248954
CREATED:20121112T031033Z
DTSTART:20121124T010000Z
DTEND:20121124T020000Z
DTSTAMP:20260421T171823Z
SUMMARY:FC Hollywood 1888 vs. La Familia
DESCRIPTION:La Familia vs. FC Hollywood 1888More info: #35
X-ALT-DESC;FMTTYPE=text/html:<!DOCTYPE HTML PUBLIC "-//W3C//DTD HTML 3.2//E
	N">\n<HTML>\n<HEAD>\n<TITLE></TITLE>\n</HEAD>\n<BODY>\n<h3>La Familia vs. F
	C Hollywood 1888</h3>More info: <a href="https://www.golnetwork.com/game/v/
	23403/">#35</a>\n\n</BODY>\n</HTML>
STATUS:CONFIRMED
CLASS:PUBLIC
URL:https://www.golnetwork.com/game/v/23403/
X-MICROSOFT-CDO-BUSYSTATUS:BUSY
X-MICROSOFT-CDO-IMPORTANCE:1
END:VEVENT
BEGIN:VEVENT
UID:g2cp7@games.golnetwork.com
LOCATION:Lamport Stadium Field 3
GEO:43.639337;-79.4248954
CREATED:20121112T031033Z
DTSTART:20121117T020000Z
DTEND:20121117T030000Z
DTSTAMP:20260421T171823Z
SUMMARY:FC Hollywood 1888 vs. Balls and Dolls (Black)
DESCRIPTION:Balls and Dolls (Black) vs. FC Hollywood 1888More info: #6
X-ALT-DESC;FMTTYPE=text/html:<!DOCTYPE HTML PUBLIC "-//W3C//DTD HTML 3.2//E
	N">\n<HTML>\n<HEAD>\n<TITLE></TITLE>\n</HEAD>\n<BODY>\n<h3>Balls and Dolls 
	(Black) vs. FC Hollywood 1888</h3>More info: <a href="https://www.golnetwor
	k.com/game/v/23399/">#6</a>\n\n</BODY>\n</HTML>
STATUS:CONFIRMED
CLASS:PUBLIC
URL:https://www.golnetwork.com/game/v/23399/
X-MICROSOFT-CDO-BUSYSTATUS:BUSY
X-MICROSOFT-CDO-IMPORTANCE:1
END:VEVENT
END:VCALENDAR
