BEGIN:VCALENDAR
PRODID:-//gdesolutions.com//MV Framework 1.0.0.1607 Calendar//EN
VERSION:2.0
METHOD:PUBLISH
CALSCALE:GREGORIAN
BEGIN:VEVENT
UID:g3c27@games.golnetwork.com
LOCATION:Lamport Stadium Field 1
GEO:43.639337;-79.4248954
CREATED:20130903T220340Z
DTSTART:20131019T010000Z
DTEND:20131019T020000Z
DTSTAMP:20260421T045624Z
SUMMARY:Broshooters vs. La Familia
DESCRIPTION:La Familia vs. BroshootersMore info: #49
X-ALT-DESC;FMTTYPE=text/html:<!DOCTYPE HTML PUBLIC "-//W3C//DTD HTML 3.2//E
	N">\n<HTML>\n<HEAD>\n<TITLE></TITLE>\n</HEAD>\n<BODY>\n<h3>La Familia vs. B
	roshooters</h3>More info: <a href="https://www.golnetwork.com/game/v/32930/
	">#49</a>\n\n</BODY>\n</HTML>
STATUS:CONFIRMED
CLASS:PUBLIC
URL:https://www.golnetwork.com/game/v/32930/
X-MICROSOFT-CDO-BUSYSTATUS:BUSY
X-MICROSOFT-CDO-IMPORTANCE:1
END:VEVENT
BEGIN:VEVENT
UID:g3c23@games.golnetwork.com
LOCATION:Lamport Stadium Field 1
GEO:43.639337;-79.4248954
CREATED:20130903T220340Z
DTSTART:20131019T000000Z
DTEND:20131019T010000Z
DTSTAMP:20260421T045624Z
SUMMARY:Dateless Samba vs. La Familia
DESCRIPTION:La Familia vs. Dateless SambaMore info: #47
X-ALT-DESC;FMTTYPE=text/html:<!DOCTYPE HTML PUBLIC "-//W3C//DTD HTML 3.2//E
	N">\n<HTML>\n<HEAD>\n<TITLE></TITLE>\n</HEAD>\n<BODY>\n<h3>La Familia vs. D
	ateless Samba</h3>More info: <a href="https://www.golnetwork.com/game/v/329
	28/">#47</a>\n\n</BODY>\n</HTML>
STATUS:CONFIRMED
CLASS:PUBLIC
URL:https://www.golnetwork.com/game/v/32928/
X-MICROSOFT-CDO-BUSYSTATUS:BUSY
X-MICROSOFT-CDO-IMPORTANCE:1
END:VEVENT
BEGIN:VEVENT
UID:g3c1m@games.golnetwork.com
LOCATION:Lamport Stadium Field 1
GEO:43.639337;-79.4248954
CREATED:20130903T220340Z
DTSTART:20131012T000000Z
DTEND:20131012T010000Z
DTSTAMP:20260421T045624Z
SUMMARY:Aztecas vs. La Familia
DESCRIPTION:La Familia vs. AztecasMore info: #37
X-ALT-DESC;FMTTYPE=text/html:<!DOCTYPE HTML PUBLIC "-//W3C//DTD HTML 3.2//E
	N">\n<HTML>\n<HEAD>\n<TITLE></TITLE>\n</HEAD>\n<BODY>\n<h3>La Familia vs. A
	ztecas</h3>More info: <a href="https://www.golnetwork.com/game/v/32924/">#3
	7</a>\n\n</BODY>\n</HTML>
STATUS:CONFIRMED
CLASS:PUBLIC
URL:https://www.golnetwork.com/game/v/32924/
X-MICROSOFT-CDO-BUSYSTATUS:BUSY
X-MICROSOFT-CDO-IMPORTANCE:1
END:VEVENT
BEGIN:VEVENT
UID:g3c1e@games.golnetwork.com
LOCATION:Lamport Stadium Field 1
GEO:43.639337;-79.4248954
CREATED:20130903T220340Z
DTSTART:20131005T000000Z
DTEND:20131005T010000Z
DTSTAMP:20260421T045624Z
SUMMARY:Brave little toasters vs. La Familia
DESCRIPTION:La Familia vs. Brave little toastersMore info: #30
X-ALT-DESC;FMTTYPE=text/html:<!DOCTYPE HTML PUBLIC "-//W3C//DTD HTML 3.2//E
	N">\n<HTML>\n<HEAD>\n<TITLE></TITLE>\n</HEAD>\n<BODY>\n<h3>La Familia vs. B
	rave little toasters</h3>More info: <a href="https://www.golnetwork.com/gam
	e/v/32920/">#30</a>\n\n</BODY>\n</HTML>
STATUS:CONFIRMED
CLASS:PUBLIC
URL:https://www.golnetwork.com/game/v/32920/
X-MICROSOFT-CDO-BUSYSTATUS:BUSY
X-MICROSOFT-CDO-IMPORTANCE:1
END:VEVENT
BEGIN:VEVENT
UID:g3c16@games.golnetwork.com
LOCATION:Lamport Stadium Field 1
GEO:43.639337;-79.4248954
CREATED:20130903T220340Z
DTSTART:20130928T000000Z
DTEND:20130928T010000Z
DTSTAMP:20260421T045624Z
SUMMARY:La Familia vs. XTSC Friday Night Lights
DESCRIPTION:XTSC Friday Night Lights vs. La FamiliaMore info: #23
X-ALT-DESC;FMTTYPE=text/html:<!DOCTYPE HTML PUBLIC "-//W3C//DTD HTML 3.2//E
	N">\n<HTML>\n<HEAD>\n<TITLE></TITLE>\n</HEAD>\n<BODY>\n<h3>XTSC Friday Nigh
	t Lights vs. La Familia</h3>More info: <a href="https://www.golnetwork.com/
	game/v/32916/">#23</a>\n\n</BODY>\n</HTML>
STATUS:CONFIRMED
CLASS:PUBLIC
URL:https://www.golnetwork.com/game/v/32916/
X-MICROSOFT-CDO-BUSYSTATUS:BUSY
X-MICROSOFT-CDO-IMPORTANCE:1
END:VEVENT
BEGIN:VEVENT
UID:g3c10@games.golnetwork.com
LOCATION:Lamport Stadium Field 2
GEO:43.639337;-79.4248954
CREATED:20130903T220340Z
DTSTART:20130921T000000Z
DTEND:20130921T010000Z
DTSTAMP:20260421T045624Z
SUMMARY:La Familia vs. The Six Shooters
DESCRIPTION:The Six Shooters vs. La FamiliaMore info: #17
X-ALT-DESC;FMTTYPE=text/html:<!DOCTYPE HTML PUBLIC "-//W3C//DTD HTML 3.2//E
	N">\n<HTML>\n<HEAD>\n<TITLE></TITLE>\n</HEAD>\n<BODY>\n<h3>The Six Shooters
	 vs. La Familia</h3>More info: <a href="https://www.golnetwork.com/game/v/3
	2913/">#17</a>\n\n</BODY>\n</HTML>
STATUS:CONFIRMED
CLASS:PUBLIC
URL:https://www.golnetwork.com/game/v/32913/
X-MICROSOFT-CDO-BUSYSTATUS:BUSY
X-MICROSOFT-CDO-IMPORTANCE:1
END:VEVENT
BEGIN:VEVENT
UID:g3c0l@games.golnetwork.com
LOCATION:Lamport Stadium Field 1
GEO:43.639337;-79.4248954
CREATED:20130903T220340Z
DTSTART:20130914T010000Z
DTEND:20130914T020000Z
DTSTAMP:20260421T045624Z
SUMMARY:La Familia vs. Brave little toasters
DESCRIPTION:Brave little toasters vs. La FamiliaMore info: #11
X-ALT-DESC;FMTTYPE=text/html:<!DOCTYPE HTML PUBLIC "-//W3C//DTD HTML 3.2//E
	N">\n<HTML>\n<HEAD>\n<TITLE></TITLE>\n</HEAD>\n<BODY>\n<h3>Brave little toa
	sters vs. La Familia</h3>More info: <a href="https://www.golnetwork.com/gam
	e/v/32910/">#11</a>\n\n</BODY>\n</HTML>
STATUS:CONFIRMED
CLASS:PUBLIC
URL:https://www.golnetwork.com/game/v/32910/
X-MICROSOFT-CDO-BUSYSTATUS:BUSY
X-MICROSOFT-CDO-IMPORTANCE:1
END:VEVENT
BEGIN:VEVENT
UID:g3c0j@games.golnetwork.com
LOCATION:Lamport Stadium Field 2
GEO:43.639337;-79.4248954
CREATED:20130903T220340Z
DTSTART:20130914T000000Z
DTEND:20130914T010000Z
DTSTAMP:20260421T045624Z
SUMMARY:La Familia vs. Broshooters
DESCRIPTION:Broshooters vs. La FamiliaMore info: #10
X-ALT-DESC;FMTTYPE=text/html:<!DOCTYPE HTML PUBLIC "-//W3C//DTD HTML 3.2//E
	N">\n<HTML>\n<HEAD>\n<TITLE></TITLE>\n</HEAD>\n<BODY>\n<h3>Broshooters vs. 
	La Familia</h3>More info: <a href="https://www.golnetwork.com/game/v/32909/
	">#10</a>\n\n</BODY>\n</HTML>
STATUS:CONFIRMED
CLASS:PUBLIC
URL:https://www.golnetwork.com/game/v/32909/
X-MICROSOFT-CDO-BUSYSTATUS:BUSY
X-MICROSOFT-CDO-IMPORTANCE:1
END:VEVENT
BEGIN:VEVENT
UID:g3c0f@games.golnetwork.com
LOCATION:Lamport Stadium Field 2
GEO:43.639337;-79.4248954
CREATED:20130903T220340Z
DTSTART:20130907T010000Z
DTEND:20130907T020000Z
DTSTAMP:20260421T045624Z
SUMMARY:La Familia vs. Dateless Samba
DESCRIPTION:Dateless Samba vs. La FamiliaMore info: #4
X-ALT-DESC;FMTTYPE=text/html:<!DOCTYPE HTML PUBLIC "-//W3C//DTD HTML 3.2//E
	N">\n<HTML>\n<HEAD>\n<TITLE></TITLE>\n</HEAD>\n<BODY>\n<h3>Dateless Samba v
	s. La Familia</h3>More info: <a href="https://www.golnetwork.com/game/v/329
	07/">#4</a>\n\n</BODY>\n</HTML>
STATUS:CONFIRMED
CLASS:PUBLIC
URL:https://www.golnetwork.com/game/v/32907/
X-MICROSOFT-CDO-BUSYSTATUS:BUSY
X-MICROSOFT-CDO-IMPORTANCE:1
END:VEVENT
END:VCALENDAR
