BEGIN:VCALENDAR
PRODID:-//gdesolutions.com//MV Framework 1.0.0.1607 Calendar//EN
VERSION:2.0
METHOD:PUBLISH
CALSCALE:GREGORIAN
BEGIN:VEVENT
UID:g2ld4@games.golnetwork.com
LOCATION:Lamport Stadium Field 2
GEO:43.639337;-79.4248954
CREATED:20130311T165033Z
DTSTART:20130420T000000Z
DTEND:20130420T010000Z
DTSTAMP:20260419T212658Z
SUMMARY:Cat Daddy's vs. Aztecas
DESCRIPTION:Aztecas vs. Cat Daddy'sMore info: #319
X-ALT-DESC;FMTTYPE=text/html:<!DOCTYPE HTML PUBLIC "-//W3C//DTD HTML 3.2//E
	N">\n<HTML>\n<HEAD>\n<TITLE></TITLE>\n</HEAD>\n<BODY>\n<h3>Aztecas vs. Cat 
	Daddy's</h3>More info: <a href="https://www.golnetwork.com/game/v/26516/">#
	319</a>\n\n</BODY>\n</HTML>
STATUS:CONFIRMED
CLASS:PUBLIC
URL:https://www.golnetwork.com/game/v/26516/
X-MICROSOFT-CDO-BUSYSTATUS:BUSY
X-MICROSOFT-CDO-IMPORTANCE:1
END:VEVENT
BEGIN:VEVENT
UID:g2i33@games.golnetwork.com
LOCATION:Lamport Stadium Field 2
GEO:43.639337;-79.4248954
CREATED:20130128T214742Z
DTSTART:20130413T020000Z
DTEND:20130413T030000Z
DTSTAMP:20260419T212658Z
SUMMARY:Aztecas vs. Las Vacas
DESCRIPTION:Las Vacas vs. AztecasMore info: #297
X-ALT-DESC;FMTTYPE=text/html:<!DOCTYPE HTML PUBLIC "-//W3C//DTD HTML 3.2//E
	N">\n<HTML>\n<HEAD>\n<TITLE></TITLE>\n</HEAD>\n<BODY>\n<h3>Las Vacas vs. Az
	tecas</h3>More info: <a href="https://www.golnetwork.com/game/v/25287/">#29
	7</a>\n\n</BODY>\n</HTML>
STATUS:CONFIRMED
CLASS:PUBLIC
URL:https://www.golnetwork.com/game/v/25287/
X-MICROSOFT-CDO-BUSYSTATUS:BUSY
X-MICROSOFT-CDO-IMPORTANCE:1
END:VEVENT
BEGIN:VEVENT
UID:g2lcp@games.golnetwork.com
LOCATION:Lamport Stadium Field 2
GEO:43.639337;-79.4248954
CREATED:20130311T164957Z
DTSTART:20130406T020000Z
DTEND:20130406T030000Z
DTSTAMP:20260419T212658Z
SUMMARY:Las Vacas vs. Aztecas
DESCRIPTION:Aztecas vs. Las VacasMore info: R#33
X-ALT-DESC;FMTTYPE=text/html:<!DOCTYPE HTML PUBLIC "-//W3C//DTD HTML 3.2//E
	N">\n<HTML>\n<HEAD>\n<TITLE></TITLE>\n</HEAD>\n<BODY>\n<h3>Aztecas vs. Las 
	Vacas</h3>More info: <a href="https://www.golnetwork.com/game/v/26513/">R#3
	3</a>\n\n</BODY>\n</HTML>
STATUS:CONFIRMED
CLASS:PUBLIC
URL:https://www.golnetwork.com/game/v/26513/
X-MICROSOFT-CDO-BUSYSTATUS:BUSY
X-MICROSOFT-CDO-IMPORTANCE:1
END:VEVENT
BEGIN:VEVENT
UID:g2i2i@games.golnetwork.com
LOCATION:Lamport Stadium Field 2
GEO:43.639337;-79.4248954
CREATED:20130128T214742Z
DTSTART:20130323T020000Z
DTEND:20130323T030000Z
DTSTAMP:20260419T212658Z
SUMMARY:Los Conejos vs. Aztecas
DESCRIPTION:Aztecas vs. Los ConejosMore info: #226
X-ALT-DESC;FMTTYPE=text/html:<!DOCTYPE HTML PUBLIC "-//W3C//DTD HTML 3.2//E
	N">\n<HTML>\n<HEAD>\n<TITLE></TITLE>\n</HEAD>\n<BODY>\n<h3>Aztecas vs. Los 
	Conejos</h3>More info: <a href="https://www.golnetwork.com/game/v/25281/">#
	226</a>\n\n</BODY>\n</HTML>
STATUS:CONFIRMED
CLASS:PUBLIC
URL:https://www.golnetwork.com/game/v/25281/
X-MICROSOFT-CDO-BUSYSTATUS:BUSY
X-MICROSOFT-CDO-IMPORTANCE:1
END:VEVENT
BEGIN:VEVENT
UID:g2i2a@games.golnetwork.com
LOCATION:Lamport Stadium Field 2
GEO:43.639337;-79.4248954
CREATED:20130128T214742Z
DTSTART:20130316T010000Z
DTEND:20130316T020000Z
DTSTAMP:20260419T212658Z
SUMMARY:Las Vacas vs. Aztecas
DESCRIPTION:Aztecas vs. Las VacasMore info: #190
X-ALT-DESC;FMTTYPE=text/html:<!DOCTYPE HTML PUBLIC "-//W3C//DTD HTML 3.2//E
	N">\n<HTML>\n<HEAD>\n<TITLE></TITLE>\n</HEAD>\n<BODY>\n<h3>Aztecas vs. Las 
	Vacas</h3>More info: <a href="https://www.golnetwork.com/game/v/25277/">#19
	0</a>\n\n</BODY>\n</HTML>
STATUS:CONFIRMED
CLASS:PUBLIC
URL:https://www.golnetwork.com/game/v/25277/
X-MICROSOFT-CDO-BUSYSTATUS:BUSY
X-MICROSOFT-CDO-IMPORTANCE:1
END:VEVENT
BEGIN:VEVENT
UID:g2i24@games.golnetwork.com
LOCATION:Lamport Stadium Field 2
GEO:43.639337;-79.4248954
CREATED:20130128T214742Z
DTSTART:20130309T020000Z
DTEND:20130309T030000Z
DTSTAMP:20260419T212658Z
SUMMARY:Spartans vs. Aztecas
DESCRIPTION:Aztecas vs. SpartansMore info: #158
X-ALT-DESC;FMTTYPE=text/html:<!DOCTYPE HTML PUBLIC "-//W3C//DTD HTML 3.2//E
	N">\n<HTML>\n<HEAD>\n<TITLE></TITLE>\n</HEAD>\n<BODY>\n<h3>Aztecas vs. Spar
	tans</h3>More info: <a href="https://www.golnetwork.com/game/v/25274/">#158
	</a>\n\n</BODY>\n</HTML>
STATUS:CONFIRMED
CLASS:PUBLIC
URL:https://www.golnetwork.com/game/v/25274/
X-MICROSOFT-CDO-BUSYSTATUS:BUSY
X-MICROSOFT-CDO-IMPORTANCE:1
END:VEVENT
BEGIN:VEVENT
UID:g2i1n@games.golnetwork.com
LOCATION:Lamport Stadium Field 2
GEO:43.639337;-79.4248954
CREATED:20130128T214742Z
DTSTART:20130302T010000Z
DTEND:20130302T020000Z
DTSTAMP:20260419T212658Z
SUMMARY:Cat Daddy's vs. Aztecas
DESCRIPTION:Aztecas vs. Cat Daddy'sMore info: #123
X-ALT-DESC;FMTTYPE=text/html:<!DOCTYPE HTML PUBLIC "-//W3C//DTD HTML 3.2//E
	N">\n<HTML>\n<HEAD>\n<TITLE></TITLE>\n</HEAD>\n<BODY>\n<h3>Aztecas vs. Cat 
	Daddy's</h3>More info: <a href="https://www.golnetwork.com/game/v/25270/">#
	123</a>\n\n</BODY>\n</HTML>
STATUS:CONFIRMED
CLASS:PUBLIC
URL:https://www.golnetwork.com/game/v/25270/
X-MICROSOFT-CDO-BUSYSTATUS:BUSY
X-MICROSOFT-CDO-IMPORTANCE:1
END:VEVENT
BEGIN:VEVENT
UID:g2i1j@games.golnetwork.com
LOCATION:Lamport Stadium Field 2
GEO:43.639337;-79.4248954
CREATED:20130128T214742Z
DTSTART:20130223T020000Z
DTEND:20130223T030000Z
DTSTAMP:20260419T212658Z
SUMMARY:Aztecas vs. Los Conejos
DESCRIPTION:Los Conejos vs. AztecasMore info: #94
X-ALT-DESC;FMTTYPE=text/html:<!DOCTYPE HTML PUBLIC "-//W3C//DTD HTML 3.2//E
	N">\n<HTML>\n<HEAD>\n<TITLE></TITLE>\n</HEAD>\n<BODY>\n<h3>Los Conejos vs. 
	Aztecas</h3>More info: <a href="https://www.golnetwork.com/game/v/25268/">#
	94</a>\n\n</BODY>\n</HTML>
STATUS:CONFIRMED
CLASS:PUBLIC
URL:https://www.golnetwork.com/game/v/25268/
X-MICROSOFT-CDO-BUSYSTATUS:BUSY
X-MICROSOFT-CDO-IMPORTANCE:1
END:VEVENT
BEGIN:VEVENT
UID:g2i1f@games.golnetwork.com
LOCATION:Lamport Stadium Field 2
GEO:43.639337;-79.4248954
CREATED:20130128T214742Z
DTSTART:20130216T030000Z
DTEND:20130216T040000Z
DTSTAMP:20260419T212658Z
SUMMARY:Aztecas vs. Gaby's Bitches
DESCRIPTION:Gaby's Bitches vs. AztecasMore info: #65
X-ALT-DESC;FMTTYPE=text/html:<!DOCTYPE HTML PUBLIC "-//W3C//DTD HTML 3.2//E
	N">\n<HTML>\n<HEAD>\n<TITLE></TITLE>\n</HEAD>\n<BODY>\n<h3>Gaby's Bitches v
	s. Aztecas</h3>More info: <a href="https://www.golnetwork.com/game/v/25266/
	">#65</a>\n\n</BODY>\n</HTML>
STATUS:CONFIRMED
CLASS:PUBLIC
URL:https://www.golnetwork.com/game/v/25266/
X-MICROSOFT-CDO-BUSYSTATUS:BUSY
X-MICROSOFT-CDO-IMPORTANCE:1
END:VEVENT
BEGIN:VEVENT
UID:g2i19@games.golnetwork.com
LOCATION:Lamport Stadium Field 2
GEO:43.639337;-79.4248954
CREATED:20130128T214742Z
DTSTART:20130209T030000Z
DTEND:20130209T040000Z
DTSTAMP:20260419T212658Z
SUMMARY:Las Vacas vs. Aztecas
DESCRIPTION:Aztecas vs. Las VacasMore info: #33
X-ALT-DESC;FMTTYPE=text/html:<!DOCTYPE HTML PUBLIC "-//W3C//DTD HTML 3.2//E
	N">\n<HTML>\n<HEAD>\n<TITLE></TITLE>\n</HEAD>\n<BODY>\n<h3>Aztecas vs. Las 
	Vacas</h3>More info: <a href="https://www.golnetwork.com/game/v/25263/">#33
	</a>\n\n</BODY>\n</HTML>
STATUS:RESCHEDULED
CLASS:PUBLIC
URL:https://www.golnetwork.com/game/v/25263/
X-MICROSOFT-CDO-BUSYSTATUS:BUSY
X-MICROSOFT-CDO-IMPORTANCE:1
END:VEVENT
BEGIN:VEVENT
UID:g2i11@games.golnetwork.com
LOCATION:Lamport Stadium Field 2
GEO:43.639337;-79.4248954
CREATED:20130128T214742Z
DTSTART:20130202T020000Z
DTEND:20130202T030000Z
DTSTAMP:20260419T212658Z
SUMMARY:Spartans vs. Aztecas
DESCRIPTION:Aztecas vs. SpartansMore info: #5
X-ALT-DESC;FMTTYPE=text/html:<!DOCTYPE HTML PUBLIC "-//W3C//DTD HTML 3.2//E
	N">\n<HTML>\n<HEAD>\n<TITLE></TITLE>\n</HEAD>\n<BODY>\n<h3>Aztecas vs. Spar
	tans</h3>More info: <a href="https://www.golnetwork.com/game/v/25259/">#5</
	a>\n\n</BODY>\n</HTML>
STATUS:CONFIRMED
CLASS:PUBLIC
URL:https://www.golnetwork.com/game/v/25259/
X-MICROSOFT-CDO-BUSYSTATUS:BUSY
X-MICROSOFT-CDO-IMPORTANCE:1
END:VEVENT
END:VCALENDAR
