BEGIN:VCALENDAR
PRODID:-//gdesolutions.com//MV Framework 1.0.0.1607 Calendar//EN
VERSION:2.0
METHOD:PUBLISH
CALSCALE:GREGORIAN
BEGIN:VEVENT
UID:g2lo5@games.golnetwork.com
LOCATION:Emily Carr Gym 1
GEO:45.432995;-75.5616384
CREATED:20130321T170722Z
DTSTART:20130409T000000Z
DTEND:20130409T005000Z
DTSTAMP:20260420T071413Z
SUMMARY:The Vixens vs. Goal Diggers
DESCRIPTION:Goal Diggers vs. The VixensMore info: #16
X-ALT-DESC;FMTTYPE=text/html:<!DOCTYPE HTML PUBLIC "-//W3C//DTD HTML 3.2//E
	N">\n<HTML>\n<HEAD>\n<TITLE></TITLE>\n</HEAD>\n<BODY>\n<h3>Goal Diggers vs.
	 The Vixens</h3>More info: <a href="https://www.golnetwork.com/game/v/26665
	/">#16</a>\n\n</BODY>\n</HTML>
STATUS:CONFIRMED
CLASS:PUBLIC
URL:https://www.golnetwork.com/game/v/26665/
X-MICROSOFT-CDO-BUSYSTATUS:BUSY
X-MICROSOFT-CDO-IMPORTANCE:1
END:VEVENT
BEGIN:VEVENT
UID:g2lo3@games.golnetwork.com
LOCATION:Emily Carr Gym 1
GEO:45.432995;-75.5616384
CREATED:20130321T170651Z
DTSTART:20130326T010000Z
DTEND:20130326T015000Z
DTSTAMP:20260420T071413Z
SUMMARY:Individuals 1 vs. Goal Diggers
DESCRIPTION:Goal Diggers vs. Individuals 1More info: #15
X-ALT-DESC;FMTTYPE=text/html:<!DOCTYPE HTML PUBLIC "-//W3C//DTD HTML 3.2//E
	N">\n<HTML>\n<HEAD>\n<TITLE></TITLE>\n</HEAD>\n<BODY>\n<h3>Goal Diggers vs.
	 Individuals 1</h3>More info: <a href="https://www.golnetwork.com/game/v/26
	664/">#15</a>\n\n</BODY>\n</HTML>
STATUS:CONFIRMED
CLASS:PUBLIC
URL:https://www.golnetwork.com/game/v/26664/
X-MICROSOFT-CDO-BUSYSTATUS:BUSY
X-MICROSOFT-CDO-IMPORTANCE:1
END:VEVENT
BEGIN:VEVENT
UID:g2i73@games.golnetwork.com
LOCATION:Emily Carr Gym 1
GEO:45.432995;-75.5616384
CREATED:20130129T170848Z
DTSTART:20130319T010000Z
DTEND:20130319T015000Z
DTSTAMP:20260420T071413Z
SUMMARY:The Vixens vs. Goal Diggers
DESCRIPTION:Goal Diggers vs. The VixensMore info: #13
X-ALT-DESC;FMTTYPE=text/html:<!DOCTYPE HTML PUBLIC "-//W3C//DTD HTML 3.2//E
	N">\n<HTML>\n<HEAD>\n<TITLE></TITLE>\n</HEAD>\n<BODY>\n<h3>Goal Diggers vs.
	 The Vixens</h3>More info: <a href="https://www.golnetwork.com/game/v/25341
	/">#13</a>\n\n</BODY>\n</HTML>
STATUS:CONFIRMED
CLASS:PUBLIC
URL:https://www.golnetwork.com/game/v/25341/
X-MICROSOFT-CDO-BUSYSTATUS:BUSY
X-MICROSOFT-CDO-IMPORTANCE:1
END:VEVENT
BEGIN:VEVENT
UID:g2i6o@games.golnetwork.com
LOCATION:Emily Carr Gym 1
GEO:45.432995;-75.5616384
CREATED:20130129T170823Z
DTSTART:20130305T010000Z
DTEND:20130305T015000Z
DTSTAMP:20260420T071413Z
SUMMARY:Individuals 2 vs. Goal Diggers
DESCRIPTION:Goal Diggers vs. Individuals 2More info: #10
X-ALT-DESC;FMTTYPE=text/html:<!DOCTYPE HTML PUBLIC "-//W3C//DTD HTML 3.2//E
	N">\n<HTML>\n<HEAD>\n<TITLE></TITLE>\n</HEAD>\n<BODY>\n<h3>Goal Diggers vs.
	 Individuals 2</h3>More info: <a href="https://www.golnetwork.com/game/v/25
	338/">#10</a>\n\n</BODY>\n</HTML>
STATUS:CONFIRMED
CLASS:PUBLIC
URL:https://www.golnetwork.com/game/v/25338/
X-MICROSOFT-CDO-BUSYSTATUS:BUSY
X-MICROSOFT-CDO-IMPORTANCE:1
END:VEVENT
BEGIN:VEVENT
UID:g2i6k@games.golnetwork.com
LOCATION:Emily Carr Gym 1
GEO:45.432995;-75.5616384
CREATED:20130129T170800Z
DTSTART:20130226T010000Z
DTEND:20130226T015000Z
DTSTAMP:20260420T071413Z
SUMMARY:The Vixens vs. Goal Diggers
DESCRIPTION:Goal Diggers vs. The VixensMore info: #8
X-ALT-DESC;FMTTYPE=text/html:<!DOCTYPE HTML PUBLIC "-//W3C//DTD HTML 3.2//E
	N">\n<HTML>\n<HEAD>\n<TITLE></TITLE>\n</HEAD>\n<BODY>\n<h3>Goal Diggers vs.
	 The Vixens</h3>More info: <a href="https://www.golnetwork.com/game/v/25336
	/">#8</a>\n\n</BODY>\n</HTML>
STATUS:CONFIRMED
CLASS:PUBLIC
URL:https://www.golnetwork.com/game/v/25336/
X-MICROSOFT-CDO-BUSYSTATUS:BUSY
X-MICROSOFT-CDO-IMPORTANCE:1
END:VEVENT
BEGIN:VEVENT
UID:g2i6i@games.golnetwork.com
LOCATION:Emily Carr Gym 1
GEO:45.432995;-75.5616384
CREATED:20130129T170746Z
DTSTART:20130212T020000Z
DTEND:20130212T025000Z
DTSTAMP:20260420T071413Z
SUMMARY:Goal Diggers vs. Individuals 1
DESCRIPTION:Individuals 1 vs. Goal DiggersMore info: #7
X-ALT-DESC;FMTTYPE=text/html:<!DOCTYPE HTML PUBLIC "-//W3C//DTD HTML 3.2//E
	N">\n<HTML>\n<HEAD>\n<TITLE></TITLE>\n</HEAD>\n<BODY>\n<h3>Individuals 1 vs
	. Goal Diggers</h3>More info: <a href="https://www.golnetwork.com/game/v/25
	335/">#7</a>\n\n</BODY>\n</HTML>
STATUS:CONFIRMED
CLASS:PUBLIC
URL:https://www.golnetwork.com/game/v/25335/
X-MICROSOFT-CDO-BUSYSTATUS:BUSY
X-MICROSOFT-CDO-IMPORTANCE:1
END:VEVENT
BEGIN:VEVENT
UID:g2h9e@games.golnetwork.com
LOCATION:Emily Carr Gym 1
GEO:45.432995;-75.5616384
CREATED:20130115T201518Z
DTSTART:20130129T020000Z
DTEND:20130129T025000Z
DTSTAMP:20260420T071413Z
SUMMARY:The Vixens vs. Goal Diggers
DESCRIPTION:Goal Diggers vs. The VixensMore info: #5
X-ALT-DESC;FMTTYPE=text/html:<!DOCTYPE HTML PUBLIC "-//W3C//DTD HTML 3.2//E
	N">\n<HTML>\n<HEAD>\n<TITLE></TITLE>\n</HEAD>\n<BODY>\n<h3>Goal Diggers vs.
	 The Vixens</h3>More info: <a href="https://www.golnetwork.com/game/v/25009
	/">#5</a>\n\n</BODY>\n</HTML>
STATUS:CONFIRMED
CLASS:PUBLIC
URL:https://www.golnetwork.com/game/v/25009/
X-MICROSOFT-CDO-BUSYSTATUS:BUSY
X-MICROSOFT-CDO-IMPORTANCE:1
END:VEVENT
BEGIN:VEVENT
UID:g2h9a@games.golnetwork.com
LOCATION:Emily Carr Gym 1
GEO:45.432995;-75.5616384
CREATED:20130115T201448Z
DTSTART:20130122T020000Z
DTEND:20130122T025000Z
DTSTAMP:20260420T071413Z
SUMMARY:Individuals 2 vs. Goal Diggers
DESCRIPTION:Goal Diggers vs. Individuals 2More info: #4
X-ALT-DESC;FMTTYPE=text/html:<!DOCTYPE HTML PUBLIC "-//W3C//DTD HTML 3.2//E
	N">\n<HTML>\n<HEAD>\n<TITLE></TITLE>\n</HEAD>\n<BODY>\n<h3>Goal Diggers vs.
	 Individuals 2</h3>More info: <a href="https://www.golnetwork.com/game/v/25
	007/">#4</a>\n\n</BODY>\n</HTML>
STATUS:CONFIRMED
CLASS:PUBLIC
URL:https://www.golnetwork.com/game/v/25007/
X-MICROSOFT-CDO-BUSYSTATUS:BUSY
X-MICROSOFT-CDO-IMPORTANCE:1
END:VEVENT
BEGIN:VEVENT
UID:g2h94@games.golnetwork.com
LOCATION:Emily Carr Gym 1
GEO:45.432995;-75.5616384
CREATED:20130115T201412Z
DTSTART:20130115T010000Z
DTEND:20130115T015000Z
DTSTAMP:20260420T071413Z
SUMMARY:Individuals 1 vs. Goal Diggers
DESCRIPTION:Goal Diggers vs. Individuals 1More info: #1
X-ALT-DESC;FMTTYPE=text/html:<!DOCTYPE HTML PUBLIC "-//W3C//DTD HTML 3.2//E
	N">\n<HTML>\n<HEAD>\n<TITLE></TITLE>\n</HEAD>\n<BODY>\n<h3>Goal Diggers vs.
	 Individuals 1</h3>More info: <a href="https://www.golnetwork.com/game/v/25
	004/">#1</a>\n\n</BODY>\n</HTML>
STATUS:CONFIRMED
CLASS:PUBLIC
URL:https://www.golnetwork.com/game/v/25004/
X-MICROSOFT-CDO-BUSYSTATUS:BUSY
X-MICROSOFT-CDO-IMPORTANCE:1
END:VEVENT
END:VCALENDAR
