BEGIN:VCALENDAR
PRODID:-//gdesolutions.com//MV Framework 1.0.0.1607 Calendar//EN
VERSION:2.0
METHOD:PUBLISH
CALSCALE:GREGORIAN
BEGIN:VEVENT
UID:g2q2k@games.golnetwork.com
LOCATION:Forbes Field
GEO:45.10662;-94.578209
CREATED:20130425T134643Z
DTSTART:20130526T200000Z
DTEND:20130526T204000Z
DTSTAMP:20260420T074409Z
SUMMARY:XXY vs. Grate Chate
DESCRIPTION:Grate Chate vs. XXYMore info: #44
X-ALT-DESC;FMTTYPE=text/html:<!DOCTYPE HTML PUBLIC "-//W3C//DTD HTML 3.2//E
	N">\n<HTML>\n<HEAD>\n<TITLE></TITLE>\n</HEAD>\n<BODY>\n<h3>Grate Chate vs. 
	XXY</h3>More info: <a href="https://www.golnetwork.com/game/v/28198/">#44</
	a>\n\n</BODY>\n</HTML>
STATUS:CONFIRMED
CLASS:PUBLIC
URL:https://www.golnetwork.com/game/v/28198/
X-MICROSOFT-CDO-BUSYSTATUS:BUSY
X-MICROSOFT-CDO-IMPORTANCE:1
END:VEVENT
BEGIN:VEVENT
UID:g2q1p@games.golnetwork.com
LOCATION:Forbes Field
GEO:45.10662;-94.578209
CREATED:20130425T134642Z
DTSTART:20130518T200000Z
DTEND:20130518T204000Z
DTSTAMP:20260420T074409Z
SUMMARY:XXY vs. Lord Of the Teams
DESCRIPTION:Lord Of the Teams vs. XXYMore info: #33
X-ALT-DESC;FMTTYPE=text/html:<!DOCTYPE HTML PUBLIC "-//W3C//DTD HTML 3.2//E
	N">\n<HTML>\n<HEAD>\n<TITLE></TITLE>\n</HEAD>\n<BODY>\n<h3>Lord Of the Team
	s vs. XXY</h3>More info: <a href="https://www.golnetwork.com/game/v/28187/"
	>#33</a>\n\n</BODY>\n</HTML>
STATUS:CONFIRMED
CLASS:PUBLIC
URL:https://www.golnetwork.com/game/v/28187/
X-MICROSOFT-CDO-BUSYSTATUS:BUSY
X-MICROSOFT-CDO-IMPORTANCE:1
END:VEVENT
BEGIN:VEVENT
UID:g2q1b@games.golnetwork.com
LOCATION:Forbes Field
GEO:45.10662;-94.578209
CREATED:20130425T134642Z
DTSTART:20130512T180000Z
DTEND:20130512T184000Z
DTSTAMP:20260420T074409Z
SUMMARY:XXY vs. UnAtletico McGill (CRB)
DESCRIPTION:UnAtletico McGill (CRB) vs. XXYMore info: #26
X-ALT-DESC;FMTTYPE=text/html:<!DOCTYPE HTML PUBLIC "-//W3C//DTD HTML 3.2//E
	N">\n<HTML>\n<HEAD>\n<TITLE></TITLE>\n</HEAD>\n<BODY>\n<h3>UnAtletico McGil
	l (CRB) vs. XXY</h3>More info: <a href="https://www.golnetwork.com/game/v/2
	8180/">#26</a>\n\n</BODY>\n</HTML>
STATUS:CONFIRMED
CLASS:PUBLIC
URL:https://www.golnetwork.com/game/v/28180/
X-MICROSOFT-CDO-BUSYSTATUS:BUSY
X-MICROSOFT-CDO-IMPORTANCE:1
END:VEVENT
BEGIN:VEVENT
UID:g2q0i@games.golnetwork.com
LOCATION:Forbes Field
GEO:45.10662;-94.578209
CREATED:20130425T134642Z
DTSTART:20130505T200000Z
DTEND:20130505T204000Z
DTSTAMP:20260420T074409Z
SUMMARY:XXY vs. Promoters
DESCRIPTION:Promoters vs. XXYMore info: #16
X-ALT-DESC;FMTTYPE=text/html:<!DOCTYPE HTML PUBLIC "-//W3C//DTD HTML 3.2//E
	N">\n<HTML>\n<HEAD>\n<TITLE></TITLE>\n</HEAD>\n<BODY>\n<h3>Promoters vs. XX
	Y</h3>More info: <a href="https://www.golnetwork.com/game/v/28170/">#16</a>
	\n\n</BODY>\n</HTML>
STATUS:CONFIRMED
CLASS:PUBLIC
URL:https://www.golnetwork.com/game/v/28170/
X-MICROSOFT-CDO-BUSYSTATUS:BUSY
X-MICROSOFT-CDO-IMPORTANCE:1
END:VEVENT
BEGIN:VEVENT
UID:g2pqj@games.golnetwork.com
LOCATION:Forbes Field
GEO:45.10662;-94.578209
CREATED:20130425T134642Z
DTSTART:20130427T210000Z
DTEND:20130427T214000Z
DTSTAMP:20260420T074409Z
SUMMARY:XXY vs. Suck Our Kicks
DESCRIPTION:Suck Our Kicks vs. XXYMore info: #3
X-ALT-DESC;FMTTYPE=text/html:<!DOCTYPE HTML PUBLIC "-//W3C//DTD HTML 3.2//E
	N">\n<HTML>\n<HEAD>\n<TITLE></TITLE>\n</HEAD>\n<BODY>\n<h3>Suck Our Kicks v
	s. XXY</h3>More info: <a href="https://www.golnetwork.com/game/v/28157/">#3
	</a>\n\n</BODY>\n</HTML>
STATUS:CONFIRMED
CLASS:PUBLIC
URL:https://www.golnetwork.com/game/v/28157/
X-MICROSOFT-CDO-BUSYSTATUS:BUSY
X-MICROSOFT-CDO-IMPORTANCE:1
END:VEVENT
END:VCALENDAR
