BEGIN:VCALENDAR
PRODID:-//gdesolutions.com//MV Framework 1.0.0.1607 Calendar//EN
VERSION:2.0
METHOD:PUBLISH
CALSCALE:GREGORIAN
BEGIN:VEVENT
UID:g55gm@games.golnetwork.com
LOCATION:CVM - Court #1
GEO:45.5146585;-73.5658635
CREATED:20140427T225119Z
DTSTART:20140918T013000Z
DTEND:20140918T023000Z
DTSTAMP:20260425T182519Z
SUMMARY:UNTOUCHABLE vs. KRAZEURS
DESCRIPTION:KRAZEURS vs. UNTOUCHABLEMore info: #421
X-ALT-DESC;FMTTYPE=text/html:<!DOCTYPE HTML PUBLIC "-//W3C//DTD HTML 3.2//E
	N">\n<HTML>\n<HEAD>\n<TITLE></TITLE>\n</HEAD>\n<BODY>\n<h3>KRAZEURS vs. UNT
	OUCHABLE</h3>More info: <a href="https://www.golnetwork.com/game/v/50258/">
	#421</a>\n\n</BODY>\n</HTML>
STATUS:CONFIRMED
CLASS:PUBLIC
URL:https://www.golnetwork.com/game/v/50258/
X-MICROSOFT-CDO-BUSYSTATUS:BUSY
X-MICROSOFT-CDO-IMPORTANCE:1
END:VEVENT
BEGIN:VEVENT
UID:g55gk@games.golnetwork.com
LOCATION:CVM - Court #1
GEO:45.5146585;-73.5658635
CREATED:20140427T225119Z
DTSTART:20140911T011500Z
DTEND:20140911T021500Z
DTSTAMP:20260425T182519Z
SUMMARY:UNTOUCHABLE vs. POULIN
DESCRIPTION:POULIN vs. UNTOUCHABLEMore info: #414
X-ALT-DESC;FMTTYPE=text/html:<!DOCTYPE HTML PUBLIC "-//W3C//DTD HTML 3.2//E
	N">\n<HTML>\n<HEAD>\n<TITLE></TITLE>\n</HEAD>\n<BODY>\n<h3>POULIN vs. UNTOU
	CHABLE</h3>More info: <a href="https://www.golnetwork.com/game/v/50257/">#4
	14</a>\n\n</BODY>\n</HTML>
STATUS:CONFIRMED
CLASS:PUBLIC
URL:https://www.golnetwork.com/game/v/50257/
X-MICROSOFT-CDO-BUSYSTATUS:BUSY
X-MICROSOFT-CDO-IMPORTANCE:1
END:VEVENT
BEGIN:VEVENT
UID:g55gg@games.golnetwork.com
LOCATION:CVM - Court #1
GEO:45.5146585;-73.5658635
CREATED:20140427T225119Z
DTSTART:20140904T013000Z
DTEND:20140904T023000Z
DTSTAMP:20260425T182519Z
SUMMARY:FLIGHT 416 vs. UNTOUCHABLE
DESCRIPTION:UNTOUCHABLE vs. FLIGHT 416More info: #400
X-ALT-DESC;FMTTYPE=text/html:<!DOCTYPE HTML PUBLIC "-//W3C//DTD HTML 3.2//E
	N">\n<HTML>\n<HEAD>\n<TITLE></TITLE>\n</HEAD>\n<BODY>\n<h3>UNTOUCHABLE vs. 
	FLIGHT 416</h3>More info: <a href="https://www.golnetwork.com/game/v/50255/
	">#400</a>\n\n</BODY>\n</HTML>
STATUS:CONFIRMED
CLASS:PUBLIC
URL:https://www.golnetwork.com/game/v/50255/
X-MICROSOFT-CDO-BUSYSTATUS:BUSY
X-MICROSOFT-CDO-IMPORTANCE:1
END:VEVENT
END:VCALENDAR
