BEGIN:VCALENDAR
PRODID:-//gdesolutions.com//MV Framework 1.0.0.1607 Calendar//EN
VERSION:2.0
METHOD:PUBLISH
CALSCALE:GREGORIAN
BEGIN:VEVENT
UID:g70n6@games.golnetwork.com
LOCATION:CVM - Court #1
GEO:45.5146585;-73.5658635
CREATED:20150424T020732Z
DTSTART:20150917T000000Z
DTEND:20150917T010000Z
DTSTAMP:20260422T160904Z
SUMMARY:UNTOUCHABLE vs. DIAMOND BALLERS
DESCRIPTION:DIAMOND BALLERS vs. UNTOUCHABLEMore info: #487
X-ALT-DESC;FMTTYPE=text/html:<!DOCTYPE HTML PUBLIC "-//W3C//DTD HTML 3.2//E
	N">\n<HTML>\n<HEAD>\n<TITLE></TITLE>\n</HEAD>\n<BODY>\n<h3>DIAMOND BALLERS 
	vs. UNTOUCHABLE</h3>More info: <a href="https://www.golnetwork.com/game/v/6
	8205/">#487</a>\n\n</BODY>\n</HTML>
STATUS:CONFIRMED
CLASS:PUBLIC
URL:https://www.golnetwork.com/game/v/68205/
X-MICROSOFT-CDO-BUSYSTATUS:BUSY
X-MICROSOFT-CDO-IMPORTANCE:1
END:VEVENT
BEGIN:VEVENT
UID:g70n4@games.golnetwork.com
LOCATION:CVM - Court #1
GEO:45.5146585;-73.5658635
CREATED:20150424T020732Z
DTSTART:20150901T013000Z
DTEND:20150901T023000Z
DTSTAMP:20260422T160904Z
SUMMARY:KRAZEURS vs. UNTOUCHABLE
DESCRIPTION:UNTOUCHABLE vs. KRAZEURSMore info: #455
X-ALT-DESC;FMTTYPE=text/html:<!DOCTYPE HTML PUBLIC "-//W3C//DTD HTML 3.2//E
	N">\n<HTML>\n<HEAD>\n<TITLE></TITLE>\n</HEAD>\n<BODY>\n<h3>UNTOUCHABLE vs. 
	KRAZEURS</h3>More info: <a href="https://www.golnetwork.com/game/v/68204/">
	#455</a>\n\n</BODY>\n</HTML>
STATUS:CONFIRMED
CLASS:PUBLIC
URL:https://www.golnetwork.com/game/v/68204/
X-MICROSOFT-CDO-BUSYSTATUS:BUSY
X-MICROSOFT-CDO-IMPORTANCE:1
END:VEVENT
END:VCALENDAR
