BEGIN:VCALENDAR
PRODID:-//gdesolutions.com//MV Framework 1.0.0.1607 Calendar//EN
VERSION:2.0
METHOD:PUBLISH
CALSCALE:GREGORIAN
BEGIN:VEVENT
UID:g8igk@games.golnetwork.com
LOCATION:Monarch Park Stadium - Field 3
GEO:43.6792789;-79.3234873
CREATED:20160304T175902Z
DTSTART:20160415T030000Z
DTEND:20160415T040000Z
DTSTAMP:20260420T004624Z
SUMMARY:Not Sure Yet vs.  FC Bosch
DESCRIPTION: FC Bosch vs. Not Sure YetMore info: #587
X-ALT-DESC;FMTTYPE=text/html:<!DOCTYPE HTML PUBLIC "-//W3C//DTD HTML 3.2//E
	N">\n<HTML>\n<HEAD>\n<TITLE></TITLE>\n</HEAD>\n<BODY>\n<h3> FC Bosch vs. No
	t Sure Yet</h3>More info: <a href="https://www.golnetwork.com/game/v/84520/
	">#587</a>\n\n</BODY>\n</HTML>
STATUS:CONFIRMED
CLASS:PUBLIC
URL:https://www.golnetwork.com/game/v/84520/
X-MICROSOFT-CDO-BUSYSTATUS:BUSY
X-MICROSOFT-CDO-IMPORTANCE:1
END:VEVENT
BEGIN:VEVENT
UID:g8hjq@games.golnetwork.com
LOCATION:Monarch Park Stadium - Field 3
GEO:43.6792789;-79.3234873
CREATED:20160229T170148Z
DTSTART:20160408T000000Z
DTEND:20160408T010000Z
DTSTAMP:20260420T004624Z
SUMMARY:XTSC Titans vs. Not Sure Yet
DESCRIPTION:Not Sure Yet vs. XTSC TitansMore info: #545
X-ALT-DESC;FMTTYPE=text/html:<!DOCTYPE HTML PUBLIC "-//W3C//DTD HTML 3.2//E
	N">\n<HTML>\n<HEAD>\n<TITLE></TITLE>\n</HEAD>\n<BODY>\n<h3>Not Sure Yet vs.
	 XTSC Titans</h3>More info: <a href="https://www.golnetwork.com/game/v/8419
	9/">#545</a>\n\n</BODY>\n</HTML>
STATUS:CONFIRMED
CLASS:PUBLIC
URL:https://www.golnetwork.com/game/v/84199/
X-MICROSOFT-CDO-BUSYSTATUS:BUSY
X-MICROSOFT-CDO-IMPORTANCE:1
END:VEVENT
BEGIN:VEVENT
UID:g8hjm@games.golnetwork.com
LOCATION:Monarch Park Stadium - Field 3
GEO:43.6792789;-79.3234873
CREATED:20160229T170124Z
DTSTART:20160401T010000Z
DTEND:20160401T020000Z
DTSTAMP:20260420T004624Z
SUMMARY:Not Sure Yet vs. Medcan FC
DESCRIPTION:Medcan FC vs. Not Sure YetMore info: #498
X-ALT-DESC;FMTTYPE=text/html:<!DOCTYPE HTML PUBLIC "-//W3C//DTD HTML 3.2//E
	N">\n<HTML>\n<HEAD>\n<TITLE></TITLE>\n</HEAD>\n<BODY>\n<h3>Medcan FC vs. No
	t Sure Yet</h3>More info: <a href="https://www.golnetwork.com/game/v/84197/
	">#498</a>\n\n</BODY>\n</HTML>
STATUS:CONFIRMED
CLASS:PUBLIC
URL:https://www.golnetwork.com/game/v/84197/
X-MICROSOFT-CDO-BUSYSTATUS:BUSY
X-MICROSOFT-CDO-IMPORTANCE:1
END:VEVENT
BEGIN:VEVENT
UID:g8hjg@games.golnetwork.com
LOCATION:Monarch Park Stadium - Field 3
GEO:43.6792789;-79.3234873
CREATED:20160229T170047Z
DTSTART:20160325T020000Z
DTEND:20160325T030000Z
DTSTAMP:20260420T004624Z
SUMMARY:Not Sure Yet vs. SAS
DESCRIPTION:SAS vs. Not Sure YetMore info: #476
X-ALT-DESC;FMTTYPE=text/html:<!DOCTYPE HTML PUBLIC "-//W3C//DTD HTML 3.2//E
	N">\n<HTML>\n<HEAD>\n<TITLE></TITLE>\n</HEAD>\n<BODY>\n<h3>SAS vs. Not Sure
	 Yet</h3>More info: <a href="https://www.golnetwork.com/game/v/84194/">#476
	</a>\n\n</BODY>\n</HTML>
STATUS:CONFIRMED
CLASS:PUBLIC
URL:https://www.golnetwork.com/game/v/84194/
X-MICROSOFT-CDO-BUSYSTATUS:BUSY
X-MICROSOFT-CDO-IMPORTANCE:1
END:VEVENT
BEGIN:VEVENT
UID:g8igc@games.golnetwork.com
LOCATION:Monarch Park Stadium - Field 3
GEO:43.6792789;-79.3234873
CREATED:20160304T175846Z
DTSTART:20160318T010000Z
DTEND:20160318T020000Z
DTSTAMP:20260420T004624Z
SUMMARY: FC Bosch vs. Not Sure Yet
DESCRIPTION:Not Sure Yet vs.  FC BoschMore info: #427
X-ALT-DESC;FMTTYPE=text/html:<!DOCTYPE HTML PUBLIC "-//W3C//DTD HTML 3.2//E
	N">\n<HTML>\n<HEAD>\n<TITLE></TITLE>\n</HEAD>\n<BODY>\n<h3>Not Sure Yet vs.
	  FC Bosch</h3>More info: <a href="https://www.golnetwork.com/game/v/84516/
	">#427</a>\n\n</BODY>\n</HTML>
STATUS:CONFIRMED
CLASS:PUBLIC
URL:https://www.golnetwork.com/game/v/84516/
X-MICROSOFT-CDO-BUSYSTATUS:BUSY
X-MICROSOFT-CDO-IMPORTANCE:1
END:VEVENT
BEGIN:VEVENT
UID:g8hj6@games.golnetwork.com
LOCATION:Monarch Park Stadium - Field 3
GEO:43.6792789;-79.3234873
CREATED:20160229T165938Z
DTSTART:20160318T000000Z
DTEND:20160318T010000Z
DTSTAMP:20260420T004624Z
SUMMARY:Drinkalots FC vs. Not Sure Yet
DESCRIPTION:Not Sure Yet vs. Drinkalots FCMore info: #426
X-ALT-DESC;FMTTYPE=text/html:<!DOCTYPE HTML PUBLIC "-//W3C//DTD HTML 3.2//E
	N">\n<HTML>\n<HEAD>\n<TITLE></TITLE>\n</HEAD>\n<BODY>\n<h3>Not Sure Yet vs.
	 Drinkalots FC</h3>More info: <a href="https://www.golnetwork.com/game/v/84
	189/">#426</a>\n\n</BODY>\n</HTML>
STATUS:CONFIRMED
CLASS:PUBLIC
URL:https://www.golnetwork.com/game/v/84189/
X-MICROSOFT-CDO-BUSYSTATUS:BUSY
X-MICROSOFT-CDO-IMPORTANCE:1
END:VEVENT
BEGIN:VEVENT
UID:g8iga@games.golnetwork.com
LOCATION:Monarch Park Stadium - Field 3
GEO:43.6792789;-79.3234873
CREATED:20160304T175840Z
DTSTART:20160311T040000Z
DTEND:20160311T050000Z
DTSTAMP:20260420T004624Z
SUMMARY:Head Trauma vs. Not Sure Yet
DESCRIPTION:Not Sure Yet vs. Head TraumaMore info: #382
X-ALT-DESC;FMTTYPE=text/html:<!DOCTYPE HTML PUBLIC "-//W3C//DTD HTML 3.2//E
	N">\n<HTML>\n<HEAD>\n<TITLE></TITLE>\n</HEAD>\n<BODY>\n<h3>Not Sure Yet vs.
	 Head Trauma</h3>More info: <a href="https://www.golnetwork.com/game/v/8451
	5/">#382</a>\n\n</BODY>\n</HTML>
STATUS:CONFIRMED
CLASS:PUBLIC
URL:https://www.golnetwork.com/game/v/84515/
X-MICROSOFT-CDO-BUSYSTATUS:BUSY
X-MICROSOFT-CDO-IMPORTANCE:1
END:VEVENT
END:VCALENDAR
