BEGIN:VCALENDAR
PRODID:-//gdesolutions.com//MV Framework 1.0.0.1607 Calendar//EN
VERSION:2.0
METHOD:PUBLISH
CALSCALE:GREGORIAN
BEGIN:VEVENT
UID:gafhi@games.golnetwork.com
LOCATION:Monarch Park Stadium - Field 1
GEO:43.6792789;-79.3234873
CREATED:20170306T181615Z
DTSTART:20170413T014500Z
DTEND:20170413T024500Z
DTSTAMP:20260421T052515Z
SUMMARY:Emergency FC vs. XTSC Mosaic
DESCRIPTION:XTSC Mosaic vs. Emergency FCMore info: #235
X-ALT-DESC;FMTTYPE=text/html:<!DOCTYPE HTML PUBLIC "-//W3C//DTD HTML 3.2//E
	N">\n<HTML>\n<HEAD>\n<TITLE></TITLE>\n</HEAD>\n<BODY>\n<h3>XTSC Mosaic vs. 
	Emergency FC</h3>More info: <a href="https://www.golnetwork.com/game/v/1031
	22/">#235</a>\n\n</BODY>\n</HTML>
STATUS:CONFIRMED
CLASS:PUBLIC
URL:https://www.golnetwork.com/game/v/103122/
X-MICROSOFT-CDO-BUSYSTATUS:BUSY
X-MICROSOFT-CDO-IMPORTANCE:1
END:VEVENT
BEGIN:VEVENT
UID:gafhe@games.golnetwork.com
LOCATION:Monarch Park Stadium - Field 1
GEO:43.6792789;-79.3234873
CREATED:20170306T181554Z
DTSTART:20170406T014500Z
DTEND:20170406T024500Z
DTSTAMP:20260421T052515Z
SUMMARY:Turkey Bacon FC vs. Emergency FC
DESCRIPTION:Emergency FC vs. Turkey Bacon FCMore info: #193
X-ALT-DESC;FMTTYPE=text/html:<!DOCTYPE HTML PUBLIC "-//W3C//DTD HTML 3.2//E
	N">\n<HTML>\n<HEAD>\n<TITLE></TITLE>\n</HEAD>\n<BODY>\n<h3>Emergency FC vs.
	 Turkey Bacon FC</h3>More info: <a href="https://www.golnetwork.com/game/v/
	103120/">#193</a>\n\n</BODY>\n</HTML>
STATUS:CONFIRMED
CLASS:PUBLIC
URL:https://www.golnetwork.com/game/v/103120/
X-MICROSOFT-CDO-BUSYSTATUS:BUSY
X-MICROSOFT-CDO-IMPORTANCE:1
END:VEVENT
BEGIN:VEVENT
UID:gafha@games.golnetwork.com
LOCATION:Monarch Park Stadium - Field 1
GEO:43.6792789;-79.3234873
CREATED:20170306T181533Z
DTSTART:20170330T014500Z
DTEND:20170330T024500Z
DTSTAMP:20260421T052515Z
SUMMARY:Emergency FC vs. Les Foufounes
DESCRIPTION:Les Foufounes vs. Emergency FCMore info: #150
X-ALT-DESC;FMTTYPE=text/html:<!DOCTYPE HTML PUBLIC "-//W3C//DTD HTML 3.2//E
	N">\n<HTML>\n<HEAD>\n<TITLE></TITLE>\n</HEAD>\n<BODY>\n<h3>Les Foufounes vs
	. Emergency FC</h3>More info: <a href="https://www.golnetwork.com/game/v/10
	3118/">#150</a>\n\n</BODY>\n</HTML>
STATUS:CONFIRMED
CLASS:PUBLIC
URL:https://www.golnetwork.com/game/v/103118/
X-MICROSOFT-CDO-BUSYSTATUS:BUSY
X-MICROSOFT-CDO-IMPORTANCE:1
END:VEVENT
BEGIN:VEVENT
UID:gafh2@games.golnetwork.com
LOCATION:Monarch Park Stadium - Field 1
GEO:43.6792789;-79.3234873
CREATED:20170306T181446Z
DTSTART:20170323T003000Z
DTEND:20170323T013000Z
DTSTAMP:20260421T052515Z
SUMMARY:XTSC Mosaic vs. Emergency FC
DESCRIPTION:Emergency FC vs. XTSC MosaicMore info: #103
X-ALT-DESC;FMTTYPE=text/html:<!DOCTYPE HTML PUBLIC "-//W3C//DTD HTML 3.2//E
	N">\n<HTML>\n<HEAD>\n<TITLE></TITLE>\n</HEAD>\n<BODY>\n<h3>Emergency FC vs.
	 XTSC Mosaic</h3>More info: <a href="https://www.golnetwork.com/game/v/1031
	14/">#103</a>\n\n</BODY>\n</HTML>
STATUS:CONFIRMED
CLASS:PUBLIC
URL:https://www.golnetwork.com/game/v/103114/
X-MICROSOFT-CDO-BUSYSTATUS:BUSY
X-MICROSOFT-CDO-IMPORTANCE:1
END:VEVENT
BEGIN:VEVENT
UID:gafgp@games.golnetwork.com
LOCATION:Monarch Park Stadium - Field 1
GEO:43.6792789;-79.3234873
CREATED:20170306T181428Z
DTSTART:20170316T013000Z
DTEND:20170316T023000Z
DTSTAMP:20260421T052515Z
SUMMARY:Emergency FC vs. Turkey Bacon FC
DESCRIPTION:Turkey Bacon FC vs. Emergency FCMore info: #62
X-ALT-DESC;FMTTYPE=text/html:<!DOCTYPE HTML PUBLIC "-//W3C//DTD HTML 3.2//E
	N">\n<HTML>\n<HEAD>\n<TITLE></TITLE>\n</HEAD>\n<BODY>\n<h3>Turkey Bacon FC 
	vs. Emergency FC</h3>More info: <a href="https://www.golnetwork.com/game/v/
	103112/">#62</a>\n\n</BODY>\n</HTML>
STATUS:CONFIRMED
CLASS:PUBLIC
URL:https://www.golnetwork.com/game/v/103112/
X-MICROSOFT-CDO-BUSYSTATUS:BUSY
X-MICROSOFT-CDO-IMPORTANCE:1
END:VEVENT
BEGIN:VEVENT
UID:gafgn@games.golnetwork.com
LOCATION:Monarch Park Stadium - Field 1
GEO:43.6792789;-79.3234873
CREATED:20170306T181420Z
DTSTART:20170316T003000Z
DTEND:20170316T013000Z
DTSTAMP:20260421T052515Z
SUMMARY:Emergency FC vs. Les Foufounes
DESCRIPTION:Les Foufounes vs. Emergency FCMore info: #60
X-ALT-DESC;FMTTYPE=text/html:<!DOCTYPE HTML PUBLIC "-//W3C//DTD HTML 3.2//E
	N">\n<HTML>\n<HEAD>\n<TITLE></TITLE>\n</HEAD>\n<BODY>\n<h3>Les Foufounes vs
	. Emergency FC</h3>More info: <a href="https://www.golnetwork.com/game/v/10
	3111/">#60</a>\n\n</BODY>\n</HTML>
STATUS:CONFIRMED
CLASS:PUBLIC
URL:https://www.golnetwork.com/game/v/103111/
X-MICROSOFT-CDO-BUSYSTATUS:BUSY
X-MICROSOFT-CDO-IMPORTANCE:1
END:VEVENT
BEGIN:VEVENT
UID:gafgl@games.golnetwork.com
LOCATION:Monarch Park Stadium - Field 1
GEO:43.6792789;-79.3234873
CREATED:20170306T181408Z
DTSTART:20170309T024500Z
DTEND:20170309T034500Z
DTSTAMP:20260421T052515Z
SUMMARY:Emergency FC vs. XTSC Mosaic
DESCRIPTION:XTSC Mosaic vs. Emergency FCMore info: #24
X-ALT-DESC;FMTTYPE=text/html:<!DOCTYPE HTML PUBLIC "-//W3C//DTD HTML 3.2//E
	N">\n<HTML>\n<HEAD>\n<TITLE></TITLE>\n</HEAD>\n<BODY>\n<h3>XTSC Mosaic vs. 
	Emergency FC</h3>More info: <a href="https://www.golnetwork.com/game/v/1031
	10/">#24</a>\n\n</BODY>\n</HTML>
STATUS:CONFIRMED
CLASS:PUBLIC
URL:https://www.golnetwork.com/game/v/103110/
X-MICROSOFT-CDO-BUSYSTATUS:BUSY
X-MICROSOFT-CDO-IMPORTANCE:1
END:VEVENT
END:VCALENDAR
