BEGIN:VCALENDAR
PRODID:-//gdesolutions.com//MV Framework 1.0.0.1607 Calendar//EN
VERSION:2.0
METHOD:PUBLISH
CALSCALE:GREGORIAN
BEGIN:VEVENT
UID:g7dea@games.golnetwork.com
LOCATION:Lamport Stadium - Field 2
GEO:43.6390028;-79.4232104
CREATED:20150713T151431Z
DTSTART:20151005T020000Z
DTEND:20151005T030000Z
DTSTAMP:20260419T214730Z
SUMMARY:Moocho GrassyAss FC vs. Team Nice Friends
DESCRIPTION:Team Nice Friends vs. Moocho GrassyAss FCMore info: #492
X-ALT-DESC;FMTTYPE=text/html:<!DOCTYPE HTML PUBLIC "-//W3C//DTD HTML 3.2//E
	N">\n<HTML>\n<HEAD>\n<TITLE></TITLE>\n</HEAD>\n<BODY>\n<h3>Team Nice Friend
	s vs. Moocho GrassyAss FC</h3>More info: <a href="https://www.golnetwork.co
	m/game/v/72824/">#492</a>\n\n</BODY>\n</HTML>
STATUS:CONFIRMED
CLASS:PUBLIC
URL:https://www.golnetwork.com/game/v/72824/
X-MICROSOFT-CDO-BUSYSTATUS:BUSY
X-MICROSOFT-CDO-IMPORTANCE:1
END:VEVENT
BEGIN:VEVENT
UID:g7ddh@games.golnetwork.com
LOCATION:Lamport Stadium - Field 3
GEO:43.6390028;-79.4232104
CREATED:20150713T151431Z
DTSTART:20150920T230000Z
DTEND:20150921T000000Z
DTSTAMP:20260419T214730Z
SUMMARY:Team Nice Friends vs. Moocho GrassyAss FC
DESCRIPTION:Moocho GrassyAss FC vs. Team Nice FriendsMore info: #447
X-ALT-DESC;FMTTYPE=text/html:<!DOCTYPE HTML PUBLIC "-//W3C//DTD HTML 3.2//E
	N">\n<HTML>\n<HEAD>\n<TITLE></TITLE>\n</HEAD>\n<BODY>\n<h3>Moocho GrassyAss
	 FC vs. Team Nice Friends</h3>More info: <a href="https://www.golnetwork.co
	m/game/v/72814/">#447</a>\n\n</BODY>\n</HTML>
STATUS:CONFIRMED
CLASS:PUBLIC
URL:https://www.golnetwork.com/game/v/72814/
X-MICROSOFT-CDO-BUSYSTATUS:BUSY
X-MICROSOFT-CDO-IMPORTANCE:1
END:VEVENT
BEGIN:VEVENT
UID:g7dd9@games.golnetwork.com
LOCATION:Lamport Stadium - Field 3
GEO:43.6390028;-79.4232104
CREATED:20150713T151431Z
DTSTART:20150914T010000Z
DTEND:20150914T020000Z
DTSTAMP:20260419T214730Z
SUMMARY:Tree FC vs. Team Nice Friends
DESCRIPTION:Team Nice Friends vs. Tree FCMore info: #428
X-ALT-DESC;FMTTYPE=text/html:<!DOCTYPE HTML PUBLIC "-//W3C//DTD HTML 3.2//E
	N">\n<HTML>\n<HEAD>\n<TITLE></TITLE>\n</HEAD>\n<BODY>\n<h3>Team Nice Friend
	s vs. Tree FC</h3>More info: <a href="https://www.golnetwork.com/game/v/728
	10/">#428</a>\n\n</BODY>\n</HTML>
STATUS:CONFIRMED
CLASS:PUBLIC
URL:https://www.golnetwork.com/game/v/72810/
X-MICROSOFT-CDO-BUSYSTATUS:BUSY
X-MICROSOFT-CDO-IMPORTANCE:1
END:VEVENT
BEGIN:VEVENT
UID:g7dd5@games.golnetwork.com
LOCATION:Lamport Stadium - Field 2
GEO:43.6390028;-79.4232104
CREATED:20150713T151431Z
DTSTART:20150831T020000Z
DTEND:20150831T030000Z
DTSTAMP:20260419T214730Z
SUMMARY:XTSC Internationals vs. Team Nice Friends
DESCRIPTION:Team Nice Friends vs. XTSC InternationalsMore info: #366
X-ALT-DESC;FMTTYPE=text/html:<!DOCTYPE HTML PUBLIC "-//W3C//DTD HTML 3.2//E
	N">\n<HTML>\n<HEAD>\n<TITLE></TITLE>\n</HEAD>\n<BODY>\n<h3>Team Nice Friend
	s vs. XTSC Internationals</h3>More info: <a href="https://www.golnetwork.co
	m/game/v/72808/">#366</a>\n\n</BODY>\n</HTML>
STATUS:CONFIRMED
CLASS:PUBLIC
URL:https://www.golnetwork.com/game/v/72808/
X-MICROSOFT-CDO-BUSYSTATUS:BUSY
X-MICROSOFT-CDO-IMPORTANCE:1
END:VEVENT
BEGIN:VEVENT
UID:g7dcm@games.golnetwork.com
LOCATION:Lamport Stadium - Field 3
GEO:43.6390028;-79.4232104
CREATED:20150713T151431Z
DTSTART:20150824T000000Z
DTEND:20150824T010000Z
DTSTAMP:20260419T214730Z
SUMMARY:FreshBooks FC vs. Team Nice Friends
DESCRIPTION:Team Nice Friends vs. FreshBooks FCMore info: #313
X-ALT-DESC;FMTTYPE=text/html:<!DOCTYPE HTML PUBLIC "-//W3C//DTD HTML 3.2//E
	N">\n<HTML>\n<HEAD>\n<TITLE></TITLE>\n</HEAD>\n<BODY>\n<h3>Team Nice Friend
	s vs. FreshBooks FC</h3>More info: <a href="https://www.golnetwork.com/game
	/v/72803/">#313</a>\n\n</BODY>\n</HTML>
STATUS:CONFIRMED
CLASS:PUBLIC
URL:https://www.golnetwork.com/game/v/72803/
X-MICROSOFT-CDO-BUSYSTATUS:BUSY
X-MICROSOFT-CDO-IMPORTANCE:1
END:VEVENT
BEGIN:VEVENT
UID:g7dcc@games.golnetwork.com
LOCATION:Lamport Stadium - Field 3
GEO:43.6390028;-79.4232104
CREATED:20150713T151431Z
DTSTART:20150816T210000Z
DTEND:20150816T220000Z
DTSTAMP:20260419T214730Z
SUMMARY:Loose Cannons vs. Team Nice Friends
DESCRIPTION:Team Nice Friends vs. Loose CannonsMore info: #248
X-ALT-DESC;FMTTYPE=text/html:<!DOCTYPE HTML PUBLIC "-//W3C//DTD HTML 3.2//E
	N">\n<HTML>\n<HEAD>\n<TITLE></TITLE>\n</HEAD>\n<BODY>\n<h3>Team Nice Friend
	s vs. Loose Cannons</h3>More info: <a href="https://www.golnetwork.com/game
	/v/72798/">#248</a>\n\n</BODY>\n</HTML>
STATUS:CONFIRMED
CLASS:PUBLIC
URL:https://www.golnetwork.com/game/v/72798/
X-MICROSOFT-CDO-BUSYSTATUS:BUSY
X-MICROSOFT-CDO-IMPORTANCE:1
END:VEVENT
BEGIN:VEVENT
UID:g7dc2@games.golnetwork.com
LOCATION:Lamport Stadium - Field 3
GEO:43.6390028;-79.4232104
CREATED:20150713T151431Z
DTSTART:20150809T210000Z
DTEND:20150809T220000Z
DTSTAMP:20260419T214730Z
SUMMARY:Team Nice Friends vs. Victorious Secret
DESCRIPTION:Victorious Secret vs. Team Nice FriendsMore info: #193
X-ALT-DESC;FMTTYPE=text/html:<!DOCTYPE HTML PUBLIC "-//W3C//DTD HTML 3.2//E
	N">\n<HTML>\n<HEAD>\n<TITLE></TITLE>\n</HEAD>\n<BODY>\n<h3>Victorious Secre
	t vs. Team Nice Friends</h3>More info: <a href="https://www.golnetwork.com/
	game/v/72793/">#193</a>\n\n</BODY>\n</HTML>
STATUS:CONFIRMED
CLASS:PUBLIC
URL:https://www.golnetwork.com/game/v/72793/
X-MICROSOFT-CDO-BUSYSTATUS:BUSY
X-MICROSOFT-CDO-IMPORTANCE:1
END:VEVENT
BEGIN:VEVENT
UID:g7dc0@games.golnetwork.com
LOCATION:Lamport Stadium - Field 2
GEO:43.6390028;-79.4232104
CREATED:20150713T151431Z
DTSTART:20150720T020000Z
DTEND:20150720T030000Z
DTSTAMP:20260419T214730Z
SUMMARY:Team Nice Friends vs. Bradley Bunch
DESCRIPTION:Bradley Bunch vs. Team Nice FriendsMore info: #83
X-ALT-DESC;FMTTYPE=text/html:<!DOCTYPE HTML PUBLIC "-//W3C//DTD HTML 3.2//E
	N">\n<HTML>\n<HEAD>\n<TITLE></TITLE>\n</HEAD>\n<BODY>\n<h3>Bradley Bunch vs
	. Team Nice Friends</h3>More info: <a href="https://www.golnetwork.com/game
	/v/72792/">#83</a>\n\n</BODY>\n</HTML>
STATUS:CONFIRMED
CLASS:PUBLIC
URL:https://www.golnetwork.com/game/v/72792/
X-MICROSOFT-CDO-BUSYSTATUS:BUSY
X-MICROSOFT-CDO-IMPORTANCE:1
END:VEVENT
END:VCALENDAR
