BEGIN:VCALENDAR
PRODID:-//gdesolutions.com//MV Framework 1.0.0.1607 Calendar//EN
VERSION:2.0
METHOD:PUBLISH
CALSCALE:GREGORIAN
BEGIN:VEVENT
UID:g7mb6@games.golnetwork.com
LOCATION:Rosedale Heights Gym
GEO:43.6738937;-79.3663287
CREATED:20150922T143048Z
DTSTART:20151124T020000Z
DTEND:20151124T030000Z
DTSTAMP:20260421T072521Z
SUMMARY:AAFC vs. #SQUADGOALS
DESCRIPTION:#SQUADGOALS vs. AAFCMore info: #112
X-ALT-DESC;FMTTYPE=text/html:<!DOCTYPE HTML PUBLIC "-//W3C//DTD HTML 3.2//E
	N">\n<HTML>\n<HEAD>\n<TITLE></TITLE>\n</HEAD>\n<BODY>\n<h3>#SQUADGOALS vs. 
	AAFC</h3>More info: <a href="https://www.golnetwork.com/game/v/76062/">#112
	</a>\n\n</BODY>\n</HTML>
STATUS:CONFIRMED
CLASS:PUBLIC
URL:https://www.golnetwork.com/game/v/76062/
X-MICROSOFT-CDO-BUSYSTATUS:BUSY
X-MICROSOFT-CDO-IMPORTANCE:1
END:VEVENT
BEGIN:VEVENT
UID:g7mb0@games.golnetwork.com
LOCATION:Rosedale Heights Gym
GEO:43.6738937;-79.3663287
CREATED:20150922T143048Z
DTSTART:20151116T230000Z
DTEND:20151117T000000Z
DTSTAMP:20260421T072521Z
SUMMARY:AAFC vs. Lazy Pandas
DESCRIPTION:Lazy Pandas vs. AAFCMore info: #91
X-ALT-DESC;FMTTYPE=text/html:<!DOCTYPE HTML PUBLIC "-//W3C//DTD HTML 3.2//E
	N">\n<HTML>\n<HEAD>\n<TITLE></TITLE>\n</HEAD>\n<BODY>\n<h3>Lazy Pandas vs. 
	AAFC</h3>More info: <a href="https://www.golnetwork.com/game/v/76059/">#91<
	/a>\n\n</BODY>\n</HTML>
STATUS:CONFIRMED
CLASS:PUBLIC
URL:https://www.golnetwork.com/game/v/76059/
X-MICROSOFT-CDO-BUSYSTATUS:BUSY
X-MICROSOFT-CDO-IMPORTANCE:1
END:VEVENT
BEGIN:VEVENT
UID:g7maf@games.golnetwork.com
LOCATION:Rosedale Heights Gym
GEO:43.6738937;-79.3663287
CREATED:20150922T143047Z
DTSTART:20151110T000000Z
DTEND:20151110T010000Z
DTSTAMP:20260421T072521Z
SUMMARY:Anti-Oppressors vs. AAFC
DESCRIPTION:AAFC vs. Anti-OppressorsMore info: #71
X-ALT-DESC;FMTTYPE=text/html:<!DOCTYPE HTML PUBLIC "-//W3C//DTD HTML 3.2//E
	N">\n<HTML>\n<HEAD>\n<TITLE></TITLE>\n</HEAD>\n<BODY>\n<h3>AAFC vs. Anti-Op
	pressors</h3>More info: <a href="https://www.golnetwork.com/game/v/76053/">
	#71</a>\n\n</BODY>\n</HTML>
STATUS:CONFIRMED
CLASS:PUBLIC
URL:https://www.golnetwork.com/game/v/76053/
X-MICROSOFT-CDO-BUSYSTATUS:BUSY
X-MICROSOFT-CDO-IMPORTANCE:1
END:VEVENT
BEGIN:VEVENT
UID:g7ma5@games.golnetwork.com
LOCATION:Rosedale Heights Gym
GEO:43.6738937;-79.3663287
CREATED:20150922T143047Z
DTSTART:20151103T010000Z
DTEND:20151103T020000Z
DTSTAMP:20260421T072521Z
SUMMARY:AAFC vs. Creme de la Creme
DESCRIPTION:Creme de la Creme vs. AAFCMore info: #51
X-ALT-DESC;FMTTYPE=text/html:<!DOCTYPE HTML PUBLIC "-//W3C//DTD HTML 3.2//E
	N">\n<HTML>\n<HEAD>\n<TITLE></TITLE>\n</HEAD>\n<BODY>\n<h3>Creme de la Crem
	e vs. AAFC</h3>More info: <a href="https://www.golnetwork.com/game/v/76048/
	">#51</a>\n\n</BODY>\n</HTML>
STATUS:CONFIRMED
CLASS:PUBLIC
URL:https://www.golnetwork.com/game/v/76048/
X-MICROSOFT-CDO-BUSYSTATUS:BUSY
X-MICROSOFT-CDO-IMPORTANCE:1
END:VEVENT
BEGIN:VEVENT
UID:g7m9q@games.golnetwork.com
LOCATION:Rosedale Heights Gym
GEO:43.6738937;-79.3663287
CREATED:20150922T143047Z
DTSTART:20151026T230000Z
DTEND:20151027T000000Z
DTSTAMP:20260421T072521Z
SUMMARY:AAFC vs. XTSC Ball Busters 
DESCRIPTION:XTSC Ball Busters  vs. AAFCMore info: #30
X-ALT-DESC;FMTTYPE=text/html:<!DOCTYPE HTML PUBLIC "-//W3C//DTD HTML 3.2//E
	N">\n<HTML>\n<HEAD>\n<TITLE></TITLE>\n</HEAD>\n<BODY>\n<h3>XTSC Ball Buster
	s  vs. AAFC</h3>More info: <a href="https://www.golnetwork.com/game/v/76045
	/">#30</a>\n\n</BODY>\n</HTML>
STATUS:CONFIRMED
CLASS:PUBLIC
URL:https://www.golnetwork.com/game/v/76045/
X-MICROSOFT-CDO-BUSYSTATUS:BUSY
X-MICROSOFT-CDO-IMPORTANCE:1
END:VEVENT
BEGIN:VEVENT
UID:g7m9k@games.golnetwork.com
LOCATION:Rosedale Heights Gym
GEO:43.6738937;-79.3663287
CREATED:20150922T143047Z
DTSTART:20151020T000000Z
DTEND:20151020T010000Z
DTSTAMP:20260421T072521Z
SUMMARY:AAFC vs. Let's Just Have Some Fun (White)
DESCRIPTION:Let's Just Have Some Fun (White) vs. AAFCMore info: #22
X-ALT-DESC;FMTTYPE=text/html:<!DOCTYPE HTML PUBLIC "-//W3C//DTD HTML 3.2//E
	N">\n<HTML>\n<HEAD>\n<TITLE></TITLE>\n</HEAD>\n<BODY>\n<h3>Let's Just Have 
	Some Fun (White) vs. AAFC</h3>More info: <a href="https://www.golnetwork.co
	m/game/v/76042/">#22</a>\n\n</BODY>\n</HTML>
STATUS:CONFIRMED
CLASS:PUBLIC
URL:https://www.golnetwork.com/game/v/76042/
X-MICROSOFT-CDO-BUSYSTATUS:BUSY
X-MICROSOFT-CDO-IMPORTANCE:1
END:VEVENT
BEGIN:VEVENT
UID:g7m9e@games.golnetwork.com
LOCATION:Rosedale Heights Gym
GEO:43.6738937;-79.3663287
CREATED:20150922T143047Z
DTSTART:20151005T220000Z
DTEND:20151005T230000Z
DTSTAMP:20260421T072521Z
SUMMARY:#SQUADGOALS vs. AAFC
DESCRIPTION:AAFC vs. #SQUADGOALSMore info: #7
X-ALT-DESC;FMTTYPE=text/html:<!DOCTYPE HTML PUBLIC "-//W3C//DTD HTML 3.2//E
	N">\n<HTML>\n<HEAD>\n<TITLE></TITLE>\n</HEAD>\n<BODY>\n<h3>AAFC vs. #SQUADG
	OALS</h3>More info: <a href="https://www.golnetwork.com/game/v/76039/">#7</
	a>\n\n</BODY>\n</HTML>
STATUS:CONFIRMED
CLASS:PUBLIC
URL:https://www.golnetwork.com/game/v/76039/
X-MICROSOFT-CDO-BUSYSTATUS:BUSY
X-MICROSOFT-CDO-IMPORTANCE:1
END:VEVENT
BEGIN:VEVENT
UID:g7m94@games.golnetwork.com
LOCATION:Rosedale Heights Gym
GEO:43.6738937;-79.3663287
CREATED:20150922T143047Z
DTSTART:20150929T000000Z
DTEND:20150929T010000Z
DTSTAMP:20260421T072521Z
SUMMARY:Victorious Secret V5.5 vs. AAFC
DESCRIPTION:AAFC vs. Victorious Secret V5.5More info: #3
X-ALT-DESC;FMTTYPE=text/html:<!DOCTYPE HTML PUBLIC "-//W3C//DTD HTML 3.2//E
	N">\n<HTML>\n<HEAD>\n<TITLE></TITLE>\n</HEAD>\n<BODY>\n<h3>AAFC vs. Victori
	ous Secret V5.5</h3>More info: <a href="https://www.golnetwork.com/game/v/7
	6034/">#3</a>\n\n</BODY>\n</HTML>
STATUS:CONFIRMED
CLASS:PUBLIC
URL:https://www.golnetwork.com/game/v/76034/
X-MICROSOFT-CDO-BUSYSTATUS:BUSY
X-MICROSOFT-CDO-IMPORTANCE:1
END:VEVENT
END:VCALENDAR
