BEGIN:VCALENDAR
PRODID:-//gdesolutions.com//MV Framework 1.0.0.1607 Calendar//EN
VERSION:2.0
METHOD:PUBLISH
CALSCALE:GREGORIAN
BEGIN:VEVENT
UID:g7mdg@games.golnetwork.com
LOCATION:Rosedale Heights Gym
GEO:43.6738937;-79.3663287
CREATED:20150922T145106Z
DTSTART:20151208T000000Z
DTEND:20151208T010000Z
DTSTAMP:20260420T175439Z
SUMMARY:AAFC vs. Let's Just Have Some Fun (White)
DESCRIPTION:Let's Just Have Some Fun (White) vs. AAFCMore info: #146
X-ALT-DESC;FMTTYPE=text/html:<!DOCTYPE HTML PUBLIC "-//W3C//DTD HTML 3.2//E
	N">\n<HTML>\n<HEAD>\n<TITLE></TITLE>\n</HEAD>\n<BODY>\n<h3>Let's Just Have 
	Some Fun (White) vs. AAFC</h3>More info: <a href="https://www.golnetwork.co
	m/game/v/76094/">#146</a>\n\n</BODY>\n</HTML>
STATUS:CONFIRMED
CLASS:PUBLIC
URL:https://www.golnetwork.com/game/v/76094/
X-MICROSOFT-CDO-BUSYSTATUS:BUSY
X-MICROSOFT-CDO-IMPORTANCE:1
END:VEVENT
BEGIN:VEVENT
UID:g7mde@games.golnetwork.com
LOCATION:Rosedale Heights Gym
GEO:43.6738937;-79.3663287
CREATED:20150922T145106Z
DTSTART:20151201T010000Z
DTEND:20151201T020000Z
DTSTAMP:20260420T175439Z
SUMMARY:Victorious Secret V5.5 vs. AAFC
DESCRIPTION:AAFC vs. Victorious Secret V5.5More info: #129
X-ALT-DESC;FMTTYPE=text/html:<!DOCTYPE HTML PUBLIC "-//W3C//DTD HTML 3.2//E
	N">\n<HTML>\n<HEAD>\n<TITLE></TITLE>\n</HEAD>\n<BODY>\n<h3>AAFC vs. Victori
	ous Secret V5.5</h3>More info: <a href="https://www.golnetwork.com/game/v/7
	6093/">#129</a>\n\n</BODY>\n</HTML>
STATUS:CONFIRMED
CLASS:PUBLIC
URL:https://www.golnetwork.com/game/v/76093/
X-MICROSOFT-CDO-BUSYSTATUS:BUSY
X-MICROSOFT-CDO-IMPORTANCE:1
END:VEVENT
END:VCALENDAR
