BEGIN:VCALENDAR
PRODID:-//gdesolutions.com//MV Framework 1.0.0.1607 Calendar//EN
VERSION:2.0
METHOD:PUBLISH
CALSCALE:GREGORIAN
BEGIN:VEVENT
UID:g8j6h@games.golnetwork.com
LOCATION:Scarborough Metro Dome Field 1
CREATED:20160315T143530Z
DTSTART:20160509T000000Z
DTEND:20160509T010000Z
DTSTAMP:20260419T204805Z
SUMMARY:XTSC Pink Panthers vs. Sheeooters
DESCRIPTION:Sheeooters vs. XTSC Pink PanthersMore info: #43
X-ALT-DESC;FMTTYPE=text/html:<!DOCTYPE HTML PUBLIC "-//W3C//DTD HTML 3.2//E
	N">\n<HTML>\n<HEAD>\n<TITLE></TITLE>\n</HEAD>\n<BODY>\n<h3>Sheeooters vs. X
	TSC Pink Panthers</h3>More info: <a href="https://www.golnetwork.com/game/v
	/84748/">#43</a>\n\n</BODY>\n</HTML>
STATUS:CONFIRMED
CLASS:PUBLIC
URL:https://www.golnetwork.com/game/v/84748/
X-MICROSOFT-CDO-BUSYSTATUS:BUSY
X-MICROSOFT-CDO-IMPORTANCE:1
END:VEVENT
BEGIN:VEVENT
UID:g8j6f@games.golnetwork.com
LOCATION:Scarborough Metro Dome Field 1
CREATED:20160315T143530Z
DTSTART:20160502T010000Z
DTEND:20160502T020000Z
DTSTAMP:20260419T204805Z
SUMMARY:Belyy Krolic Utd vs. XTSC Pink Panthers
DESCRIPTION:XTSC Pink Panthers vs. Belyy Krolic UtdMore info: #38
X-ALT-DESC;FMTTYPE=text/html:<!DOCTYPE HTML PUBLIC "-//W3C//DTD HTML 3.2//E
	N">\n<HTML>\n<HEAD>\n<TITLE></TITLE>\n</HEAD>\n<BODY>\n<h3>XTSC Pink Panthe
	rs vs. Belyy Krolic Utd</h3>More info: <a href="https://www.golnetwork.com/
	game/v/84747/">#38</a>\n\n</BODY>\n</HTML>
STATUS:CONFIRMED
CLASS:PUBLIC
URL:https://www.golnetwork.com/game/v/84747/
X-MICROSOFT-CDO-BUSYSTATUS:BUSY
X-MICROSOFT-CDO-IMPORTANCE:1
END:VEVENT
END:VCALENDAR
