BEGIN:VCALENDAR
PRODID:-//gdesolutions.com//MV Framework 1.0.0.1607 Calendar//EN
VERSION:2.0
METHOD:PUBLISH
CALSCALE:GREGORIAN
BEGIN:VEVENT
UID:g44mm@games.golnetwork.com
LOCATION:Molson Stadium
GEO:45.10662;-94.578209
CREATED:20131020T222149Z
DTSTART:20131023T013000Z
DTEND:20131023T021400Z
DTSTAMP:20260422T194312Z
SUMMARY:Inter Miloins vs. Balls Deep
DESCRIPTION:Balls Deep vs. Inter MiloinsMore info: #185
X-ALT-DESC;FMTTYPE=text/html:<!DOCTYPE HTML PUBLIC "-//W3C//DTD HTML 3.2//E
	N">\n<HTML>\n<HEAD>\n<TITLE></TITLE>\n</HEAD>\n<BODY>\n<h3>Balls Deep vs. I
	nter Miloins</h3>More info: <a href="https://www.golnetwork.com/game/v/4013
	3/">#185</a>\n\n</BODY>\n</HTML>
STATUS:CONFIRMED
CLASS:PUBLIC
URL:https://www.golnetwork.com/game/v/40133/
X-MICROSOFT-CDO-BUSYSTATUS:BUSY
X-MICROSOFT-CDO-IMPORTANCE:1
END:VEVENT
BEGIN:VEVENT
UID:g3e0l@games.golnetwork.com
LOCATION:Forbes Field
GEO:45.10662;-94.578209
CREATED:20130912T135200Z
DTSTART:20131020T173000Z
DTEND:20131020T181400Z
DTSTAMP:20260422T194312Z
SUMMARY:Inter Miloins vs. Balls Deep
DESCRIPTION:Balls Deep vs. Inter MiloinsMore info: #177
X-ALT-DESC;FMTTYPE=text/html:<!DOCTYPE HTML PUBLIC "-//W3C//DTD HTML 3.2//E
	N">\n<HTML>\n<HEAD>\n<TITLE></TITLE>\n</HEAD>\n<BODY>\n<h3>Balls Deep vs. I
	nter Miloins</h3>More info: <a href="https://www.golnetwork.com/game/v/3363
	9/">#177</a>\n\n</BODY>\n</HTML>
STATUS:RESCHEDULED
CLASS:PUBLIC
URL:https://www.golnetwork.com/game/v/33639/
X-MICROSOFT-CDO-BUSYSTATUS:BUSY
X-MICROSOFT-CDO-IMPORTANCE:1
END:VEVENT
BEGIN:VEVENT
UID:g42q6@games.golnetwork.com
LOCATION:Forbes Field
GEO:45.10662;-94.578209
CREATED:20131018T213550Z
DTSTART:20131020T133000Z
DTEND:20131020T141400Z
DTSTAMP:20260422T194312Z
SUMMARY:Inter Miloins vs. Balls Deep
DESCRIPTION:Balls Deep vs. Inter MiloinsMore info: R#177
X-ALT-DESC;FMTTYPE=text/html:<!DOCTYPE HTML PUBLIC "-//W3C//DTD HTML 3.2//E
	N">\n<HTML>\n<HEAD>\n<TITLE></TITLE>\n</HEAD>\n<BODY>\n<h3>Balls Deep vs. I
	nter Miloins</h3>More info: <a href="https://www.golnetwork.com/game/v/3945
	0/">R#177</a>\n\n</BODY>\n</HTML>
STATUS:RESCHEDULED
CLASS:PUBLIC
URL:https://www.golnetwork.com/game/v/39450/
X-MICROSOFT-CDO-BUSYSTATUS:BUSY
X-MICROSOFT-CDO-IMPORTANCE:1
END:VEVENT
BEGIN:VEVENT
UID:g3dph@games.golnetwork.com
LOCATION:Forbes Field
GEO:45.10662;-94.578209
CREATED:20130912T135159Z
DTSTART:20131010T010000Z
DTEND:20131010T014400Z
DTSTAMP:20260422T194312Z
SUMMARY:Incrediballs vs. Inter Miloins
DESCRIPTION:Inter Miloins vs. IncrediballsMore info: #147
X-ALT-DESC;FMTTYPE=text/html:<!DOCTYPE HTML PUBLIC "-//W3C//DTD HTML 3.2//E
	N">\n<HTML>\n<HEAD>\n<TITLE></TITLE>\n</HEAD>\n<BODY>\n<h3>Inter Miloins vs
	. Incrediballs</h3>More info: <a href="https://www.golnetwork.com/game/v/33
	610/">#147</a>\n\n</BODY>\n</HTML>
STATUS:CONFIRMED
CLASS:PUBLIC
URL:https://www.golnetwork.com/game/v/33610/
X-MICROSOFT-CDO-BUSYSTATUS:BUSY
X-MICROSOFT-CDO-IMPORTANCE:1
END:VEVENT
BEGIN:VEVENT
UID:g3dko@games.golnetwork.com
LOCATION:Forbes Field
GEO:45.10662;-94.578209
CREATED:20130912T135159Z
DTSTART:20130928T153000Z
DTEND:20130928T161400Z
DTSTAMP:20260422T194312Z
SUMMARY:Inter Miloins vs. Ladies' Night
DESCRIPTION:Ladies' Night vs. Inter MiloinsMore info: #80
X-ALT-DESC;FMTTYPE=text/html:<!DOCTYPE HTML PUBLIC "-//W3C//DTD HTML 3.2//E
	N">\n<HTML>\n<HEAD>\n<TITLE></TITLE>\n</HEAD>\n<BODY>\n<h3>Ladies' Night vs
	. Inter Miloins</h3>More info: <a href="https://www.golnetwork.com/game/v/3
	3546/">#80</a>\n\n</BODY>\n</HTML>
STATUS:CONFIRMED
CLASS:PUBLIC
URL:https://www.golnetwork.com/game/v/33546/
X-MICROSOFT-CDO-BUSYSTATUS:BUSY
X-MICROSOFT-CDO-IMPORTANCE:1
END:VEVENT
BEGIN:VEVENT
UID:g3die@games.golnetwork.com
LOCATION:Forbes Field
GEO:45.10662;-94.578209
CREATED:20130912T135158Z
DTSTART:20130921T230000Z
DTEND:20130921T234400Z
DTSTAMP:20260422T194312Z
SUMMARY:Inter Miloins vs. MBA (CRD)
DESCRIPTION:MBA (CRD) vs. Inter MiloinsMore info: #45
X-ALT-DESC;FMTTYPE=text/html:<!DOCTYPE HTML PUBLIC "-//W3C//DTD HTML 3.2//E
	N">\n<HTML>\n<HEAD>\n<TITLE></TITLE>\n</HEAD>\n<BODY>\n<h3>MBA (CRD) vs. In
	ter Miloins</h3>More info: <a href="https://www.golnetwork.com/game/v/33514
	/">#45</a>\n\n</BODY>\n</HTML>
STATUS:CONFIRMED
CLASS:PUBLIC
URL:https://www.golnetwork.com/game/v/33514/
X-MICROSOFT-CDO-BUSYSTATUS:BUSY
X-MICROSOFT-CDO-IMPORTANCE:1
END:VEVENT
BEGIN:VEVENT
UID:g3dfb@games.golnetwork.com
LOCATION:Forbes Field
GEO:45.10662;-94.578209
CREATED:20130912T135156Z
DTSTART:20130914T153000Z
DTEND:20130914T161400Z
DTSTAMP:20260422T194312Z
SUMMARY:Kickers vs. Inter Miloins
DESCRIPTION:Inter Miloins vs. KickersMore info: #3
X-ALT-DESC;FMTTYPE=text/html:<!DOCTYPE HTML PUBLIC "-//W3C//DTD HTML 3.2//E
	N">\n<HTML>\n<HEAD>\n<TITLE></TITLE>\n</HEAD>\n<BODY>\n<h3>Inter Miloins vs
	. Kickers</h3>More info: <a href="https://www.golnetwork.com/game/v/33472/"
	>#3</a>\n\n</BODY>\n</HTML>
STATUS:CONFIRMED
CLASS:PUBLIC
URL:https://www.golnetwork.com/game/v/33472/
X-MICROSOFT-CDO-BUSYSTATUS:BUSY
X-MICROSOFT-CDO-IMPORTANCE:1
END:VEVENT
END:VCALENDAR
