BEGIN:VCALENDAR
PRODID:-//gdesolutions.com//MV Framework 1.0.0.1607 Calendar//EN
VERSION:2.0
METHOD:PUBLISH
CALSCALE:GREGORIAN
BEGIN:VEVENT
UID:gf9hn@games.golnetwork.com
LOCATION:CALC
GEO:43.6758748;-79.3603533
CREATED:20190919T163240Z
DTSTART:20191128T010000Z
DTEND:20191128T020000Z
DTSTAMP:20260421T005549Z
SUMMARY:Withrow Warriors vs. Spicy Baconators
DESCRIPTION:Spicy Baconators vs. Withrow WarriorsMore info: #39
X-ALT-DESC;FMTTYPE=text/html:<!DOCTYPE HTML PUBLIC "-//W3C//DTD HTML 3.2//E
	N">\n<HTML>\n<HEAD>\n<TITLE></TITLE>\n</HEAD>\n<BODY>\n<h3>Spicy Baconators
	 vs. Withrow Warriors</h3>More info: <a href="https://www.golnetwork.com/ga
	me/v/150145/">#39</a>\n\n</BODY>\n</HTML>
STATUS:CONFIRMED
CLASS:PUBLIC
URL:https://www.golnetwork.com/game/v/150145/
X-MICROSOFT-CDO-BUSYSTATUS:BUSY
X-MICROSOFT-CDO-IMPORTANCE:1
END:VEVENT
BEGIN:VEVENT
UID:gf9hh@games.golnetwork.com
LOCATION:CALC
GEO:43.6758748;-79.3603533
CREATED:20190919T163215Z
DTSTART:20191121T020000Z
DTEND:20191121T030000Z
DTSTAMP:20260421T005549Z
SUMMARY:Stonecutters vs. Spicy Baconators
DESCRIPTION:Spicy Baconators vs. StonecuttersMore info: #36
X-ALT-DESC;FMTTYPE=text/html:<!DOCTYPE HTML PUBLIC "-//W3C//DTD HTML 3.2//E
	N">\n<HTML>\n<HEAD>\n<TITLE></TITLE>\n</HEAD>\n<BODY>\n<h3>Spicy Baconators
	 vs. Stonecutters</h3>More info: <a href="https://www.golnetwork.com/game/v
	/150142/">#36</a>\n\n</BODY>\n</HTML>
STATUS:CONFIRMED
CLASS:PUBLIC
URL:https://www.golnetwork.com/game/v/150142/
X-MICROSOFT-CDO-BUSYSTATUS:BUSY
X-MICROSOFT-CDO-IMPORTANCE:1
END:VEVENT
BEGIN:VEVENT
UID:gf9h3@games.golnetwork.com
LOCATION:CALC
GEO:43.6758748;-79.3603533
CREATED:20190919T163118Z
DTSTART:20191113T230000Z
DTEND:20191114T000000Z
DTSTAMP:20260421T005549Z
SUMMARY:Spicy Baconators vs. Net\, Sticks and Chill
DESCRIPTION:Net\, Sticks and Chill vs. Spicy BaconatorsMore info: #29
X-ALT-DESC;FMTTYPE=text/html:<!DOCTYPE HTML PUBLIC "-//W3C//DTD HTML 3.2//E
	N">\n<HTML>\n<HEAD>\n<TITLE></TITLE>\n</HEAD>\n<BODY>\n<h3>Net\, Sticks and
	 Chill vs. Spicy Baconators</h3>More info: <a href="https://www.golnetwork.
	com/game/v/150135/">#29</a>\n\n</BODY>\n</HTML>
STATUS:CONFIRMED
CLASS:PUBLIC
URL:https://www.golnetwork.com/game/v/150135/
X-MICROSOFT-CDO-BUSYSTATUS:BUSY
X-MICROSOFT-CDO-IMPORTANCE:1
END:VEVENT
BEGIN:VEVENT
UID:gf9gm@games.golnetwork.com
LOCATION:CALC
GEO:43.6758748;-79.3603533
CREATED:20190919T163043Z
DTSTART:20191106T230000Z
DTEND:20191107T000000Z
DTSTAMP:20260421T005549Z
SUMMARY:Spicy Baconators vs. Cosomnauts
DESCRIPTION:Cosomnauts vs. Spicy BaconatorsMore info: #25
X-ALT-DESC;FMTTYPE=text/html:<!DOCTYPE HTML PUBLIC "-//W3C//DTD HTML 3.2//E
	N">\n<HTML>\n<HEAD>\n<TITLE></TITLE>\n</HEAD>\n<BODY>\n<h3>Cosomnauts vs. S
	picy Baconators</h3>More info: <a href="https://www.golnetwork.com/game/v/1
	50131/">#25</a>\n\n</BODY>\n</HTML>
STATUS:CONFIRMED
CLASS:PUBLIC
URL:https://www.golnetwork.com/game/v/150131/
X-MICROSOFT-CDO-BUSYSTATUS:BUSY
X-MICROSOFT-CDO-IMPORTANCE:1
END:VEVENT
BEGIN:VEVENT
UID:gf9gk@games.golnetwork.com
LOCATION:CALC
GEO:43.6758748;-79.3603533
CREATED:20190919T163033Z
DTSTART:20191031T010000Z
DTEND:20191031T020000Z
DTSTAMP:20260421T005549Z
SUMMARY:Withrow Warriors vs. Spicy Baconators
DESCRIPTION:Spicy Baconators vs. Withrow WarriorsMore info: #24
X-ALT-DESC;FMTTYPE=text/html:<!DOCTYPE HTML PUBLIC "-//W3C//DTD HTML 3.2//E
	N">\n<HTML>\n<HEAD>\n<TITLE></TITLE>\n</HEAD>\n<BODY>\n<h3>Spicy Baconators
	 vs. Withrow Warriors</h3>More info: <a href="https://www.golnetwork.com/ga
	me/v/150130/">#24</a>\n\n</BODY>\n</HTML>
STATUS:CONFIRMED
CLASS:PUBLIC
URL:https://www.golnetwork.com/game/v/150130/
X-MICROSOFT-CDO-BUSYSTATUS:BUSY
X-MICROSOFT-CDO-IMPORTANCE:1
END:VEVENT
BEGIN:VEVENT
UID:gf9gc@games.golnetwork.com
LOCATION:CALC
GEO:43.6758748;-79.3603533
CREATED:20190919T162339Z
DTSTART:20191024T010000Z
DTEND:20191024T020000Z
DTSTAMP:20260421T005549Z
SUMMARY:Spicy Baconators vs. XTSC Mighty Ducks
DESCRIPTION:XTSC Mighty Ducks vs. Spicy BaconatorsMore info: #20
X-ALT-DESC;FMTTYPE=text/html:<!DOCTYPE HTML PUBLIC "-//W3C//DTD HTML 3.2//E
	N">\n<HTML>\n<HEAD>\n<TITLE></TITLE>\n</HEAD>\n<BODY>\n<h3>XTSC Mighty Duck
	s vs. Spicy Baconators</h3>More info: <a href="https://www.golnetwork.com/g
	ame/v/150126/">#20</a>\n\n</BODY>\n</HTML>
STATUS:CONFIRMED
CLASS:PUBLIC
URL:https://www.golnetwork.com/game/v/150126/
X-MICROSOFT-CDO-BUSYSTATUS:BUSY
X-MICROSOFT-CDO-IMPORTANCE:1
END:VEVENT
BEGIN:VEVENT
UID:gf9g0@games.golnetwork.com
LOCATION:CALC
GEO:43.6758748;-79.3603533
CREATED:20190919T162252Z
DTSTART:20191016T230000Z
DTEND:20191017T000000Z
DTSTAMP:20260421T005549Z
SUMMARY:Spicy Baconators vs. Fantastic Floors
DESCRIPTION:Fantastic Floors vs. Spicy BaconatorsMore info: #14
X-ALT-DESC;FMTTYPE=text/html:<!DOCTYPE HTML PUBLIC "-//W3C//DTD HTML 3.2//E
	N">\n<HTML>\n<HEAD>\n<TITLE></TITLE>\n</HEAD>\n<BODY>\n<h3>Fantastic Floors
	 vs. Spicy Baconators</h3>More info: <a href="https://www.golnetwork.com/ga
	me/v/150120/">#14</a>\n\n</BODY>\n</HTML>
STATUS:CONFIRMED
CLASS:PUBLIC
URL:https://www.golnetwork.com/game/v/150120/
X-MICROSOFT-CDO-BUSYSTATUS:BUSY
X-MICROSOFT-CDO-IMPORTANCE:1
END:VEVENT
BEGIN:VEVENT
UID:gf9fj@games.golnetwork.com
LOCATION:CALC
GEO:43.6758748;-79.3603533
CREATED:20190919T162214Z
DTSTART:20191009T230000Z
DTEND:20191010T000000Z
DTSTAMP:20260421T005549Z
SUMMARY:Spicy Baconators vs. Moves like Jagr
DESCRIPTION:Moves like Jagr vs. Spicy BaconatorsMore info: #10
X-ALT-DESC;FMTTYPE=text/html:<!DOCTYPE HTML PUBLIC "-//W3C//DTD HTML 3.2//E
	N">\n<HTML>\n<HEAD>\n<TITLE></TITLE>\n</HEAD>\n<BODY>\n<h3>Moves like Jagr 
	vs. Spicy Baconators</h3>More info: <a href="https://www.golnetwork.com/gam
	e/v/150116/">#10</a>\n\n</BODY>\n</HTML>
STATUS:CONFIRMED
CLASS:PUBLIC
URL:https://www.golnetwork.com/game/v/150116/
X-MICROSOFT-CDO-BUSYSTATUS:BUSY
X-MICROSOFT-CDO-IMPORTANCE:1
END:VEVENT
BEGIN:VEVENT
UID:gf9f9@games.golnetwork.com
LOCATION:CALC
GEO:43.6758748;-79.3603533
CREATED:20190919T162136Z
DTSTART:20191002T220000Z
DTEND:20191002T230000Z
DTSTAMP:20260421T005549Z
SUMMARY:Spicy Baconators vs. Stonecutters
DESCRIPTION:Stonecutters vs. Spicy BaconatorsMore info: #5
X-ALT-DESC;FMTTYPE=text/html:<!DOCTYPE HTML PUBLIC "-//W3C//DTD HTML 3.2//E
	N">\n<HTML>\n<HEAD>\n<TITLE></TITLE>\n</HEAD>\n<BODY>\n<h3>Stonecutters vs.
	 Spicy Baconators</h3>More info: <a href="https://www.golnetwork.com/game/v
	/150111/">#5</a>\n\n</BODY>\n</HTML>
STATUS:CONFIRMED
CLASS:PUBLIC
URL:https://www.golnetwork.com/game/v/150111/
X-MICROSOFT-CDO-BUSYSTATUS:BUSY
X-MICROSOFT-CDO-IMPORTANCE:1
END:VEVENT
BEGIN:VEVENT
UID:gf9f5@games.golnetwork.com
LOCATION:CALC
GEO:43.6758748;-79.3603533
CREATED:20190919T162116Z
DTSTART:20190926T000000Z
DTEND:20190926T010000Z
DTSTAMP:20260421T005549Z
SUMMARY:Spicy Baconators vs. Net\, Sticks and Chill
DESCRIPTION:Net\, Sticks and Chill vs. Spicy BaconatorsMore info: #3
X-ALT-DESC;FMTTYPE=text/html:<!DOCTYPE HTML PUBLIC "-//W3C//DTD HTML 3.2//E
	N">\n<HTML>\n<HEAD>\n<TITLE></TITLE>\n</HEAD>\n<BODY>\n<h3>Net\, Sticks and
	 Chill vs. Spicy Baconators</h3>More info: <a href="https://www.golnetwork.
	com/game/v/150109/">#3</a>\n\n</BODY>\n</HTML>
STATUS:CONFIRMED
CLASS:PUBLIC
URL:https://www.golnetwork.com/game/v/150109/
X-MICROSOFT-CDO-BUSYSTATUS:BUSY
X-MICROSOFT-CDO-IMPORTANCE:1
END:VEVENT
END:VCALENDAR
