BEGIN:VCALENDAR
PRODID:-//gdesolutions.com//MV Framework 1.0.0.1607 Calendar//EN
VERSION:2.0
METHOD:PUBLISH
CALSCALE:GREGORIAN
BEGIN:VEVENT
UID:g5pki@games.golnetwork.com
LOCATION:Fieldhouse A
GEO:45.10662;-94.578209
CREATED:20140923T134445Z
DTSTART:20141120T233000Z
DTEND:20141121T003000Z
DTSTAMP:20260422T002334Z
SUMMARY:That's What She Set (CRA) vs. Action Potential
DESCRIPTION:Action Potential vs. That's What She Set (CRA)More info: #1
X-ALT-DESC;FMTTYPE=text/html:<!DOCTYPE HTML PUBLIC "-//W3C//DTD HTML 3.2//E
	N">\n<HTML>\n<HEAD>\n<TITLE></TITLE>\n</HEAD>\n<BODY>\n<h3>Action Potential
	 vs. That's What She Set (CRA)</h3>More info: <a href="https://www.golnetwo
	rk.com/game/v/57600/">#1</a>\n\n</BODY>\n</HTML>
STATUS:CONFIRMED
CLASS:PUBLIC
URL:https://www.golnetwork.com/game/v/57600/
X-MICROSOFT-CDO-BUSYSTATUS:BUSY
X-MICROSOFT-CDO-IMPORTANCE:1
END:VEVENT
BEGIN:VEVENT
UID:g5pim@games.golnetwork.com
LOCATION:Fieldhouse A
GEO:45.10662;-94.578209
CREATED:20140923T134444Z
DTSTART:20141107T013000Z
DTEND:20141107T023000Z
DTSTAMP:20260422T002334Z
SUMMARY:Smashmallows vs. That's What She Set (CRA)
DESCRIPTION:That's What She Set (CRA) vs. SmashmallowsMore info: #161
X-ALT-DESC;FMTTYPE=text/html:<!DOCTYPE HTML PUBLIC "-//W3C//DTD HTML 3.2//E
	N">\n<HTML>\n<HEAD>\n<TITLE></TITLE>\n</HEAD>\n<BODY>\n<h3>That's What She 
	Set (CRA) vs. Smashmallows</h3>More info: <a href="https://www.golnetwork.c
	om/game/v/57575/">#161</a>\n\n</BODY>\n</HTML>
STATUS:CONFIRMED
CLASS:PUBLIC
URL:https://www.golnetwork.com/game/v/57575/
X-MICROSOFT-CDO-BUSYSTATUS:BUSY
X-MICROSOFT-CDO-IMPORTANCE:1
END:VEVENT
BEGIN:VEVENT
UID:g5pgq@games.golnetwork.com
LOCATION:Fieldhouse A
GEO:45.10662;-94.578209
CREATED:20140923T134443Z
DTSTART:20141028T003000Z
DTEND:20141028T013000Z
DTSTAMP:20260422T002334Z
SUMMARY:That's What She Set (CRA) vs. Sons of Beaches
DESCRIPTION:Sons of Beaches vs. That's What She Set (CRA)More info: #135
X-ALT-DESC;FMTTYPE=text/html:<!DOCTYPE HTML PUBLIC "-//W3C//DTD HTML 3.2//E
	N">\n<HTML>\n<HEAD>\n<TITLE></TITLE>\n</HEAD>\n<BODY>\n<h3>Sons of Beaches 
	vs. That's What She Set (CRA)</h3>More info: <a href="https://www.golnetwor
	k.com/game/v/57550/">#135</a>\n\n</BODY>\n</HTML>
STATUS:CONFIRMED
CLASS:PUBLIC
URL:https://www.golnetwork.com/game/v/57550/
X-MICROSOFT-CDO-BUSYSTATUS:BUSY
X-MICROSOFT-CDO-IMPORTANCE:1
END:VEVENT
BEGIN:VEVENT
UID:g5pe8@games.golnetwork.com
LOCATION:Fieldhouse A
GEO:45.10662;-94.578209
CREATED:20140923T134442Z
DTSTART:20141017T013000Z
DTEND:20141017T023000Z
DTSTAMP:20260422T002334Z
SUMMARY:Set On My Face vs. That's What She Set (CRA)
DESCRIPTION:That's What She Set (CRA) vs. Set On My FaceMore info: #98
X-ALT-DESC;FMTTYPE=text/html:<!DOCTYPE HTML PUBLIC "-//W3C//DTD HTML 3.2//E
	N">\n<HTML>\n<HEAD>\n<TITLE></TITLE>\n</HEAD>\n<BODY>\n<h3>That's What She 
	Set (CRA) vs. Set On My Face</h3>More info: <a href="https://www.golnetwork
	.com/game/v/57514/">#98</a>\n\n</BODY>\n</HTML>
STATUS:CONFIRMED
CLASS:PUBLIC
URL:https://www.golnetwork.com/game/v/57514/
X-MICROSOFT-CDO-BUSYSTATUS:BUSY
X-MICROSOFT-CDO-IMPORTANCE:1
END:VEVENT
BEGIN:VEVENT
UID:g5pac@games.golnetwork.com
LOCATION:Fieldhouse C
GEO:45.10662;-94.578209
CREATED:20140923T134440Z
DTSTART:20141001T233000Z
DTEND:20141002T003000Z
DTSTAMP:20260422T002334Z
SUMMARY:That's What She Set (CRA) vs. Skinny Tipping
DESCRIPTION:Skinny Tipping vs. That's What She Set (CRA)More info: #43
X-ALT-DESC;FMTTYPE=text/html:<!DOCTYPE HTML PUBLIC "-//W3C//DTD HTML 3.2//E
	N">\n<HTML>\n<HEAD>\n<TITLE></TITLE>\n</HEAD>\n<BODY>\n<h3>Skinny Tipping v
	s. That's What She Set (CRA)</h3>More info: <a href="https://www.golnetwork
	.com/game/v/57462/">#43</a>\n\n</BODY>\n</HTML>
STATUS:CONFIRMED
CLASS:PUBLIC
URL:https://www.golnetwork.com/game/v/57462/
X-MICROSOFT-CDO-BUSYSTATUS:BUSY
X-MICROSOFT-CDO-IMPORTANCE:1
END:VEVENT
END:VCALENDAR
