BEGIN:VCALENDAR
PRODID:-//gdesolutions.com//MV Framework 1.0.0.1607 Calendar//EN
VERSION:2.0
METHOD:PUBLISH
CALSCALE:GREGORIAN
BEGIN:VEVENT
UID:g860i@games.golnetwork.com
LOCATION:Lamport Stadium - Field 1
GEO:43.6390028;-79.4232104
CREATED:20151029T193452Z
DTSTART:20160123T180000Z
DTEND:20160123T190000Z
DTSTAMP:20260421T102433Z
SUMMARY:Mustard Tigers vs. Ball SO Hard
DESCRIPTION:Ball SO Hard vs. Mustard TigersMore info: #641
X-ALT-DESC;FMTTYPE=text/html:<!DOCTYPE HTML PUBLIC "-//W3C//DTD HTML 3.2//E
	N">\n<HTML>\n<HEAD>\n<TITLE></TITLE>\n</HEAD>\n<BODY>\n<h3>Ball SO Hard vs.
	 Mustard Tigers</h3>More info: <a href="https://www.golnetwork.com/game/v/7
	9929/">#641</a>\n\n</BODY>\n</HTML>
STATUS:CONFIRMED
CLASS:PUBLIC
URL:https://www.golnetwork.com/game/v/79929/
X-MICROSOFT-CDO-BUSYSTATUS:BUSY
X-MICROSOFT-CDO-IMPORTANCE:1
END:VEVENT
BEGIN:VEVENT
UID:g8606@games.golnetwork.com
LOCATION:Lamport Stadium - Field 1
GEO:43.6390028;-79.4232104
CREATED:20151029T193452Z
DTSTART:20160109T200000Z
DTEND:20160109T210000Z
DTSTAMP:20260421T102433Z
SUMMARY:The Cherry Beach Express vs. Mustard Tigers
DESCRIPTION:Mustard Tigers vs. The Cherry Beach ExpressMore info: #584
X-ALT-DESC;FMTTYPE=text/html:<!DOCTYPE HTML PUBLIC "-//W3C//DTD HTML 3.2//E
	N">\n<HTML>\n<HEAD>\n<TITLE></TITLE>\n</HEAD>\n<BODY>\n<h3>Mustard Tigers v
	s. The Cherry Beach Express</h3>More info: <a href="https://www.golnetwork.
	com/game/v/79923/">#584</a>\n\n</BODY>\n</HTML>
STATUS:CONFIRMED
CLASS:PUBLIC
URL:https://www.golnetwork.com/game/v/79923/
X-MICROSOFT-CDO-BUSYSTATUS:BUSY
X-MICROSOFT-CDO-IMPORTANCE:1
END:VEVENT
BEGIN:VEVENT
UID:g8602@games.golnetwork.com
LOCATION:Lamport Stadium - Field 1
GEO:43.6390028;-79.4232104
CREATED:20151029T193452Z
DTSTART:20160102T200000Z
DTEND:20160102T210000Z
DTSTAMP:20260421T102433Z
SUMMARY:MilkWasABadChoice vs. Mustard Tigers
DESCRIPTION:Mustard Tigers vs. MilkWasABadChoiceMore info: #554
X-ALT-DESC;FMTTYPE=text/html:<!DOCTYPE HTML PUBLIC "-//W3C//DTD HTML 3.2//E
	N">\n<HTML>\n<HEAD>\n<TITLE></TITLE>\n</HEAD>\n<BODY>\n<h3>Mustard Tigers v
	s. MilkWasABadChoice</h3>More info: <a href="https://www.golnetwork.com/gam
	e/v/79921/">#554</a>\n\n</BODY>\n</HTML>
STATUS:CONFIRMED
CLASS:PUBLIC
URL:https://www.golnetwork.com/game/v/79921/
X-MICROSOFT-CDO-BUSYSTATUS:BUSY
X-MICROSOFT-CDO-IMPORTANCE:1
END:VEVENT
BEGIN:VEVENT
UID:g85qj@games.golnetwork.com
LOCATION:Lamport Stadium - Field 1
GEO:43.6390028;-79.4232104
CREATED:20151029T193452Z
DTSTART:20151219T180000Z
DTEND:20151219T190000Z
DTSTAMP:20260421T102433Z
SUMMARY:Ball SO Hard vs. Mustard Tigers
DESCRIPTION:Mustard Tigers vs. Ball SO HardMore info: #527
X-ALT-DESC;FMTTYPE=text/html:<!DOCTYPE HTML PUBLIC "-//W3C//DTD HTML 3.2//E
	N">\n<HTML>\n<HEAD>\n<TITLE></TITLE>\n</HEAD>\n<BODY>\n<h3>Mustard Tigers v
	s. Ball SO Hard</h3>More info: <a href="https://www.golnetwork.com/game/v/7
	9916/">#527</a>\n\n</BODY>\n</HTML>
STATUS:CONFIRMED
CLASS:PUBLIC
URL:https://www.golnetwork.com/game/v/79916/
X-MICROSOFT-CDO-BUSYSTATUS:BUSY
X-MICROSOFT-CDO-IMPORTANCE:1
END:VEVENT
BEGIN:VEVENT
UID:g85q9@games.golnetwork.com
LOCATION:Lamport Stadium - Field 1
GEO:43.6390028;-79.4232104
CREATED:20151029T193452Z
DTSTART:20151212T200000Z
DTEND:20151212T210000Z
DTSTAMP:20260421T102433Z
SUMMARY:The Cherry Beach Express vs. Mustard Tigers
DESCRIPTION:Mustard Tigers vs. The Cherry Beach ExpressMore info: #480
X-ALT-DESC;FMTTYPE=text/html:<!DOCTYPE HTML PUBLIC "-//W3C//DTD HTML 3.2//E
	N">\n<HTML>\n<HEAD>\n<TITLE></TITLE>\n</HEAD>\n<BODY>\n<h3>Mustard Tigers v
	s. The Cherry Beach Express</h3>More info: <a href="https://www.golnetwork.
	com/game/v/79911/">#480</a>\n\n</BODY>\n</HTML>
STATUS:CONFIRMED
CLASS:PUBLIC
URL:https://www.golnetwork.com/game/v/79911/
X-MICROSOFT-CDO-BUSYSTATUS:BUSY
X-MICROSOFT-CDO-IMPORTANCE:1
END:VEVENT
BEGIN:VEVENT
UID:g85q3@games.golnetwork.com
LOCATION:Lamport Stadium - Field 1
GEO:43.6390028;-79.4232104
CREATED:20151029T193452Z
DTSTART:20151205T180000Z
DTEND:20151205T190000Z
DTSTAMP:20260421T102433Z
SUMMARY:Mustard Tigers vs.  Chimpin' Ain't Easy
DESCRIPTION: Chimpin' Ain't Easy vs. Mustard TigersMore info: #421
X-ALT-DESC;FMTTYPE=text/html:<!DOCTYPE HTML PUBLIC "-//W3C//DTD HTML 3.2//E
	N">\n<HTML>\n<HEAD>\n<TITLE></TITLE>\n</HEAD>\n<BODY>\n<h3> Chimpin' Ain't 
	Easy vs. Mustard Tigers</h3>More info: <a href="https://www.golnetwork.com/
	game/v/79908/">#421</a>\n\n</BODY>\n</HTML>
STATUS:CONFIRMED
CLASS:PUBLIC
URL:https://www.golnetwork.com/game/v/79908/
X-MICROSOFT-CDO-BUSYSTATUS:BUSY
X-MICROSOFT-CDO-IMPORTANCE:1
END:VEVENT
BEGIN:VEVENT
UID:g85po@games.golnetwork.com
LOCATION:Lamport Stadium - Field 1
GEO:43.6390028;-79.4232104
CREATED:20151029T193452Z
DTSTART:20151128T210000Z
DTEND:20151128T220000Z
DTSTAMP:20260421T102433Z
SUMMARY:Mustard Tigers vs. Truncated Icosahedrons
DESCRIPTION:Truncated Icosahedrons vs. Mustard TigersMore info: #377
X-ALT-DESC;FMTTYPE=text/html:<!DOCTYPE HTML PUBLIC "-//W3C//DTD HTML 3.2//E
	N">\n<HTML>\n<HEAD>\n<TITLE></TITLE>\n</HEAD>\n<BODY>\n<h3>Truncated Icosah
	edrons vs. Mustard Tigers</h3>More info: <a href="https://www.golnetwork.co
	m/game/v/79905/">#377</a>\n\n</BODY>\n</HTML>
STATUS:CONFIRMED
CLASS:PUBLIC
URL:https://www.golnetwork.com/game/v/79905/
X-MICROSOFT-CDO-BUSYSTATUS:BUSY
X-MICROSOFT-CDO-IMPORTANCE:1
END:VEVENT
BEGIN:VEVENT
UID:g85pi@games.golnetwork.com
LOCATION:Lamport Stadium - Field 1
GEO:43.6390028;-79.4232104
CREATED:20151029T193452Z
DTSTART:20151121T190000Z
DTEND:20151121T200000Z
DTSTAMP:20260421T102433Z
SUMMARY:Mustard Tigers vs. Sporting Chance II
DESCRIPTION:Sporting Chance II vs. Mustard TigersMore info: #318
X-ALT-DESC;FMTTYPE=text/html:<!DOCTYPE HTML PUBLIC "-//W3C//DTD HTML 3.2//E
	N">\n<HTML>\n<HEAD>\n<TITLE></TITLE>\n</HEAD>\n<BODY>\n<h3>Sporting Chance 
	II vs. Mustard Tigers</h3>More info: <a href="https://www.golnetwork.com/ga
	me/v/79902/">#318</a>\n\n</BODY>\n</HTML>
STATUS:CONFIRMED
CLASS:PUBLIC
URL:https://www.golnetwork.com/game/v/79902/
X-MICROSOFT-CDO-BUSYSTATUS:BUSY
X-MICROSOFT-CDO-IMPORTANCE:1
END:VEVENT
BEGIN:VEVENT
UID:g85pa@games.golnetwork.com
LOCATION:Lamport Stadium - Field 1
GEO:43.6390028;-79.4232104
CREATED:20151029T193452Z
DTSTART:20151114T210000Z
DTEND:20151114T220000Z
DTSTAMP:20260421T102433Z
SUMMARY:XTSC Titans vs. Mustard Tigers
DESCRIPTION:Mustard Tigers vs. XTSC TitansMore info: #260
X-ALT-DESC;FMTTYPE=text/html:<!DOCTYPE HTML PUBLIC "-//W3C//DTD HTML 3.2//E
	N">\n<HTML>\n<HEAD>\n<TITLE></TITLE>\n</HEAD>\n<BODY>\n<h3>Mustard Tigers v
	s. XTSC Titans</h3>More info: <a href="https://www.golnetwork.com/game/v/79
	898/">#260</a>\n\n</BODY>\n</HTML>
STATUS:CONFIRMED
CLASS:PUBLIC
URL:https://www.golnetwork.com/game/v/79898/
X-MICROSOFT-CDO-BUSYSTATUS:BUSY
X-MICROSOFT-CDO-IMPORTANCE:1
END:VEVENT
END:VCALENDAR
