BEGIN:VCALENDAR
PRODID:-//gdesolutions.com//MV Framework 1.0.0.1607 Calendar//EN
VERSION:2.0
METHOD:PUBLISH
CALSCALE:GREGORIAN
BEGIN:VEVENT
UID:g4k13@games.golnetwork.com
LOCATION:Lamport Stadium - Field 3
GEO:43.6390028;-79.4232104
CREATED:20140131T150304Z
DTSTART:20140412T020000Z
DTEND:20140412T030000Z
DTSTAMP:20260422T223359Z
SUMMARY:Team FC vs. Rent-A-Party
DESCRIPTION:Rent-A-Party vs. Team FCMore info: #369
X-ALT-DESC;FMTTYPE=text/html:<!DOCTYPE HTML PUBLIC "-//W3C//DTD HTML 3.2//E
	N">\n<HTML>\n<HEAD>\n<TITLE></TITLE>\n</HEAD>\n<BODY>\n<h3>Rent-A-Party vs.
	 Team FC</h3>More info: <a href="https://www.golnetwork.com/game/v/45672/">
	#369</a>\n\n</BODY>\n</HTML>
STATUS:CONFIRMED
CLASS:PUBLIC
URL:https://www.golnetwork.com/game/v/45672/
X-MICROSOFT-CDO-BUSYSTATUS:BUSY
X-MICROSOFT-CDO-IMPORTANCE:1
END:VEVENT
BEGIN:VEVENT
UID:g4k0m@games.golnetwork.com
LOCATION:Lamport Stadium - Field 3
GEO:43.6390028;-79.4232104
CREATED:20140131T150304Z
DTSTART:20140405T020000Z
DTEND:20140405T030000Z
DTSTAMP:20260422T223359Z
SUMMARY:Nice pASS vs. Team FC
DESCRIPTION:Team FC vs. Nice pASSMore info: #339
X-ALT-DESC;FMTTYPE=text/html:<!DOCTYPE HTML PUBLIC "-//W3C//DTD HTML 3.2//E
	N">\n<HTML>\n<HEAD>\n<TITLE></TITLE>\n</HEAD>\n<BODY>\n<h3>Team FC vs. Nice
	 pASS</h3>More info: <a href="https://www.golnetwork.com/game/v/45668/">#33
	9</a>\n\n</BODY>\n</HTML>
STATUS:CONFIRMED
CLASS:PUBLIC
URL:https://www.golnetwork.com/game/v/45668/
X-MICROSOFT-CDO-BUSYSTATUS:BUSY
X-MICROSOFT-CDO-IMPORTANCE:1
END:VEVENT
BEGIN:VEVENT
UID:g4k0e@games.golnetwork.com
LOCATION:Lamport Stadium - Field 3
GEO:43.6390028;-79.4232104
CREATED:20140131T150304Z
DTSTART:20140329T020000Z
DTEND:20140329T030000Z
DTSTAMP:20260422T223359Z
SUMMARY:Rent-A-Party vs. Team FC
DESCRIPTION:Team FC vs. Rent-A-PartyMore info: #309
X-ALT-DESC;FMTTYPE=text/html:<!DOCTYPE HTML PUBLIC "-//W3C//DTD HTML 3.2//E
	N">\n<HTML>\n<HEAD>\n<TITLE></TITLE>\n</HEAD>\n<BODY>\n<h3>Team FC vs. Rent
	-A-Party</h3>More info: <a href="https://www.golnetwork.com/game/v/45664/">
	#309</a>\n\n</BODY>\n</HTML>
STATUS:CONFIRMED
CLASS:PUBLIC
URL:https://www.golnetwork.com/game/v/45664/
X-MICROSOFT-CDO-BUSYSTATUS:BUSY
X-MICROSOFT-CDO-IMPORTANCE:1
END:VEVENT
BEGIN:VEVENT
UID:g4k02@games.golnetwork.com
LOCATION:Lamport Stadium - Field 3
GEO:43.6390028;-79.4232104
CREATED:20140131T150304Z
DTSTART:20140322T000000Z
DTEND:20140322T010000Z
DTSTAMP:20260422T223359Z
SUMMARY:Team FC vs. SAS
DESCRIPTION:SAS vs. Team FCMore info: #273
X-ALT-DESC;FMTTYPE=text/html:<!DOCTYPE HTML PUBLIC "-//W3C//DTD HTML 3.2//E
	N">\n<HTML>\n<HEAD>\n<TITLE></TITLE>\n</HEAD>\n<BODY>\n<h3>SAS vs. Team FC<
	/h3>More info: <a href="https://www.golnetwork.com/game/v/45658/">#273</a>\
	n\n</BODY>\n</HTML>
STATUS:CONFIRMED
CLASS:PUBLIC
URL:https://www.golnetwork.com/game/v/45658/
X-MICROSOFT-CDO-BUSYSTATUS:BUSY
X-MICROSOFT-CDO-IMPORTANCE:1
END:VEVENT
BEGIN:VEVENT
UID:g4jqp@games.golnetwork.com
LOCATION:Lamport Stadium - Field 3
GEO:43.6390028;-79.4232104
CREATED:20140131T150304Z
DTSTART:20140315T020000Z
DTEND:20140315T030000Z
DTSTAMP:20260422T223359Z
SUMMARY:Team FC vs. Cornuttos FC
DESCRIPTION:Cornuttos FC vs. Team FCMore info: #249
X-ALT-DESC;FMTTYPE=text/html:<!DOCTYPE HTML PUBLIC "-//W3C//DTD HTML 3.2//E
	N">\n<HTML>\n<HEAD>\n<TITLE></TITLE>\n</HEAD>\n<BODY>\n<h3>Cornuttos FC vs.
	 Team FC</h3>More info: <a href="https://www.golnetwork.com/game/v/45656/">
	#249</a>\n\n</BODY>\n</HTML>
STATUS:CONFIRMED
CLASS:PUBLIC
URL:https://www.golnetwork.com/game/v/45656/
X-MICROSOFT-CDO-BUSYSTATUS:BUSY
X-MICROSOFT-CDO-IMPORTANCE:1
END:VEVENT
BEGIN:VEVENT
UID:g4jqf@games.golnetwork.com
LOCATION:Lamport Stadium - Field 3
GEO:43.6390028;-79.4232104
CREATED:20140131T150304Z
DTSTART:20140308T020000Z
DTEND:20140308T030000Z
DTSTAMP:20260422T223359Z
SUMMARY:Shooters vs. Team FC
DESCRIPTION:Team FC vs. ShootersMore info: #216
X-ALT-DESC;FMTTYPE=text/html:<!DOCTYPE HTML PUBLIC "-//W3C//DTD HTML 3.2//E
	N">\n<HTML>\n<HEAD>\n<TITLE></TITLE>\n</HEAD>\n<BODY>\n<h3>Team FC vs. Shoo
	ters</h3>More info: <a href="https://www.golnetwork.com/game/v/45651/">#216
	</a>\n\n</BODY>\n</HTML>
STATUS:CONFIRMED
CLASS:PUBLIC
URL:https://www.golnetwork.com/game/v/45651/
X-MICROSOFT-CDO-BUSYSTATUS:BUSY
X-MICROSOFT-CDO-IMPORTANCE:1
END:VEVENT
BEGIN:VEVENT
UID:g4jq7@games.golnetwork.com
LOCATION:Lamport Stadium - Field 3
GEO:43.6390028;-79.4232104
CREATED:20140131T150304Z
DTSTART:20140301T020000Z
DTEND:20140301T030000Z
DTSTAMP:20260422T223359Z
SUMMARY:XTSC Penalty Box Heroes vs. Team FC
DESCRIPTION:Team FC vs. XTSC Penalty Box HeroesMore info: #186
X-ALT-DESC;FMTTYPE=text/html:<!DOCTYPE HTML PUBLIC "-//W3C//DTD HTML 3.2//E
	N">\n<HTML>\n<HEAD>\n<TITLE></TITLE>\n</HEAD>\n<BODY>\n<h3>Team FC vs. XTSC
	 Penalty Box Heroes</h3>More info: <a href="https://www.golnetwork.com/game
	/v/45647/">#186</a>\n\n</BODY>\n</HTML>
STATUS:CONFIRMED
CLASS:PUBLIC
URL:https://www.golnetwork.com/game/v/45647/
X-MICROSOFT-CDO-BUSYSTATUS:BUSY
X-MICROSOFT-CDO-IMPORTANCE:1
END:VEVENT
BEGIN:VEVENT
UID:g4jq1@games.golnetwork.com
LOCATION:Lamport Stadium - Field 3
GEO:43.6390028;-79.4232104
CREATED:20140131T150304Z
DTSTART:20140222T030000Z
DTEND:20140222T040000Z
DTSTAMP:20260422T223359Z
SUMMARY:Team FC vs. Rent-A-Party
DESCRIPTION:Rent-A-Party vs. Team FCMore info: #150
X-ALT-DESC;FMTTYPE=text/html:<!DOCTYPE HTML PUBLIC "-//W3C//DTD HTML 3.2//E
	N">\n<HTML>\n<HEAD>\n<TITLE></TITLE>\n</HEAD>\n<BODY>\n<h3>Rent-A-Party vs.
	 Team FC</h3>More info: <a href="https://www.golnetwork.com/game/v/45644/">
	#150</a>\n\n</BODY>\n</HTML>
STATUS:CONFIRMED
CLASS:PUBLIC
URL:https://www.golnetwork.com/game/v/45644/
X-MICROSOFT-CDO-BUSYSTATUS:BUSY
X-MICROSOFT-CDO-IMPORTANCE:1
END:VEVENT
BEGIN:VEVENT
UID:g4jpg@games.golnetwork.com
LOCATION:Lamport Stadium - Field 3
GEO:43.6390028;-79.4232104
CREATED:20140131T150304Z
DTSTART:20140208T010000Z
DTEND:20140208T020000Z
DTSTAMP:20260422T223359Z
SUMMARY:Team FC vs. Tree FC
DESCRIPTION:Tree FC vs. Team FCMore info: #85
X-ALT-DESC;FMTTYPE=text/html:<!DOCTYPE HTML PUBLIC "-//W3C//DTD HTML 3.2//E
	N">\n<HTML>\n<HEAD>\n<TITLE></TITLE>\n</HEAD>\n<BODY>\n<h3>Tree FC vs. Team
	 FC</h3>More info: <a href="https://www.golnetwork.com/game/v/45638/">#85</
	a>\n\n</BODY>\n</HTML>
STATUS:CONFIRMED
CLASS:PUBLIC
URL:https://www.golnetwork.com/game/v/45638/
X-MICROSOFT-CDO-BUSYSTATUS:BUSY
X-MICROSOFT-CDO-IMPORTANCE:1
END:VEVENT
BEGIN:VEVENT
UID:g4jpe@games.golnetwork.com
LOCATION:Lamport Stadium - Field 3
GEO:43.6390028;-79.4232104
CREATED:20140131T150304Z
DTSTART:20140201T040000Z
DTEND:20140201T050000Z
DTSTAMP:20260422T223359Z
SUMMARY:Team FC vs. Nice pASS
DESCRIPTION:Nice pASS vs. Team FCMore info: #53
X-ALT-DESC;FMTTYPE=text/html:<!DOCTYPE HTML PUBLIC "-//W3C//DTD HTML 3.2//E
	N">\n<HTML>\n<HEAD>\n<TITLE></TITLE>\n</HEAD>\n<BODY>\n<h3>Nice pASS vs. Te
	am FC</h3>More info: <a href="https://www.golnetwork.com/game/v/45637/">#53
	</a>\n\n</BODY>\n</HTML>
STATUS:CONFIRMED
CLASS:PUBLIC
URL:https://www.golnetwork.com/game/v/45637/
X-MICROSOFT-CDO-BUSYSTATUS:BUSY
X-MICROSOFT-CDO-IMPORTANCE:1
END:VEVENT
END:VCALENDAR
